Workbook
Name SegmentaciónDeDatos_Comuna: #N/A

Sheet Datos
A1: Comuna | B1: Meta | C1: Cumplimiento | F1: Comuna | G1: Canela
A2: La Serena | B2: Recuperación del Desarrollo Psicomotor | C2: 0.99
A3: Coquimbo | B3: Recuperación del Desarrollo Psicomotor | C3: 1 | F3: Etiquetas de fila | G3: Suma de Cumplimiento
A4: La Higuera | B4: Recuperación del Desarrollo Psicomotor | C4: 0 | F4: Cobertura de Lactancia Materna Exclusiva | G4: 1 | H4: =1-GETPIVOTDATA("Cumplimiento",$F$3,"Meta","Cobertura de Lactancia Materna Exclusiva") -> 0
A5: Paihuano | B5: Recuperación del Desarrollo Psicomotor | C5: 1 | F5: Cobertura Efectiva de DM2 | G5: 1 | H5: =1-GETPIVOTDATA("Cumplimiento",$F$3,"Meta","Cobertura Efectiva de DM2") -> 0
A6: Vicuña | B6: Recuperación del Desarrollo Psicomotor | C6: 1 | F6: Cobertura Efectiva de TTO HTA | G6: 1 | H6: =1-GETPIVOTDATA("Cumplimiento",$F$3,"Meta","Cobertura Efectiva de TTO HTA") -> 0
A7: Illapel | B7: Recuperación del Desarrollo Psicomotor | C7: 1 | F7: Cobertura Odontológica Adolescentes | G7: 1 | H7: =1-GETPIVOTDATA("Cumplimiento",$F$3,"Meta","Cobertura Odontológica Adolescentes") -> 0
A8: Canela | B8: Recuperación del Desarrollo Psicomotor | C8: 1 | F8: Cobertura Odontológica Embarazada | G8: 0.99 | H8: =1-GETPIVOTDATA("Cumplimiento",$F$3,"Meta","Cobertura Odontológica Embarazada") -> 0.01
A9: Los Vilos | B9: Recuperación del Desarrollo Psicomotor | C9: 1 | F9: Cobertura Odontológica Niños | G9: 1 | H9: =1-GETPIVOTDATA("Cumplimiento",$F$3,"Meta","Cobertura Odontológica Niños") -> 0
A10: Salamanca | B10: Recuperación del Desarrollo Psicomotor | C10: 1 | F10: Detección Precoz CACU | G10: 1 | H10: =1-GETPIVOTDATA("Cumplimiento",$F$3,"Meta","Detección Precoz CACU") -> 0
A11: Ovalle | B11: Recuperación del Desarrollo Psicomotor | C11: 1 | F11: Evaluación Anual de los Pies en Personas con DM | G11: 0.99 | H11: =1-GETPIVOTDATA("Cumplimiento",$F$3,"Meta","Evaluación Anual de los Pies en Personas con DM") -> 0.01
A12: Combarbalá | B12: Recuperación del Desarrollo Psicomotor | C12: 1 | F12: Recuperación del Desarrollo Psicomotor | G12: 1 | H12: =1-GETPIVOTDATA("Cumplimiento",$F$3,"Meta","Recuperación del Desarrollo Psicomotor") -> 0
A13: Monte Patria | B13: Recuperación del Desarrollo Psicomotor | C13: 1 | F13: Total general | G13: 8.98
A14: Punitaqui | B14: Recuperación del Desarrollo Psicomotor | C14: 1
A15: Río Hurtado | B15: Recuperación del Desarrollo Psicomotor | C15: 1
A16: La Serena | B16: Detección Precoz CACU | C16: 1
A17: Coquimbo | B17: Detección Precoz CACU | C17: 1
A18: La Higuera | B18: Detección Precoz CACU | C18: 1
A19: Paihuano | B19: Detección Precoz CACU | C19: 1
A20: Vicuña | B20: Detección Precoz CACU | C20: 1
A21: Illapel | B21: Detección Precoz CACU | C21: 1
A22: Canela | B22: Detección Precoz CACU | C22: 1
A23: Los Vilos | B23: Detección Precoz CACU | C23: 1
A24: Salamanca | B24: Detección Precoz CACU | C24: 1
A25: Ovalle | B25: Detección Precoz CACU | C25: 1
... A127: Río Hurtado | B127: Cobertura de Lactancia Materna Exclusiva | C127: 1

Sheet Resumen
A1: MINISTERIO DE SALUD
A2: SERVICIO DE SALUD COQUIMBO
A3: DEPARTAMENTO DE GESTIÓN, PLANIFICACIÓN Y CONTROL
A4: SUBDEPTO. DE ESTADÍSTICAS Y GESTIÓN DE LA INFORMACIÓN
A5: AÑO 2018

Sheet Meta 01
A1: COMUNA | B1: ESTABLECIMIENTO | C1: CUMPLIMIENTO | D1: Indicador | E1: META 1: RECUPERACIÓN DEL DESARROLLO PSICOMOTOR
E2: NUMERADOR | R2: DENOMINADOR
E10: Nº de Niños y Niñas de 12-23 meses con riesgo del desarrollo psicomotor recuperados | R10: Nº de Niños y Niñas de 12-23 meses diagnosticados con riesgo del desarrollo psicomotor en su primera evaluación
D11: Resultado | E11: ENERO | F11: FEBRERO | G11: MARZO | H11: ABRIL | I11: MAYO | J11: JUNIO | K11: JULIO | L11: AGOSTO | M11: SEPBRE | N11: OCTUBRE | O11: NOVBRE | P11: DICBRE | Q11: TOTAL | R11: ENERO | S11: FEBRERO | T11: MARZO | U11: ABRIL | V11: MAYO | W11: JUNIO | X11: JULIO | Y11: AGOSTO | Z11: SEPBRE | AA11: OCTUBRE | AB11: NOVBRE | AC11: DICBRE | AD11: TOTAL
A12: 04101-LA SERENA | B12: 105300-CES. CARDENAL CARO | E12: =IFERROR(VLOOKUP($B12,[1]NUM1!$G$3:$T$99,2,FALSE),0) -> 2 | F12: =IFERROR(VLOOKUP($B12,[1]NUM1!$G$3:$T$99,3,FALSE),0) -> 0 | G12: =IFERROR(VLOOKUP($B12,[1]NUM1!$G$3:$T$99,4,FALSE),0) -> 3 | H12: =IFERROR(VLOOKUP($B12,[1]NUM1!$G$3:$T$99,5,FALSE),0) -> 1 | I12: =IFERROR(VLOOKUP($B12,[1]NUM1!$G$3:$T$99,6,FALSE),0) -> 2 | J12: =IFERROR(VLOOKUP($B12,[1]NUM1!$G$3:$T$99,7,FALSE),0) -> 1 | K12: =IFERROR(VLOOKUP($B12,[1]NUM1!$G$3:$T$99,8,FALSE),0) -> 0 | L12: =IFERROR(VLOOKUP($B12,[1]NUM1!$G$3:$T$99,9,FALSE),0) -> 4 | M12: =IFERROR(VLOOKUP($B12,[1]NUM1!$G$3:$T$99,10,FALSE),0) -> 1 | N12: =IFERROR(VLOOKUP($B12,[1]NUM1!$G$3:$T$99,11,FALSE),0) -> 2 | O12: =IFERROR(VLOOKUP($B12,[1]NUM1!$G$3:$T$99,12,FALSE),0) -> 0 | P12: =IFERROR(VLOOKUP($B12,[1]NUM1!$G$3:$T$99,13,FALSE),0) -> 7 | Q12: =SUM(E12:P12) -> 23 | R12: =IFERROR(VLOOKUP($B12,[1]DEN1!$G$3:$T$102,2,FALSE),0) -> 10 | S12: =IFERROR(VLOOKUP($B12,[1]DEN1!$G$3:$T$102,3,FALSE),0) -> 4 | T12: =IFERROR(VLOOKUP($B12,[1]DEN1!$G$3:$T$102,4,FALSE),0) -> 3 | U12: =IFERROR(VLOOKUP($B12,[1]DEN1!$G$3:$T$102,5,FALSE),0) -> 2 | V12: =IFERROR(VLOOKUP($B12,[1]DEN1!$G$3:$T$102,6,FALSE),0) -> 0 | W12: =IFERROR(VLOOKUP($B12,[1]DEN1!$G$3:$T$102,7,FALSE),0) -> 4 | X12: =IFERROR(VLOOKUP($B12,[1]DEN1!$G$3:$T$102,8,FALSE),0) -> 0 | Y12: =IFERROR(VLOOKUP($B12,[1]DEN1!$G$3:$T$102,9,FALSE),0) -> 1 | Z12: =IFERROR(VLOOKUP($B12,[1]DEN1!$G$3:$T$102,10,FALSE),0) -> 0 | AA12: =IFERROR(VLOOKUP($B12,[1]DEN1!$G$3:$T$102,11,FALSE),0) -> 0 | AB12: =IFERROR(VLOOKUP($B12,[1]DEN1!$G$3:$T$102,12,FALSE),0) -> 0 | AC12: =IFERROR(VLOOKUP($B12,[1]DEN1!$G$3:$T$102,13,FALSE),0) -> 0 | AD12: =SUM(R12:AC12) -> 24
A13: 04101-LA SERENA | B13: 105301-CES. LAS COMPAÑIAS | E13: =IFERROR(VLOOKUP($B13,[1]NUM1!$G$3:$T$99,2,FALSE),0) -> 0 | F13: =IFERROR(VLOOKUP($B13,[1]NUM1!$G$3:$T$99,3,FALSE),0) -> 0 | G13: =IFERROR(VLOOKUP($B13,[1]NUM1!$G$3:$T$99,4,FALSE),0) -> 3 | H13: =IFERROR(VLOOKUP($B13,[1]NUM1!$G$3:$T$99,5,FALSE),0) -> 3 | I13: =IFERROR(VLOOKUP($B13,[1]NUM1!$G$3:$T$99,6,FALSE),0) -> 6 | J13: =IFERROR(VLOOKUP($B13,[1]NUM1!$G$3:$T$99,7,FALSE),0) -> 1 | K13: =IFERROR(VLOOKUP($B13,[1]NUM1!$G$3:$T$99,8,FALSE),0) -> 2 | L13: =IFERROR(VLOOKUP($B13,[1]NUM1!$G$3:$T$99,9,FALSE),0) -> 1 | M13: =IFERROR(VLOOKUP($B13,[1]NUM1!$G$3:$T$99,10,FALSE),0) -> 1 | N13: =IFERROR(VLOOKUP($B13,[1]NUM1!$G$3:$T$99,11,FALSE),0) -> 1 | O13: =IFERROR(VLOOKUP($B13,[1]NUM1!$G$3:$T$99,12,FALSE),0) -> 0 | P13: =IFERROR(VLOOKUP($B13,[1]NUM1!$G$3:$T$99,13,FALSE),0) -> 0 | Q13: =SUM(E13:P13) -> 18 | R13: =IFERROR(VLOOKUP($B13,[1]DEN1!$G$3:$T$102,2,FALSE),0) -> 4 | S13: =IFERROR(VLOOKUP($B13,[1]DEN1!$G$3:$T$102,3,FALSE),0) -> 2 | T13: =IFERROR(VLOOKUP($B13,[1]DEN1!$G$3:$T$102,4,FALSE),0) -> 6 | U13: =IFERROR(VLOOKUP($B13,[1]DEN1!$G$3:$T$102,5,FALSE),0) -> 2 | V13: =IFERROR(VLOOKUP($B13,[1]DEN1!$G$3:$T$102,6,FALSE),0) -> 1 | W13: =IFERROR(VLOOKUP($B13,[1]DEN1!$G$3:$T$102,7,FALSE),0) -> 1 | X13: =IFERROR(VLOOKUP($B13,[1]DEN1!$G$3:$T$102,8,FALSE),0) -> 1 | Y13: =IFERROR(VLOOKUP($B13,[1]DEN1!$G$3:$T$102,9,FALSE),0) -> 2 | Z13: =IFERROR(VLOOKUP($B13,[1]DEN1!$G$3:$T$102,10,FALSE),0) -> 1 | AA13: =IFERROR(VLOOKUP($B13,[1]DEN1!$G$3:$T$102,11,FALSE),0) -> 0 | AB13: =IFERROR(VLOOKUP($B13,[1]DEN1!$G$3:$T$102,12,FALSE),0) -> 1 | AC13: =IFERROR(VLOOKUP($B13,[1]DEN1!$G$3:$T$102,13,FALSE),0) -> 0 | AD13: =SUM(R13:AC13) -> 21
A14: 04101-LA SERENA | B14: 105302-CES. PEDRO AGUIRRE C. | E14: =IFERROR(VLOOKUP($B14,[1]NUM1!$G$3:$T$99,2,FALSE),0) -> 1 | F14: =IFERROR(VLOOKUP($B14,[1]NUM1!$G$3:$T$99,3,FALSE),0) -> 1 | G14: =IFERROR(VLOOKUP($B14,[1]NUM1!$G$3:$T$99,4,FALSE),0) -> 2 | H14: =IFERROR(VLOOKUP($B14,[1]NUM1!$G$3:$T$99,5,FALSE),0) -> 0 | I14: =IFERROR(VLOOKUP($B14,[1]NUM1!$G$3:$T$99,6,FALSE),0) -> 2 | J14: =IFERROR(VLOOKUP($B14,[1]NUM1!$G$3:$T$99,7,FALSE),0) -> 0 | K14: =IFERROR(VLOOKUP($B14,[1]NUM1!$G$3:$T$99,8,FALSE),0) -> 2 | L14: =IFERROR(VLOOKUP($B14,[1]NUM1!$G$3:$T$99,9,FALSE),0) -> 0 | M14: =IFERROR(VLOOKUP($B14,[1]NUM1!$G$3:$T$99,10,FALSE),0) -> 0 | N14: =IFERROR(VLOOKUP($B14,[1]NUM1!$G$3:$T$99,11,FALSE),0) -> 1 | O14: =IFERROR(VLOOKUP($B14,[1]NUM1!$G$3:$T$99,12,FALSE),0) -> 1 | P14: =IFERROR(VLOOKUP($B14,[1]NUM1!$G$3:$T$99,13,FALSE),0) -> 1 | Q14: =SUM(E14:P14) -> 11 | R14: =IFERROR(VLOOKUP($B14,[1]DEN1!$G$3:$T$102,2,FALSE),0) -> 1 | S14: =IFERROR(VLOOKUP($B14,[1]DEN1!$G$3:$T$102,3,FALSE),0) -> 2 | T14: =IFERROR(VLOOKUP($B14,[1]DEN1!$G$3:$T$102,4,FALSE),0) -> 0 | U14: =IFERROR(VLOOKUP($B14,[1]DEN1!$G$3:$T$102,5,FALSE),0) -> 0 | V14: =IFERROR(VLOOKUP($B14,[1]DEN1!$G$3:$T$102,6,FALSE),0) -> 0 | W14: =IFERROR(VLOOKUP($B14,[1]DEN1!$G$3:$T$102,7,FALSE),0) -> 0 | X14: =IFERROR(VLOOKUP($B14,[1]DEN1!$G$3:$T$102,8,FALSE),0) -> 1 | Y14: =IFERROR(VLOOKUP($B14,[1]DEN1!$G$3:$T$102,9,FALSE),0) -> 5 | Z14: =IFERROR(VLOOKUP($B14,[1]DEN1!$G$3:$T$102,10,FALSE),0) -> 2 | AA14: =IFERROR(VLOOKUP($B14,[1]DEN1!$G$3:$T$102,11,FALSE),0) -> 0 | AB14: =IFERROR(VLOOKUP($B14,[1]DEN1!$G$3:$T$102,12,FALSE),0) -> 0 | AC14: =IFERROR(VLOOKUP($B14,[1]DEN1!$G$3:$T$102,13,FALSE),0) -> 1 | AD14: =SUM(R14:AC14) -> 12
A15: 04101-LA SERENA | B15: 105313-CES. SCHAFFHAUSER | E15: =IFERROR(VLOOKUP($B15,[1]NUM1!$G$3:$T$99,2,FALSE),0) -> 0 | F15: =IFERROR(VLOOKUP($B15,[1]NUM1!$G$3:$T$99,3,FALSE),0) -> 0 | G15: =IFERROR(VLOOKUP($B15,[1]NUM1!$G$3:$T$99,4,FALSE),0) -> 0 | H15: =IFERROR(VLOOKUP($B15,[1]NUM1!$G$3:$T$99,5,FALSE),0) -> 2 | I15: =IFERROR(VLOOKUP($B15,[1]NUM1!$G$3:$T$99,6,FALSE),0) -> 2 | J15: =IFERROR(VLOOKUP($B15,[1]NUM1!$G$3:$T$99,7,FALSE),0) -> 5 | K15: =IFERROR(VLOOKUP($B15,[1]NUM1!$G$3:$T$99,8,FALSE),0) -> 0 | L15: =IFERROR(VLOOKUP($B15,[1]NUM1!$G$3:$T$99,9,FALSE),0) -> 1 | M15: =IFERROR(VLOOKUP($B15,[1]NUM1!$G$3:$T$99,10,FALSE),0) -> 0 | N15: =IFERROR(VLOOKUP($B15,[1]NUM1!$G$3:$T$99,11,FALSE),0) -> 2 | O15: =IFERROR(VLOOKUP($B15,[1]NUM1!$G$3:$T$99,12,FALSE),0) -> 3 | P15: =IFERROR(VLOOKUP($B15,[1]NUM1!$G$3:$T$99,13,FALSE),0) -> 5 | Q15: =SUM(E15:P15) -> 20 | R15: =IFERROR(VLOOKUP($B15,[1]DEN1!$G$3:$T$102,2,FALSE),0) -> 8 | S15: =IFERROR(VLOOKUP($B15,[1]DEN1!$G$3:$T$102,3,FALSE),0) -> 0 | T15: =IFERROR(VLOOKUP($B15,[1]DEN1!$G$3:$T$102,4,FALSE),0) -> 3 | U15: =IFERROR(VLOOKUP($B15,[1]DEN1!$G$3:$T$102,5,FALSE),0) -> 0 | V15: =IFERROR(VLOOKUP($B15,[1]DEN1!$G$3:$T$102,6,FALSE),0) -> 0 | W15: =IFERROR(VLOOKUP($B15,[1]DEN1!$G$3:$T$102,7,FALSE),0) -> 3 | X15: =IFERROR(VLOOKUP($B15,[1]DEN1!$G$3:$T$102,8,FALSE),0) -> 1 | Y15: =IFERROR(VLOOKUP($B15,[1]DEN1!$G$3:$T$102,9,FALSE),0) -> 4 | Z15: =IFERROR(VLOOKUP($B15,[1]DEN1!$G$3:$T$102,10,FALSE),0) -> 0 | AA15: =IFERROR(VLOOKUP($B15,[1]DEN1!$G$3:$T$102,11,FALSE),0) -> 0 | AB15: =IFERROR(VLOOKUP($B15,[1]DEN1!$G$3:$T$102,12,FALSE),0) -> 0 | AC15: =IFERROR(VLOOKUP($B15,[1]DEN1!$G$3:$T$102,13,FALSE),0) -> 3 | AD15: =SUM(R15:AC15) -> 22
A16: 04101-LA SERENA | B16: 105319-CES. CARDENAL R.S.H. | E16: =IFERROR(VLOOKUP($B16,[1]NUM1!$G$3:$T$99,2,FALSE),0) -> 5 | F16: =IFERROR(VLOOKUP($B16,[1]NUM1!$G$3:$T$99,3,FALSE),0) -> 1 | G16: =IFERROR(VLOOKUP($B16,[1]NUM1!$G$3:$T$99,4,FALSE),0) -> 3 | H16: =IFERROR(VLOOKUP($B16,[1]NUM1!$G$3:$T$99,5,FALSE),0) -> 0 | I16: =IFERROR(VLOOKUP($B16,[1]NUM1!$G$3:$T$99,6,FALSE),0) -> 1 | J16: =IFERROR(VLOOKUP($B16,[1]NUM1!$G$3:$T$99,7,FALSE),0) -> 3 | K16: =IFERROR(VLOOKUP($B16,[1]NUM1!$G$3:$T$99,8,FALSE),0) -> 6 | L16: =IFERROR(VLOOKUP($B16,[1]NUM1!$G$3:$T$99,9,FALSE),0) -> 0 | M16: =IFERROR(VLOOKUP($B16,[1]NUM1!$G$3:$T$99,10,FALSE),0) -> 4 | N16: =IFERROR(VLOOKUP($B16,[1]NUM1!$G$3:$T$99,11,FALSE),0) -> 0 | O16: =IFERROR(VLOOKUP($B16,[1]NUM1!$G$3:$T$99,12,FALSE),0) -> 0 | P16: =IFERROR(VLOOKUP($B16,[1]NUM1!$G$3:$T$99,13,FALSE),0) -> 2 | Q16: =SUM(E16:P16) -> 25 | R16: =IFERROR(VLOOKUP($B16,[1]DEN1!$G$3:$T$102,2,FALSE),0) -> 11 | S16: =IFERROR(VLOOKUP($B16,[1]DEN1!$G$3:$T$102,3,FALSE),0) -> 2 | T16: =IFERROR(VLOOKUP($B16,[1]DEN1!$G$3:$T$102,4,FALSE),0) -> 8 | U16: =IFERROR(VLOOKUP($B16,[1]DEN1!$G$3:$T$102,5,FALSE),0) -> 3 | V16: =IFERROR(VLOOKUP($B16,[1]DEN1!$G$3:$T$102,6,FALSE),0) -> 1 | W16: =IFERROR(VLOOKUP($B16,[1]DEN1!$G$3:$T$102,7,FALSE),0) -> 0 | X16: =IFERROR(VLOOKUP($B16,[1]DEN1!$G$3:$T$102,8,FALSE),0) -> 0 | Y16: =IFERROR(VLOOKUP($B16,[1]DEN1!$G$3:$T$102,9,FALSE),0) -> 2 | Z16: =IFERROR(VLOOKUP($B16,[1]DEN1!$G$3:$T$102,10,FALSE),0) -> 0 | AA16: =IFERROR(VLOOKUP($B16,[1]DEN1!$G$3:$T$102,11,FALSE),0) -> 0 | AB16: =IFERROR(VLOOKUP($B16,[1]DEN1!$G$3:$T$102,12,FALSE),0) -> 0 | AC16: =IFERROR(VLOOKUP($B16,[1]DEN1!$G$3:$T$102,13,FALSE),0) -> 1 | AD16: =SUM(R16:AC16) -> 28
A17: 04101-LA SERENA | B17: 105325-CESFAM JUAN PABLO II | E17: =IFERROR(VLOOKUP($B17,[1]NUM1!$G$3:$T$99,2,FALSE),0) -> 5 | F17: =IFERROR(VLOOKUP($B17,[1]NUM1!$G$3:$T$99,3,FALSE),0) -> 1 | G17: =IFERROR(VLOOKUP($B17,[1]NUM1!$G$3:$T$99,4,FALSE),0) -> 1 | H17: =IFERROR(VLOOKUP($B17,[1]NUM1!$G$3:$T$99,5,FALSE),0) -> 2 | I17: =IFERROR(VLOOKUP($B17,[1]NUM1!$G$3:$T$99,6,FALSE),0) -> 7 | J17: =IFERROR(VLOOKUP($B17,[1]NUM1!$G$3:$T$99,7,FALSE),0) -> 1 | K17: =IFERROR(VLOOKUP($B17,[1]NUM1!$G$3:$T$99,8,FALSE),0) -> 1 | L17: =IFERROR(VLOOKUP($B17,[1]NUM1!$G$3:$T$99,9,FALSE),0) -> 2 | M17: =IFERROR(VLOOKUP($B17,[1]NUM1!$G$3:$T$99,10,FALSE),0) -> 1 | N17: =IFERROR(VLOOKUP($B17,[1]NUM1!$G$3:$T$99,11,FALSE),0) -> 3 | O17: =IFERROR(VLOOKUP($B17,[1]NUM1!$G$3:$T$99,12,FALSE),0) -> 3 | P17: =IFERROR(VLOOKUP($B17,[1]NUM1!$G$3:$T$99,13,FALSE),0) -> 9 | Q17: =SUM(E17:P17) -> 36 | R17: =IFERROR(VLOOKUP($B17,[1]DEN1!$G$3:$T$102,2,FALSE),0) -> 14 | S17: =IFERROR(VLOOKUP($B17,[1]DEN1!$G$3:$T$102,3,FALSE),0) -> 2 | T17: =IFERROR(VLOOKUP($B17,[1]DEN1!$G$3:$T$102,4,FALSE),0) -> 3 | U17: =IFERROR(VLOOKUP($B17,[1]DEN1!$G$3:$T$102,5,FALSE),0) -> 2 | V17: =IFERROR(VLOOKUP($B17,[1]DEN1!$G$3:$T$102,6,FALSE),0) -> 2 | W17: =IFERROR(VLOOKUP($B17,[1]DEN1!$G$3:$T$102,7,FALSE),0) -> 2 | X17: =IFERROR(VLOOKUP($B17,[1]DEN1!$G$3:$T$102,8,FALSE),0) -> 5 | Y17: =IFERROR(VLOOKUP($B17,[1]DEN1!$G$3:$T$102,9,FALSE),0) -> 3 | Z17: =IFERROR(VLOOKUP($B17,[1]DEN1!$G$3:$T$102,10,FALSE),0) -> 4 | AA17: =IFERROR(VLOOKUP($B17,[1]DEN1!$G$3:$T$102,11,FALSE),0) -> 1 | AB17: =IFERROR(VLOOKUP($B17,[1]DEN1!$G$3:$T$102,12,FALSE),0) -> 1 | AC17: =IFERROR(VLOOKUP($B17,[1]DEN1!$G$3:$T$102,13,FALSE),0) -> 1 | AD17: =SUM(R17:AC17) -> 40
A18: 04101-LA SERENA | B18: 105400-P.S.R. ALGARROBITO | E18: =IFERROR(VLOOKUP($B18,[1]NUM1!$G$3:$T$99,2,FALSE),0) -> 0 | F18: =IFERROR(VLOOKUP($B18,[1]NUM1!$G$3:$T$99,3,FALSE),0) -> 0 | G18: =IFERROR(VLOOKUP($B18,[1]NUM1!$G$3:$T$99,4,FALSE),0) -> 0 | H18: =IFERROR(VLOOKUP($B18,[1]NUM1!$G$3:$T$99,5,FALSE),0) -> 0 | I18: =IFERROR(VLOOKUP($B18,[1]NUM1!$G$3:$T$99,6,FALSE),0) -> 0 | J18: =IFERROR(VLOOKUP($B18,[1]NUM1!$G$3:$T$99,7,FALSE),0) -> 1 | K18: =IFERROR(VLOOKUP($B18,[1]NUM1!$G$3:$T$99,8,FALSE),0) -> 1 | L18: =IFERROR(VLOOKUP($B18,[1]NUM1!$G$3:$T$99,9,FALSE),0) -> 0 | M18: =IFERROR(VLOOKUP($B18,[1]NUM1!$G$3:$T$99,10,FALSE),0) -> 1 | N18: =IFERROR(VLOOKUP($B18,[1]NUM1!$G$3:$T$99,11,FALSE),0) -> 1 | O18: =IFERROR(VLOOKUP($B18,[1]NUM1!$G$3:$T$99,12,FALSE),0) -> 0 | P18: =IFERROR(VLOOKUP($B18,[1]NUM1!$G$3:$T$99,13,FALSE),0) -> 0 | Q18: =SUM(E18:P18) -> 4 | R18: =IFERROR(VLOOKUP($B18,[1]DEN1!$G$3:$T$102,2,FALSE),0) -> 0 | S18: =IFERROR(VLOOKUP($B18,[1]DEN1!$G$3:$T$102,3,FALSE),0) -> 1 | T18: =IFERROR(VLOOKUP($B18,[1]DEN1!$G$3:$T$102,4,FALSE),0) -> 0 | U18: =IFERROR(VLOOKUP($B18,[1]DEN1!$G$3:$T$102,5,FALSE),0) -> 2 | V18: =IFERROR(VLOOKUP($B18,[1]DEN1!$G$3:$T$102,6,FALSE),0) -> 0 | W18: =IFERROR(VLOOKUP($B18,[1]DEN1!$G$3:$T$102,7,FALSE),0) -> 0 | X18: =IFERROR(VLOOKUP($B18,[1]DEN1!$G$3:$T$102,8,FALSE),0) -> 1 | Y18: =IFERROR(VLOOKUP($B18,[1]DEN1!$G$3:$T$102,9,FALSE),0) -> 0 | Z18: =IFERROR(VLOOKUP($B18,[1]DEN1!$G$3:$T$102,10,FALSE),0) -> 0 | AA18: =IFERROR(VLOOKUP($B18,[1]DEN1!$G$3:$T$102,11,FALSE),0) -> 0 | AB18: =IFERROR(VLOOKUP($B18,[1]DEN1!$G$3:$T$102,12,FALSE),0) -> 0 | AC18: =IFERROR(VLOOKUP($B18,[1]DEN1!$G$3:$T$102,13,FALSE),0) -> 0 | AD18: =SUM(R18:AC18) -> 4
A19: 04101-LA SERENA | B19: 105401-P.S.R. LAS ROJAS | E19: =IFERROR(VLOOKUP($B19,[1]NUM1!$G$3:$T$99,2,FALSE),0) -> 0 | F19: =IFERROR(VLOOKUP($B19,[1]NUM1!$G$3:$T$99,3,FALSE),0) -> 0 | G19: =IFERROR(VLOOKUP($B19,[1]NUM1!$G$3:$T$99,4,FALSE),0) -> 0 | H19: =IFERROR(VLOOKUP($B19,[1]NUM1!$G$3:$T$99,5,FALSE),0) -> 0 | I19: =IFERROR(VLOOKUP($B19,[1]NUM1!$G$3:$T$99,6,FALSE),0) -> 0 | J19: =IFERROR(VLOOKUP($B19,[1]NUM1!$G$3:$T$99,7,FALSE),0) -> 0 | K19: =IFERROR(VLOOKUP($B19,[1]NUM1!$G$3:$T$99,8,FALSE),0) -> 0 | L19: =IFERROR(VLOOKUP($B19,[1]NUM1!$G$3:$T$99,9,FALSE),0) -> 0 | M19: =IFERROR(VLOOKUP($B19,[1]NUM1!$G$3:$T$99,10,FALSE),0) -> 0 | N19: =IFERROR(VLOOKUP($B19,[1]NUM1!$G$3:$T$99,11,FALSE),0) -> 0 | O19: =IFERROR(VLOOKUP($B19,[1]NUM1!$G$3:$T$99,12,FALSE),0) -> 0 | P19: =IFERROR(VLOOKUP($B19,[1]NUM1!$G$3:$T$99,13,FALSE),0) -> 0 | Q19: =SUM(E19:P19) -> 0 | R19: =IFERROR(VLOOKUP($B19,[1]DEN1!$G$3:$T$102,2,FALSE),0) -> 0 | S19: =IFERROR(VLOOKUP($B19,[1]DEN1!$G$3:$T$102,3,FALSE),0) -> 0 | T19: =IFERROR(VLOOKUP($B19,[1]DEN1!$G$3:$T$102,4,FALSE),0) -> 0 | U19: =IFERROR(VLOOKUP($B19,[1]DEN1!$G$3:$T$102,5,FALSE),0) -> 0 | V19: =IFERROR(VLOOKUP($B19,[1]DEN1!$G$3:$T$102,6,FALSE),0) -> 0 | W19: =IFERROR(VLOOKUP($B19,[1]DEN1!$G$3:$T$102,7,FALSE),0) -> 0 | X19: =IFERROR(VLOOKUP($B19,[1]DEN1!$G$3:$T$102,8,FALSE),0) -> 0 | Y19: =IFERROR(VLOOKUP($B19,[1]DEN1!$G$3:$T$102,9,FALSE),0) -> 0 | Z19: =IFERROR(VLOOKUP($B19,[1]DEN1!$G$3:$T$102,10,FALSE),0) -> 0 | AA19: =IFERROR(VLOOKUP($B19,[1]DEN1!$G$3:$T$102,11,FALSE),0) -> 0 | AB19: =IFERROR(VLOOKUP($B19,[1]DEN1!$G$3:$T$102,12,FALSE),0) -> 0 | AC19: =IFERROR(VLOOKUP($B19,[1]DEN1!$G$3:$T$102,13,FALSE),0) -> 0 | AD19: =SUM(R19:AC19) -> 0
A20: 04101-LA SERENA | B20: 105402-P.S.R. EL ROMERO | E20: =IFERROR(VLOOKUP($B20,[1]NUM1!$G$3:$T$99,2,FALSE),0) -> 0 | F20: =IFERROR(VLOOKUP($B20,[1]NUM1!$G$3:$T$99,3,FALSE),0) -> 1 | G20: =IFERROR(VLOOKUP($B20,[1]NUM1!$G$3:$T$99,4,FALSE),0) -> 0 | H20: =IFERROR(VLOOKUP($B20,[1]NUM1!$G$3:$T$99,5,FALSE),0) -> 0 | I20: =IFERROR(VLOOKUP($B20,[1]NUM1!$G$3:$T$99,6,FALSE),0) -> 0 | J20: =IFERROR(VLOOKUP($B20,[1]NUM1!$G$3:$T$99,7,FALSE),0) -> 0 | K20: =IFERROR(VLOOKUP($B20,[1]NUM1!$G$3:$T$99,8,FALSE),0) -> 0 | L20: =IFERROR(VLOOKUP($B20,[1]NUM1!$G$3:$T$99,9,FALSE),0) -> 0 | M20: =IFERROR(VLOOKUP($B20,[1]NUM1!$G$3:$T$99,10,FALSE),0) -> 0 | N20: =IFERROR(VLOOKUP($B20,[1]NUM1!$G$3:$T$99,11,FALSE),0) -> 0 | O20: =IFERROR(VLOOKUP($B20,[1]NUM1!$G$3:$T$99,12,FALSE),0) -> 0 | P20: =IFERROR(VLOOKUP($B20,[1]NUM1!$G$3:$T$99,13,FALSE),0) -> 1 | Q20: =SUM(E20:P20) -> 2 | R20: =IFERROR(VLOOKUP($B20,[1]DEN1!$G$3:$T$102,2,FALSE),0) -> 1 | S20: =IFERROR(VLOOKUP($B20,[1]DEN1!$G$3:$T$102,3,FALSE),0) -> 0 | T20: =IFERROR(VLOOKUP($B20,[1]DEN1!$G$3:$T$102,4,FALSE),0) -> 0 | U20: =IFERROR(VLOOKUP($B20,[1]DEN1!$G$3:$T$102,5,FALSE),0) -> 0 | V20: =IFERROR(VLOOKUP($B20,[1]DEN1!$G$3:$T$102,6,FALSE),0) -> 1 | W20: =IFERROR(VLOOKUP($B20,[1]DEN1!$G$3:$T$102,7,FALSE),0) -> 0 | X20: =IFERROR(VLOOKUP($B20,[1]DEN1!$G$3:$T$102,8,FALSE),0) -> 0 | Y20: =IFERROR(VLOOKUP($B20,[1]DEN1!$G$3:$T$102,9,FALSE),0) -> 1 | Z20: =IFERROR(VLOOKUP($B20,[1]DEN1!$G$3:$T$102,10,FALSE),0) -> 0 | AA20: =IFERROR(VLOOKUP($B20,[1]DEN1!$G$3:$T$102,11,FALSE),0) -> 0 | AB20: =IFERROR(VLOOKUP($B20,[1]DEN1!$G$3:$T$102,12,FALSE),0) -> 0 | AC20: =IFERROR(VLOOKUP($B20,[1]DEN1!$G$3:$T$102,13,FALSE),0) -> 0 | AD20: =SUM(R20:AC20) -> 3
A21: 04101-LA SERENA | B21: 105499-P.S.R. LAMBERT | E21: =IFERROR(VLOOKUP($B21,[1]NUM1!$G$3:$T$99,2,FALSE),0) -> 0 | F21: =IFERROR(VLOOKUP($B21,[1]NUM1!$G$3:$T$99,3,FALSE),0) -> 0 | G21: =IFERROR(VLOOKUP($B21,[1]NUM1!$G$3:$T$99,4,FALSE),0) -> 0 | H21: =IFERROR(VLOOKUP($B21,[1]NUM1!$G$3:$T$99,5,FALSE),0) -> 0 | I21: =IFERROR(VLOOKUP($B21,[1]NUM1!$G$3:$T$99,6,FALSE),0) -> 0 | J21: =IFERROR(VLOOKUP($B21,[1]NUM1!$G$3:$T$99,7,FALSE),0) -> 0 | K21: =IFERROR(VLOOKUP($B21,[1]NUM1!$G$3:$T$99,8,FALSE),0) -> 0 | L21: =IFERROR(VLOOKUP($B21,[1]NUM1!$G$3:$T$99,9,FALSE),0) -> 0 | M21: =IFERROR(VLOOKUP($B21,[1]NUM1!$G$3:$T$99,10,FALSE),0) -> 0 | N21: =IFERROR(VLOOKUP($B21,[1]NUM1!$G$3:$T$99,11,FALSE),0) -> 0 | O21: =IFERROR(VLOOKUP($B21,[1]NUM1!$G$3:$T$99,12,FALSE),0) -> 0 | P21: =IFERROR(VLOOKUP($B21,[1]NUM1!$G$3:$T$99,13,FALSE),0) -> 0 | Q21: =SUM(E21:P21) -> 0 | R21: =IFERROR(VLOOKUP($B21,[1]DEN1!$G$3:$T$102,2,FALSE),0) -> 0 | S21: =IFERROR(VLOOKUP($B21,[1]DEN1!$G$3:$T$102,3,FALSE),0) -> 0 | T21: =IFERROR(VLOOKUP($B21,[1]DEN1!$G$3:$T$102,4,FALSE),0) -> 0 | U21: =IFERROR(VLOOKUP($B21,[1]DEN1!$G$3:$T$102,5,FALSE),0) -> 0 | V21: =IFERROR(VLOOKUP($B21,[1]DEN1!$G$3:$T$102,6,FALSE),0) -> 0 | W21: =IFERROR(VLOOKUP($B21,[1]DEN1!$G$3:$T$102,7,FALSE),0) -> 0 | X21: =IFERROR(VLOOKUP($B21,[1]DEN1!$G$3:$T$102,8,FALSE),0) -> 0 | Y21: =IFERROR(VLOOKUP($B21,[1]DEN1!$G$3:$T$102,9,FALSE),0) -> 1 | Z21: =IFERROR(VLOOKUP($B21,[1]DEN1!$G$3:$T$102,10,FALSE),0) -> 0 | AA21: =IFERROR(VLOOKUP($B21,[1]DEN1!$G$3:$T$102,11,FALSE),0) -> 0 | AB21: =IFERROR(VLOOKUP($B21,[1]DEN1!$G$3:$T$102,12,FALSE),0) -> 0 | AC21: =IFERROR(VLOOKUP($B21,[1]DEN1!$G$3:$T$102,13,FALSE),0) -> 0 | AD21: =SUM(R21:AC21) -> 1
A22: 04101-LA SERENA | B22: 105700-CECOF VILLA EL INDIO | E22: =IFERROR(VLOOKUP($B22,[1]NUM1!$G$3:$T$99,2,FALSE),0) -> 0 | F22: =IFERROR(VLOOKUP($B22,[1]NUM1!$G$3:$T$99,3,FALSE),0) -> 0 | G22: =IFERROR(VLOOKUP($B22,[1]NUM1!$G$3:$T$99,4,FALSE),0) -> 1 | H22: =IFERROR(VLOOKUP($B22,[1]NUM1!$G$3:$T$99,5,FALSE),0) -> 0 | I22: =IFERROR(VLOOKUP($B22,[1]NUM1!$G$3:$T$99,6,FALSE),0) -> 0 | J22: =IFERROR(VLOOKUP($B22,[1]NUM1!$G$3:$T$99,7,FALSE),0) -> 0 | K22: =IFERROR(VLOOKUP($B22,[1]NUM1!$G$3:$T$99,8,FALSE),0) -> 0 | L22: =IFERROR(VLOOKUP($B22,[1]NUM1!$G$3:$T$99,9,FALSE),0) -> 0 | M22: =IFERROR(VLOOKUP($B22,[1]NUM1!$G$3:$T$99,10,FALSE),0) -> 0 | N22: =IFERROR(VLOOKUP($B22,[1]NUM1!$G$3:$T$99,11,FALSE),0) -> 0 | O22: =IFERROR(VLOOKUP($B22,[1]NUM1!$G$3:$T$99,12,FALSE),0) -> 0 | P22: =IFERROR(VLOOKUP($B22,[1]NUM1!$G$3:$T$99,13,FALSE),0) -> 2 | Q22: =SUM(E22:P22) -> 3 | R22: =IFERROR(VLOOKUP($B22,[1]DEN1!$G$3:$T$102,2,FALSE),0) -> 0 | S22: =IFERROR(VLOOKUP($B22,[1]DEN1!$G$3:$T$102,3,FALSE),0) -> 0 | T22: =IFERROR(VLOOKUP($B22,[1]DEN1!$G$3:$T$102,4,FALSE),0) -> 1 | U22: =IFERROR(VLOOKUP($B22,[1]DEN1!$G$3:$T$102,5,FALSE),0) -> 0 | V22: =IFERROR(VLOOKUP($B22,[1]DEN1!$G$3:$T$102,6,FALSE),0) -> 0 | W22: =IFERROR(VLOOKUP($B22,[1]DEN1!$G$3:$T$102,7,FALSE),0) -> 0 | X22: =IFERROR(VLOOKUP($B22,[1]DEN1!$G$3:$T$102,8,FALSE),0) -> 2 | Y22: =IFERROR(VLOOKUP($B22,[1]DEN1!$G$3:$T$102,9,FALSE),0) -> 0 | Z22: =IFERROR(VLOOKUP($B22,[1]DEN1!$G$3:$T$102,10,FALSE),0) -> 0 | AA22: =IFERROR(VLOOKUP($B22,[1]DEN1!$G$3:$T$102,11,FALSE),0) -> 0 | AB22: =IFERROR(VLOOKUP($B22,[1]DEN1!$G$3:$T$102,12,FALSE),0) -> 0 | AC22: =IFERROR(VLOOKUP($B22,[1]DEN1!$G$3:$T$102,13,FALSE),0) -> 1 | AD22: =SUM(R22:AC22) -> 4
A23: 04101-LA SERENA | B23: 105701-CECOF VILLA ALEMANIA | E23: =IFERROR(VLOOKUP($B23,[1]NUM1!$G$3:$T$99,2,FALSE),0) -> 0 | F23: =IFERROR(VLOOKUP($B23,[1]NUM1!$G$3:$T$99,3,FALSE),0) -> 0 | G23: =IFERROR(VLOOKUP($B23,[1]NUM1!$G$3:$T$99,4,FALSE),0) -> 0 | H23: =IFERROR(VLOOKUP($B23,[1]NUM1!$G$3:$T$99,5,FALSE),0) -> 0 | I23: =IFERROR(VLOOKUP($B23,[1]NUM1!$G$3:$T$99,6,FALSE),0) -> 1 | J23: =IFERROR(VLOOKUP($B23,[1]NUM1!$G$3:$T$99,7,FALSE),0) -> 0 | K23: =IFERROR(VLOOKUP($B23,[1]NUM1!$G$3:$T$99,8,FALSE),0) -> 1 | L23: =IFERROR(VLOOKUP($B23,[1]NUM1!$G$3:$T$99,9,FALSE),0) -> 0 | M23: =IFERROR(VLOOKUP($B23,[1]NUM1!$G$3:$T$99,10,FALSE),0) -> 0 | N23: =IFERROR(VLOOKUP($B23,[1]NUM1!$G$3:$T$99,11,FALSE),0) -> 1 | O23: =IFERROR(VLOOKUP($B23,[1]NUM1!$G$3:$T$99,12,FALSE),0) -> 0 | P23: =IFERROR(VLOOKUP($B23,[1]NUM1!$G$3:$T$99,13,FALSE),0) -> 0 | Q23: =SUM(E23:P23) -> 3 | R23: =IFERROR(VLOOKUP($B23,[1]DEN1!$G$3:$T$102,2,FALSE),0) -> 0 | S23: =IFERROR(VLOOKUP($B23,[1]DEN1!$G$3:$T$102,3,FALSE),0) -> 1 | T23: =IFERROR(VLOOKUP($B23,[1]DEN1!$G$3:$T$102,4,FALSE),0) -> 0 | U23: =IFERROR(VLOOKUP($B23,[1]DEN1!$G$3:$T$102,5,FALSE),0) -> 1 | V23: =IFERROR(VLOOKUP($B23,[1]DEN1!$G$3:$T$102,6,FALSE),0) -> 1 | W23: =IFERROR(VLOOKUP($B23,[1]DEN1!$G$3:$T$102,7,FALSE),0) -> 0 | X23: =IFERROR(VLOOKUP($B23,[1]DEN1!$G$3:$T$102,8,FALSE),0) -> 0 | Y23: =IFERROR(VLOOKUP($B23,[1]DEN1!$G$3:$T$102,9,FALSE),0) -> 0 | Z23: =IFERROR(VLOOKUP($B23,[1]DEN1!$G$3:$T$102,10,FALSE),0) -> 0 | AA23: =IFERROR(VLOOKUP($B23,[1]DEN1!$G$3:$T$102,11,FALSE),0) -> 0 | AB23: =IFERROR(VLOOKUP($B23,[1]DEN1!$G$3:$T$102,12,FALSE),0) -> 0 | AC23: =IFERROR(VLOOKUP($B23,[1]DEN1!$G$3:$T$102,13,FALSE),0) -> 0 | AD23: =SUM(R23:AC23) -> 3
... A25: 04101-LA SERENA | B25: 200402-CECOF ARCOS DE PINAMAR | E25: =IFERROR(VLOOKUP($B25,[1]NUM1!$G$3:$T$99,2,FALSE),0) -> 0 | F25: =IFERROR(VLOOKUP($B25,[1]NUM1!$G$3:$T$99,3,FALSE),0) -> 0 | G25: =IFERROR(VLOOKUP($B25,[1]NUM1!$G$3:$T$99,4,FALSE),0) -> 0 | H25: =IFERROR(VLOOKUP($B25,[1]NUM1!$G$3:$T$99,5,FALSE),0) -> 0 | I25: =IFERROR(VLOOKUP($B25,[1]NUM1!$G$3:$T$99,6,FALSE),0) -> 0 | J25: =IFERROR(VLOOKUP($B25,[1]NUM1!$G$3:$T$99,7,FALSE),0) -> 0 | K25: =IFERROR(VLOOKUP($B25,[1]NUM1!$G$3:$T$99,8,FALSE),0) -> 0 | L25: =IFERROR(VLOOKUP($B25,[1]NUM1!$G$3:$T$99,9,FALSE),0) -> 0 | M25: =IFERROR(VLOOKUP($B25,[1]NUM1!$G$3:$T$99,10,FALSE),0) -> 0 | N25: =IFERROR(VLOOKUP($B25,[1]NUM1!$G$3:$T$99,11,FALSE),0) -> 0 | O25: =IFERROR(VLOOKUP($B25,[1]NUM1!$G$3:$T$99,12,FALSE),0) -> 0 | P25: =IFERROR(VLOOKUP($B25,[1]NUM1!$G$3:$T$99,13,FALSE),0) -> 0 | Q25: =SUM(E25:P25) -> 0 | R25: =IFERROR(VLOOKUP($B25,[1]DEN1!$G$3:$T$102,2,FALSE),0) -> 0 | S25: =IFERROR(VLOOKUP($B25,[1]DEN1!$G$3:$T$102,3,FALSE),0) -> 0 | T25: =IFERROR(VLOOKUP($B25,[1]DEN1!$G$3:$T$102,4,FALSE),0) -> 0 | U25: =IFERROR(VLOOKUP($B25,[1]DEN1!$G$3:$T$102,5,FALSE),0) -> 0 | V25: =IFERROR(VLOOKUP($B25,[1]DEN1!$G$3:$T$102,6,FALSE),0) -> 0 | W25: =IFERROR(VLOOKUP($B25,[1]DEN1!$G$3:$T$102,7,FALSE),0) -> 0 | X25: =IFERROR(VLOOKUP($B25,[1]DEN1!$G$3:$T$102,8,FALSE),0) -> 0 | Y25: =IFERROR(VLOOKUP($B25,[1]DEN1!$G$3:$T$102,9,FALSE),0) -> 0 | Z25: =IFERROR(VLOOKUP($B25,[1]DEN1!$G$3:$T$102,10,FALSE),0) -> 0 | AA25: =IFERROR(VLOOKUP($B25,[1]DEN1!$G$3:$T$102,11,FALSE),0) -> 0 | AB25: =IFERROR(VLOOKUP($B25,[1]DEN1!$G$3:$T$102,12,FALSE),0) -> 0 | AC25: =IFERROR(VLOOKUP($B25,[1]DEN1!$G$3:$T$102,13,FALSE),0) -> 0 | AD25: =SUM(R25:AC25) -> 0
A26: TOTAL LA SERENA MUNICIPAL | C26: =D26/'Metas Muni'!G5 -> 0.98841172 | D26: =Q26/AD26 -> 0.88957055 | E26: =SUM(E12:E25) -> 13 | F26: =SUM(F12:F25) -> 4 | G26: =SUM(G12:G25) -> 13 | H26: =SUM(H12:H25) -> 8 | I26: =SUM(I12:I25) -> 21 | J26: =SUM(J12:J25) -> 12 | K26: =SUM(K12:K25) -> 13 | L26: =SUM(L12:L25) -> 8 | ... AD26: =SUM(AD12:AD25) -> 163
A27: 04102-COQUIMBO | B27: 105303-CES. SAN JUAN | E27: =IFERROR(VLOOKUP($B27,[1]NUM1!$G$3:$T$99,2,FALSE),0) -> 1 | F27: =IFERROR(VLOOKUP($B27,[1]NUM1!$G$3:$T$99,3,FALSE),0) -> 1 | G27: =IFERROR(VLOOKUP($B27,[1]NUM1!$G$3:$T$99,4,FALSE),0) -> 2 | H27: =IFERROR(VLOOKUP($B27,[1]NUM1!$G$3:$T$99,5,FALSE),0) -> 2 | I27: =IFERROR(VLOOKUP($B27,[1]NUM1!$G$3:$T$99,6,FALSE),0) -> 2 | J27: =IFERROR(VLOOKUP($B27,[1]NUM1!$G$3:$T$99,7,FALSE),0) -> 0 | K27: =IFERROR(VLOOKUP($B27,[1]NUM1!$G$3:$T$99,8,FALSE),0) -> 1 | L27: =IFERROR(VLOOKUP($B27,[1]NUM1!$G$3:$T$99,9,FALSE),0) -> 1 | M27: =IFERROR(VLOOKUP($B27,[1]NUM1!$G$3:$T$99,10,FALSE),0) -> 3 | N27: =IFERROR(VLOOKUP($B27,[1]NUM1!$G$3:$T$99,11,FALSE),0) -> 8 | O27: =IFERROR(VLOOKUP($B27,[1]NUM1!$G$3:$T$99,12,FALSE),0) -> 11 | P27: =IFERROR(VLOOKUP($B27,[1]NUM1!$G$3:$T$99,13,FALSE),0) -> 12 | Q27: =SUM(E27:P27) -> 44 | R27: =IFERROR(VLOOKUP($B27,[1]DEN1!$G$3:$T$102,2,FALSE),0) -> 5 | S27: =IFERROR(VLOOKUP($B27,[1]DEN1!$G$3:$T$102,3,FALSE),0) -> 1 | T27: =IFERROR(VLOOKUP($B27,[1]DEN1!$G$3:$T$102,4,FALSE),0) -> 3 | U27: =IFERROR(VLOOKUP($B27,[1]DEN1!$G$3:$T$102,5,FALSE),0) -> 2 | V27: =IFERROR(VLOOKUP($B27,[1]DEN1!$G$3:$T$102,6,FALSE),0) -> 1 | W27: =IFERROR(VLOOKUP($B27,[1]DEN1!$G$3:$T$102,7,FALSE),0) -> 5 | X27: =IFERROR(VLOOKUP($B27,[1]DEN1!$G$3:$T$102,8,FALSE),0) -> 8 | Y27: =IFERROR(VLOOKUP($B27,[1]DEN1!$G$3:$T$102,9,FALSE),0) -> 10 | Z27: =IFERROR(VLOOKUP($B27,[1]DEN1!$G$3:$T$102,10,FALSE),0) -> 1 | AA27: =IFERROR(VLOOKUP($B27,[1]DEN1!$G$3:$T$102,11,FALSE),0) -> 2 | AB27: =IFERROR(VLOOKUP($B27,[1]DEN1!$G$3:$T$102,12,FALSE),0) -> 0 | AC27: =IFERROR(VLOOKUP($B27,[1]DEN1!$G$3:$T$102,13,FALSE),0) -> 0 | AD27: =SUM(R27:AC27) -> 38
A28: 04102-COQUIMBO | B28: 105304-CES. SANTA CECILIA | E28: =IFERROR(VLOOKUP($B28,[1]NUM1!$G$3:$T$99,2,FALSE),0) -> 0 | F28: =IFERROR(VLOOKUP($B28,[1]NUM1!$G$3:$T$99,3,FALSE),0) -> 2 | G28: =IFERROR(VLOOKUP($B28,[1]NUM1!$G$3:$T$99,4,FALSE),0) -> 1 | H28: =IFERROR(VLOOKUP($B28,[1]NUM1!$G$3:$T$99,5,FALSE),0) -> 2 | I28: =IFERROR(VLOOKUP($B28,[1]NUM1!$G$3:$T$99,6,FALSE),0) -> 2 | J28: =IFERROR(VLOOKUP($B28,[1]NUM1!$G$3:$T$99,7,FALSE),0) -> 0 | K28: =IFERROR(VLOOKUP($B28,[1]NUM1!$G$3:$T$99,8,FALSE),0) -> 0 | L28: =IFERROR(VLOOKUP($B28,[1]NUM1!$G$3:$T$99,9,FALSE),0) -> 1 | M28: =IFERROR(VLOOKUP($B28,[1]NUM1!$G$3:$T$99,10,FALSE),0) -> 1 | N28: =IFERROR(VLOOKUP($B28,[1]NUM1!$G$3:$T$99,11,FALSE),0) -> 1 | O28: =IFERROR(VLOOKUP($B28,[1]NUM1!$G$3:$T$99,12,FALSE),0) -> 0 | P28: =IFERROR(VLOOKUP($B28,[1]NUM1!$G$3:$T$99,13,FALSE),0) -> 8 | Q28: =SUM(E28:P28) -> 18 | R28: =IFERROR(VLOOKUP($B28,[1]DEN1!$G$3:$T$102,2,FALSE),0) -> 3 | S28: =IFERROR(VLOOKUP($B28,[1]DEN1!$G$3:$T$102,3,FALSE),0) -> 2 | T28: =IFERROR(VLOOKUP($B28,[1]DEN1!$G$3:$T$102,4,FALSE),0) -> 2 | U28: =IFERROR(VLOOKUP($B28,[1]DEN1!$G$3:$T$102,5,FALSE),0) -> 1 | V28: =IFERROR(VLOOKUP($B28,[1]DEN1!$G$3:$T$102,6,FALSE),0) -> 0 | W28: =IFERROR(VLOOKUP($B28,[1]DEN1!$G$3:$T$102,7,FALSE),0) -> 2 | X28: =IFERROR(VLOOKUP($B28,[1]DEN1!$G$3:$T$102,8,FALSE),0) -> 1 | Y28: =IFERROR(VLOOKUP($B28,[1]DEN1!$G$3:$T$102,9,FALSE),0) -> 0 | Z28: =IFERROR(VLOOKUP($B28,[1]DEN1!$G$3:$T$102,10,FALSE),0) -> 2 | AA28: =IFERROR(VLOOKUP($B28,[1]DEN1!$G$3:$T$102,11,FALSE),0) -> 2 | AB28: =IFERROR(VLOOKUP($B28,[1]DEN1!$G$3:$T$102,12,FALSE),0) -> 0 | AC28: =IFERROR(VLOOKUP($B28,[1]DEN1!$G$3:$T$102,13,FALSE),0) -> 0 | AD28: =SUM(R28:AC28) -> 15
A29: 04102-COQUIMBO | B29: 105305-CES. TIERRAS BLANCAS | E29: =IFERROR(VLOOKUP($B29,[1]NUM1!$G$3:$T$99,2,FALSE),0) -> 1 | F29: =IFERROR(VLOOKUP($B29,[1]NUM1!$G$3:$T$99,3,FALSE),0) -> 0 | G29: =IFERROR(VLOOKUP($B29,[1]NUM1!$G$3:$T$99,4,FALSE),0) -> 0 | H29: =IFERROR(VLOOKUP($B29,[1]NUM1!$G$3:$T$99,5,FALSE),0) -> 4 | I29: =IFERROR(VLOOKUP($B29,[1]NUM1!$G$3:$T$99,6,FALSE),0) -> 6 | J29: =IFERROR(VLOOKUP($B29,[1]NUM1!$G$3:$T$99,7,FALSE),0) -> 2 | K29: =IFERROR(VLOOKUP($B29,[1]NUM1!$G$3:$T$99,8,FALSE),0) -> 2 | L29: =IFERROR(VLOOKUP($B29,[1]NUM1!$G$3:$T$99,9,FALSE),0) -> 3 | M29: =IFERROR(VLOOKUP($B29,[1]NUM1!$G$3:$T$99,10,FALSE),0) -> 0 | N29: =IFERROR(VLOOKUP($B29,[1]NUM1!$G$3:$T$99,11,FALSE),0) -> 2 | O29: =IFERROR(VLOOKUP($B29,[1]NUM1!$G$3:$T$99,12,FALSE),0) -> 2 | P29: =IFERROR(VLOOKUP($B29,[1]NUM1!$G$3:$T$99,13,FALSE),0) -> 8 | Q29: =SUM(E29:P29) -> 30 | R29: =IFERROR(VLOOKUP($B29,[1]DEN1!$G$3:$T$102,2,FALSE),0) -> 4 | S29: =IFERROR(VLOOKUP($B29,[1]DEN1!$G$3:$T$102,3,FALSE),0) -> 6 | T29: =IFERROR(VLOOKUP($B29,[1]DEN1!$G$3:$T$102,4,FALSE),0) -> 5 | U29: =IFERROR(VLOOKUP($B29,[1]DEN1!$G$3:$T$102,5,FALSE),0) -> 2 | V29: =IFERROR(VLOOKUP($B29,[1]DEN1!$G$3:$T$102,6,FALSE),0) -> 2 | W29: =IFERROR(VLOOKUP($B29,[1]DEN1!$G$3:$T$102,7,FALSE),0) -> 0 | X29: =IFERROR(VLOOKUP($B29,[1]DEN1!$G$3:$T$102,8,FALSE),0) -> 2 | Y29: =IFERROR(VLOOKUP($B29,[1]DEN1!$G$3:$T$102,9,FALSE),0) -> 2 | Z29: =IFERROR(VLOOKUP($B29,[1]DEN1!$G$3:$T$102,10,FALSE),0) -> 1 | AA29: =IFERROR(VLOOKUP($B29,[1]DEN1!$G$3:$T$102,11,FALSE),0) -> 6 | AB29: =IFERROR(VLOOKUP($B29,[1]DEN1!$G$3:$T$102,12,FALSE),0) -> 1 | AC29: =IFERROR(VLOOKUP($B29,[1]DEN1!$G$3:$T$102,13,FALSE),0) -> 6 | AD29: =SUM(R29:AC29) -> 37
A30: 04102-COQUIMBO | B30: 105321-CES. RURAL TONGOY | E30: =IFERROR(VLOOKUP($B30,[1]NUM1!$G$3:$T$99,2,FALSE),0) -> 0 | F30: =IFERROR(VLOOKUP($B30,[1]NUM1!$G$3:$T$99,3,FALSE),0) -> 0 | G30: =IFERROR(VLOOKUP($B30,[1]NUM1!$G$3:$T$99,4,FALSE),0) -> 0 | H30: =IFERROR(VLOOKUP($B30,[1]NUM1!$G$3:$T$99,5,FALSE),0) -> 0 | I30: =IFERROR(VLOOKUP($B30,[1]NUM1!$G$3:$T$99,6,FALSE),0) -> 1 | J30: =IFERROR(VLOOKUP($B30,[1]NUM1!$G$3:$T$99,7,FALSE),0) -> 0 | K30: =IFERROR(VLOOKUP($B30,[1]NUM1!$G$3:$T$99,8,FALSE),0) -> 0 | L30: =IFERROR(VLOOKUP($B30,[1]NUM1!$G$3:$T$99,9,FALSE),0) -> 0 | M30: =IFERROR(VLOOKUP($B30,[1]NUM1!$G$3:$T$99,10,FALSE),0) -> 0 | N30: =IFERROR(VLOOKUP($B30,[1]NUM1!$G$3:$T$99,11,FALSE),0) -> 0 | O30: =IFERROR(VLOOKUP($B30,[1]NUM1!$G$3:$T$99,12,FALSE),0) -> 0 | P30: =IFERROR(VLOOKUP($B30,[1]NUM1!$G$3:$T$99,13,FALSE),0) -> 3 | Q30: =SUM(E30:P30) -> 4 | R30: =IFERROR(VLOOKUP($B30,[1]DEN1!$G$3:$T$102,2,FALSE),0) -> 0 | S30: =IFERROR(VLOOKUP($B30,[1]DEN1!$G$3:$T$102,3,FALSE),0) -> 0 | T30: =IFERROR(VLOOKUP($B30,[1]DEN1!$G$3:$T$102,4,FALSE),0) -> 1 | U30: =IFERROR(VLOOKUP($B30,[1]DEN1!$G$3:$T$102,5,FALSE),0) -> 0 | V30: =IFERROR(VLOOKUP($B30,[1]DEN1!$G$3:$T$102,6,FALSE),0) -> 1 | W30: =IFERROR(VLOOKUP($B30,[1]DEN1!$G$3:$T$102,7,FALSE),0) -> 1 | X30: =IFERROR(VLOOKUP($B30,[1]DEN1!$G$3:$T$102,8,FALSE),0) -> 0 | Y30: =IFERROR(VLOOKUP($B30,[1]DEN1!$G$3:$T$102,9,FALSE),0) -> 0 | Z30: =IFERROR(VLOOKUP($B30,[1]DEN1!$G$3:$T$102,10,FALSE),0) -> 1 | AA30: =IFERROR(VLOOKUP($B30,[1]DEN1!$G$3:$T$102,11,FALSE),0) -> 4 | AB30: =IFERROR(VLOOKUP($B30,[1]DEN1!$G$3:$T$102,12,FALSE),0) -> 1 | AC30: =IFERROR(VLOOKUP($B30,[1]DEN1!$G$3:$T$102,13,FALSE),0) -> 0 | AD30: =SUM(R30:AC30) -> 9
A31: 04102-COQUIMBO | B31: 105323-CES. DR. SERGIO AGUILAR | E31: =IFERROR(VLOOKUP($B31,[1]NUM1!$G$3:$T$99,2,FALSE),0) -> 1 | F31: =IFERROR(VLOOKUP($B31,[1]NUM1!$G$3:$T$99,3,FALSE),0) -> 1 | G31: =IFERROR(VLOOKUP($B31,[1]NUM1!$G$3:$T$99,4,FALSE),0) -> 2 | H31: =IFERROR(VLOOKUP($B31,[1]NUM1!$G$3:$T$99,5,FALSE),0) -> 2 | I31: =IFERROR(VLOOKUP($B31,[1]NUM1!$G$3:$T$99,6,FALSE),0) -> 3 | J31: =IFERROR(VLOOKUP($B31,[1]NUM1!$G$3:$T$99,7,FALSE),0) -> 2 | K31: =IFERROR(VLOOKUP($B31,[1]NUM1!$G$3:$T$99,8,FALSE),0) -> 2 | L31: =IFERROR(VLOOKUP($B31,[1]NUM1!$G$3:$T$99,9,FALSE),0) -> 2 | M31: =IFERROR(VLOOKUP($B31,[1]NUM1!$G$3:$T$99,10,FALSE),0) -> 1 | N31: =IFERROR(VLOOKUP($B31,[1]NUM1!$G$3:$T$99,11,FALSE),0) -> 2 | O31: =IFERROR(VLOOKUP($B31,[1]NUM1!$G$3:$T$99,12,FALSE),0) -> 0 | P31: =IFERROR(VLOOKUP($B31,[1]NUM1!$G$3:$T$99,13,FALSE),0) -> 8 | Q31: =SUM(E31:P31) -> 26 | R31: =IFERROR(VLOOKUP($B31,[1]DEN1!$G$3:$T$102,2,FALSE),0) -> 5 | S31: =IFERROR(VLOOKUP($B31,[1]DEN1!$G$3:$T$102,3,FALSE),0) -> 1 | T31: =IFERROR(VLOOKUP($B31,[1]DEN1!$G$3:$T$102,4,FALSE),0) -> 5 | U31: =IFERROR(VLOOKUP($B31,[1]DEN1!$G$3:$T$102,5,FALSE),0) -> 0 | V31: =IFERROR(VLOOKUP($B31,[1]DEN1!$G$3:$T$102,6,FALSE),0) -> 0 | W31: =IFERROR(VLOOKUP($B31,[1]DEN1!$G$3:$T$102,7,FALSE),0) -> 3 | X31: =IFERROR(VLOOKUP($B31,[1]DEN1!$G$3:$T$102,8,FALSE),0) -> 1 | Y31: =IFERROR(VLOOKUP($B31,[1]DEN1!$G$3:$T$102,9,FALSE),0) -> 2 | Z31: =IFERROR(VLOOKUP($B31,[1]DEN1!$G$3:$T$102,10,FALSE),0) -> 1 | AA31: =IFERROR(VLOOKUP($B31,[1]DEN1!$G$3:$T$102,11,FALSE),0) -> 2 | AB31: =IFERROR(VLOOKUP($B31,[1]DEN1!$G$3:$T$102,12,FALSE),0) -> 1 | AC31: =IFERROR(VLOOKUP($B31,[1]DEN1!$G$3:$T$102,13,FALSE),0) -> 0 | AD31: =SUM(R31:AC31) -> 21
A32: 04102-COQUIMBO | B32: 105404-P.S.R. EL TANGUE | E32: =IFERROR(VLOOKUP($B32,[1]NUM1!$G$3:$T$99,2,FALSE),0) -> 0 | F32: =IFERROR(VLOOKUP($B32,[1]NUM1!$G$3:$T$99,3,FALSE),0) -> 0 | G32: =IFERROR(VLOOKUP($B32,[1]NUM1!$G$3:$T$99,4,FALSE),0) -> 0 | H32: =IFERROR(VLOOKUP($B32,[1]NUM1!$G$3:$T$99,5,FALSE),0) -> 0 | I32: =IFERROR(VLOOKUP($B32,[1]NUM1!$G$3:$T$99,6,FALSE),0) -> 0 | J32: =IFERROR(VLOOKUP($B32,[1]NUM1!$G$3:$T$99,7,FALSE),0) -> 0 | K32: =IFERROR(VLOOKUP($B32,[1]NUM1!$G$3:$T$99,8,FALSE),0) -> 0 | L32: =IFERROR(VLOOKUP($B32,[1]NUM1!$G$3:$T$99,9,FALSE),0) -> 0 | M32: =IFERROR(VLOOKUP($B32,[1]NUM1!$G$3:$T$99,10,FALSE),0) -> 0 | N32: =IFERROR(VLOOKUP($B32,[1]NUM1!$G$3:$T$99,11,FALSE),0) -> 0 | O32: =IFERROR(VLOOKUP($B32,[1]NUM1!$G$3:$T$99,12,FALSE),0) -> 0 | P32: =IFERROR(VLOOKUP($B32,[1]NUM1!$G$3:$T$99,13,FALSE),0) -> 0 | Q32: =SUM(E32:P32) -> 0 | R32: =IFERROR(VLOOKUP($B32,[1]DEN1!$G$3:$T$102,2,FALSE),0) -> 0 | S32: =IFERROR(VLOOKUP($B32,[1]DEN1!$G$3:$T$102,3,FALSE),0) -> 0 | T32: =IFERROR(VLOOKUP($B32,[1]DEN1!$G$3:$T$102,4,FALSE),0) -> 0 | U32: =IFERROR(VLOOKUP($B32,[1]DEN1!$G$3:$T$102,5,FALSE),0) -> 0 | V32: =IFERROR(VLOOKUP($B32,[1]DEN1!$G$3:$T$102,6,FALSE),0) -> 0 | W32: =IFERROR(VLOOKUP($B32,[1]DEN1!$G$3:$T$102,7,FALSE),0) -> 0 | X32: =IFERROR(VLOOKUP($B32,[1]DEN1!$G$3:$T$102,8,FALSE),0) -> 0 | Y32: =IFERROR(VLOOKUP($B32,[1]DEN1!$G$3:$T$102,9,FALSE),0) -> 0 | Z32: =IFERROR(VLOOKUP($B32,[1]DEN1!$G$3:$T$102,10,FALSE),0) -> 0 | AA32: =IFERROR(VLOOKUP($B32,[1]DEN1!$G$3:$T$102,11,FALSE),0) -> 0 | AB32: =IFERROR(VLOOKUP($B32,[1]DEN1!$G$3:$T$102,12,FALSE),0) -> 0 | AC32: =IFERROR(VLOOKUP($B32,[1]DEN1!$G$3:$T$102,13,FALSE),0) -> 0 | AD32: =SUM(R32:AC32) -> 0
A33: 04102-COQUIMBO | B33: 105405-P.S.R. GUANAQUEROS | E33: =IFERROR(VLOOKUP($B33,[1]NUM1!$G$3:$T$99,2,FALSE),0) -> 0 | F33: =IFERROR(VLOOKUP($B33,[1]NUM1!$G$3:$T$99,3,FALSE),0) -> 0 | G33: =IFERROR(VLOOKUP($B33,[1]NUM1!$G$3:$T$99,4,FALSE),0) -> 1 | H33: =IFERROR(VLOOKUP($B33,[1]NUM1!$G$3:$T$99,5,FALSE),0) -> 0 | I33: =IFERROR(VLOOKUP($B33,[1]NUM1!$G$3:$T$99,6,FALSE),0) -> 0 | J33: =IFERROR(VLOOKUP($B33,[1]NUM1!$G$3:$T$99,7,FALSE),0) -> 0 | K33: =IFERROR(VLOOKUP($B33,[1]NUM1!$G$3:$T$99,8,FALSE),0) -> 0 | L33: =IFERROR(VLOOKUP($B33,[1]NUM1!$G$3:$T$99,9,FALSE),0) -> 1 | M33: =IFERROR(VLOOKUP($B33,[1]NUM1!$G$3:$T$99,10,FALSE),0) -> 0 | N33: =IFERROR(VLOOKUP($B33,[1]NUM1!$G$3:$T$99,11,FALSE),0) -> 0 | O33: =IFERROR(VLOOKUP($B33,[1]NUM1!$G$3:$T$99,12,FALSE),0) -> 0 | P33: =IFERROR(VLOOKUP($B33,[1]NUM1!$G$3:$T$99,13,FALSE),0) -> 0 | Q33: =SUM(E33:P33) -> 2 | R33: =IFERROR(VLOOKUP($B33,[1]DEN1!$G$3:$T$102,2,FALSE),0) -> 1 | S33: =IFERROR(VLOOKUP($B33,[1]DEN1!$G$3:$T$102,3,FALSE),0) -> 0 | T33: =IFERROR(VLOOKUP($B33,[1]DEN1!$G$3:$T$102,4,FALSE),0) -> 0 | U33: =IFERROR(VLOOKUP($B33,[1]DEN1!$G$3:$T$102,5,FALSE),0) -> 0 | V33: =IFERROR(VLOOKUP($B33,[1]DEN1!$G$3:$T$102,6,FALSE),0) -> 1 | W33: =IFERROR(VLOOKUP($B33,[1]DEN1!$G$3:$T$102,7,FALSE),0) -> 0 | X33: =IFERROR(VLOOKUP($B33,[1]DEN1!$G$3:$T$102,8,FALSE),0) -> 0 | Y33: =IFERROR(VLOOKUP($B33,[1]DEN1!$G$3:$T$102,9,FALSE),0) -> 1 | Z33: =IFERROR(VLOOKUP($B33,[1]DEN1!$G$3:$T$102,10,FALSE),0) -> 0 | AA33: =IFERROR(VLOOKUP($B33,[1]DEN1!$G$3:$T$102,11,FALSE),0) -> 0 | AB33: =IFERROR(VLOOKUP($B33,[1]DEN1!$G$3:$T$102,12,FALSE),0) -> 0 | AC33: =IFERROR(VLOOKUP($B33,[1]DEN1!$G$3:$T$102,13,FALSE),0) -> 0 | AD33: =SUM(R33:AC33) -> 3
A34: 04102-COQUIMBO | B34: 105406-P.S.R. PAN DE AZUCAR | E34: =IFERROR(VLOOKUP($B34,[1]NUM1!$G$3:$T$99,2,FALSE),0) -> 0 | F34: =IFERROR(VLOOKUP($B34,[1]NUM1!$G$3:$T$99,3,FALSE),0) -> 0 | G34: =IFERROR(VLOOKUP($B34,[1]NUM1!$G$3:$T$99,4,FALSE),0) -> 0 | H34: =IFERROR(VLOOKUP($B34,[1]NUM1!$G$3:$T$99,5,FALSE),0) -> 1 | I34: =IFERROR(VLOOKUP($B34,[1]NUM1!$G$3:$T$99,6,FALSE),0) -> 0 | J34: =IFERROR(VLOOKUP($B34,[1]NUM1!$G$3:$T$99,7,FALSE),0) -> 0 | K34: =IFERROR(VLOOKUP($B34,[1]NUM1!$G$3:$T$99,8,FALSE),0) -> 0 | L34: =IFERROR(VLOOKUP($B34,[1]NUM1!$G$3:$T$99,9,FALSE),0) -> 1 | M34: =IFERROR(VLOOKUP($B34,[1]NUM1!$G$3:$T$99,10,FALSE),0) -> 0 | N34: =IFERROR(VLOOKUP($B34,[1]NUM1!$G$3:$T$99,11,FALSE),0) -> 0 | O34: =IFERROR(VLOOKUP($B34,[1]NUM1!$G$3:$T$99,12,FALSE),0) -> 0 | P34: =IFERROR(VLOOKUP($B34,[1]NUM1!$G$3:$T$99,13,FALSE),0) -> 0 | Q34: =SUM(E34:P34) -> 2 | R34: =IFERROR(VLOOKUP($B34,[1]DEN1!$G$3:$T$102,2,FALSE),0) -> 0 | S34: =IFERROR(VLOOKUP($B34,[1]DEN1!$G$3:$T$102,3,FALSE),0) -> 1 | T34: =IFERROR(VLOOKUP($B34,[1]DEN1!$G$3:$T$102,4,FALSE),0) -> 0 | U34: =IFERROR(VLOOKUP($B34,[1]DEN1!$G$3:$T$102,5,FALSE),0) -> 1 | V34: =IFERROR(VLOOKUP($B34,[1]DEN1!$G$3:$T$102,6,FALSE),0) -> 0 | W34: =IFERROR(VLOOKUP($B34,[1]DEN1!$G$3:$T$102,7,FALSE),0) -> 1 | X34: =IFERROR(VLOOKUP($B34,[1]DEN1!$G$3:$T$102,8,FALSE),0) -> 0 | Y34: =IFERROR(VLOOKUP($B34,[1]DEN1!$G$3:$T$102,9,FALSE),0) -> 1 | Z34: =IFERROR(VLOOKUP($B34,[1]DEN1!$G$3:$T$102,10,FALSE),0) -> 0 | AA34: =IFERROR(VLOOKUP($B34,[1]DEN1!$G$3:$T$102,11,FALSE),0) -> 0 | AB34: =IFERROR(VLOOKUP($B34,[1]DEN1!$G$3:$T$102,12,FALSE),0) -> 0 | AC34: =IFERROR(VLOOKUP($B34,[1]DEN1!$G$3:$T$102,13,FALSE),0) -> 0 | AD34: =SUM(R34:AC34) -> 4
A35: 04102-COQUIMBO | B35: 105407-P.S.R. TAMBILLOS | E35: =IFERROR(VLOOKUP($B35,[1]NUM1!$G$3:$T$99,2,FALSE),0) -> 0 | F35: =IFERROR(VLOOKUP($B35,[1]NUM1!$G$3:$T$99,3,FALSE),0) -> 0 | G35: =IFERROR(VLOOKUP($B35,[1]NUM1!$G$3:$T$99,4,FALSE),0) -> 0 | H35: =IFERROR(VLOOKUP($B35,[1]NUM1!$G$3:$T$99,5,FALSE),0) -> 0 | I35: =IFERROR(VLOOKUP($B35,[1]NUM1!$G$3:$T$99,6,FALSE),0) -> 0 | J35: =IFERROR(VLOOKUP($B35,[1]NUM1!$G$3:$T$99,7,FALSE),0) -> 0 | K35: =IFERROR(VLOOKUP($B35,[1]NUM1!$G$3:$T$99,8,FALSE),0) -> 0 | L35: =IFERROR(VLOOKUP($B35,[1]NUM1!$G$3:$T$99,9,FALSE),0) -> 0 | M35: =IFERROR(VLOOKUP($B35,[1]NUM1!$G$3:$T$99,10,FALSE),0) -> 0 | N35: =IFERROR(VLOOKUP($B35,[1]NUM1!$G$3:$T$99,11,FALSE),0) -> 0 | O35: =IFERROR(VLOOKUP($B35,[1]NUM1!$G$3:$T$99,12,FALSE),0) -> 0 | P35: =IFERROR(VLOOKUP($B35,[1]NUM1!$G$3:$T$99,13,FALSE),0) -> 1 | Q35: =SUM(E35:P35) -> 1 | R35: =IFERROR(VLOOKUP($B35,[1]DEN1!$G$3:$T$102,2,FALSE),0) -> 0 | S35: =IFERROR(VLOOKUP($B35,[1]DEN1!$G$3:$T$102,3,FALSE),0) -> 0 | T35: =IFERROR(VLOOKUP($B35,[1]DEN1!$G$3:$T$102,4,FALSE),0) -> 0 | U35: =IFERROR(VLOOKUP($B35,[1]DEN1!$G$3:$T$102,5,FALSE),0) -> 0 | V35: =IFERROR(VLOOKUP($B35,[1]DEN1!$G$3:$T$102,6,FALSE),0) -> 0 | W35: =IFERROR(VLOOKUP($B35,[1]DEN1!$G$3:$T$102,7,FALSE),0) -> 0 | X35: =IFERROR(VLOOKUP($B35,[1]DEN1!$G$3:$T$102,8,FALSE),0) -> 0 | Y35: =IFERROR(VLOOKUP($B35,[1]DEN1!$G$3:$T$102,9,FALSE),0) -> 0 | Z35: =IFERROR(VLOOKUP($B35,[1]DEN1!$G$3:$T$102,10,FALSE),0) -> 0 | AA35: =IFERROR(VLOOKUP($B35,[1]DEN1!$G$3:$T$102,11,FALSE),0) -> 1 | AB35: =IFERROR(VLOOKUP($B35,[1]DEN1!$G$3:$T$102,12,FALSE),0) -> 0 | AC35: =IFERROR(VLOOKUP($B35,[1]DEN1!$G$3:$T$102,13,FALSE),0) -> 0 | AD35: =SUM(R35:AC35) -> 1
A36: 04102-COQUIMBO | B36: 105705-CECOF EL ALBA | E36: =IFERROR(VLOOKUP($B36,[1]NUM1!$G$3:$T$99,2,FALSE),0) -> 0 | F36: =IFERROR(VLOOKUP($B36,[1]NUM1!$G$3:$T$99,3,FALSE),0) -> 0 | G36: =IFERROR(VLOOKUP($B36,[1]NUM1!$G$3:$T$99,4,FALSE),0) -> 0 | H36: =IFERROR(VLOOKUP($B36,[1]NUM1!$G$3:$T$99,5,FALSE),0) -> 0 | I36: =IFERROR(VLOOKUP($B36,[1]NUM1!$G$3:$T$99,6,FALSE),0) -> 0 | J36: =IFERROR(VLOOKUP($B36,[1]NUM1!$G$3:$T$99,7,FALSE),0) -> 0 | K36: =IFERROR(VLOOKUP($B36,[1]NUM1!$G$3:$T$99,8,FALSE),0) -> 0 | L36: =IFERROR(VLOOKUP($B36,[1]NUM1!$G$3:$T$99,9,FALSE),0) -> 0 | M36: =IFERROR(VLOOKUP($B36,[1]NUM1!$G$3:$T$99,10,FALSE),0) -> 0 | N36: =IFERROR(VLOOKUP($B36,[1]NUM1!$G$3:$T$99,11,FALSE),0) -> 0 | O36: =IFERROR(VLOOKUP($B36,[1]NUM1!$G$3:$T$99,12,FALSE),0) -> 1 | P36: =IFERROR(VLOOKUP($B36,[1]NUM1!$G$3:$T$99,13,FALSE),0) -> 1 | Q36: =SUM(E36:P36) -> 2 | R36: =IFERROR(VLOOKUP($B36,[1]DEN1!$G$3:$T$102,2,FALSE),0) -> 0 | S36: =IFERROR(VLOOKUP($B36,[1]DEN1!$G$3:$T$102,3,FALSE),0) -> 0 | T36: =IFERROR(VLOOKUP($B36,[1]DEN1!$G$3:$T$102,4,FALSE),0) -> 0 | U36: =IFERROR(VLOOKUP($B36,[1]DEN1!$G$3:$T$102,5,FALSE),0) -> 0 | V36: =IFERROR(VLOOKUP($B36,[1]DEN1!$G$3:$T$102,6,FALSE),0) -> 0 | W36: =IFERROR(VLOOKUP($B36,[1]DEN1!$G$3:$T$102,7,FALSE),0) -> 0 | X36: =IFERROR(VLOOKUP($B36,[1]DEN1!$G$3:$T$102,8,FALSE),0) -> 0 | Y36: =IFERROR(VLOOKUP($B36,[1]DEN1!$G$3:$T$102,9,FALSE),0) -> 1 | Z36: =IFERROR(VLOOKUP($B36,[1]DEN1!$G$3:$T$102,10,FALSE),0) -> 1 | AA36: =IFERROR(VLOOKUP($B36,[1]DEN1!$G$3:$T$102,11,FALSE),0) -> 0 | AB36: =IFERROR(VLOOKUP($B36,[1]DEN1!$G$3:$T$102,12,FALSE),0) -> 0 | AC36: =IFERROR(VLOOKUP($B36,[1]DEN1!$G$3:$T$102,13,FALSE),0) -> 0 | AD36: =SUM(R36:AC36) -> 2
A37: 04102-COQUIMBO | B37: 200273-CECOF PUNTA MIRA | E37: =IFERROR(VLOOKUP($B37,[1]NUM1!$G$3:$T$99,2,FALSE),0) -> 1 | F37: =IFERROR(VLOOKUP($B37,[1]NUM1!$G$3:$T$99,3,FALSE),0) -> 0 | G37: =IFERROR(VLOOKUP($B37,[1]NUM1!$G$3:$T$99,4,FALSE),0) -> 0 | H37: =IFERROR(VLOOKUP($B37,[1]NUM1!$G$3:$T$99,5,FALSE),0) -> 0 | I37: =IFERROR(VLOOKUP($B37,[1]NUM1!$G$3:$T$99,6,FALSE),0) -> 0 | J37: =IFERROR(VLOOKUP($B37,[1]NUM1!$G$3:$T$99,7,FALSE),0) -> 0 | K37: =IFERROR(VLOOKUP($B37,[1]NUM1!$G$3:$T$99,8,FALSE),0) -> 0 | L37: =IFERROR(VLOOKUP($B37,[1]NUM1!$G$3:$T$99,9,FALSE),0) -> 0 | M37: =IFERROR(VLOOKUP($B37,[1]NUM1!$G$3:$T$99,10,FALSE),0) -> 0 | N37: =IFERROR(VLOOKUP($B37,[1]NUM1!$G$3:$T$99,11,FALSE),0) -> 0 | O37: =IFERROR(VLOOKUP($B37,[1]NUM1!$G$3:$T$99,12,FALSE),0) -> 0 | P37: =IFERROR(VLOOKUP($B37,[1]NUM1!$G$3:$T$99,13,FALSE),0) -> 0 | Q37: =SUM(E37:P37) -> 1 | R37: =IFERROR(VLOOKUP($B37,[1]DEN1!$G$3:$T$102,2,FALSE),0) -> 1 | S37: =IFERROR(VLOOKUP($B37,[1]DEN1!$G$3:$T$102,3,FALSE),0) -> 0 | T37: =IFERROR(VLOOKUP($B37,[1]DEN1!$G$3:$T$102,4,FALSE),0) -> 0 | U37: =IFERROR(VLOOKUP($B37,[1]DEN1!$G$3:$T$102,5,FALSE),0) -> 0 | V37: =IFERROR(VLOOKUP($B37,[1]DEN1!$G$3:$T$102,6,FALSE),0) -> 2 | W37: =IFERROR(VLOOKUP($B37,[1]DEN1!$G$3:$T$102,7,FALSE),0) -> 0 | X37: =IFERROR(VLOOKUP($B37,[1]DEN1!$G$3:$T$102,8,FALSE),0) -> 1 | Y37: =IFERROR(VLOOKUP($B37,[1]DEN1!$G$3:$T$102,9,FALSE),0) -> 0 | Z37: =IFERROR(VLOOKUP($B37,[1]DEN1!$G$3:$T$102,10,FALSE),0) -> 1 | AA37: =IFERROR(VLOOKUP($B37,[1]DEN1!$G$3:$T$102,11,FALSE),0) -> 1 | AB37: =IFERROR(VLOOKUP($B37,[1]DEN1!$G$3:$T$102,12,FALSE),0) -> 0 | AC37: =IFERROR(VLOOKUP($B37,[1]DEN1!$G$3:$T$102,13,FALSE),0) -> 0 | AD37: =SUM(R37:AC37) -> 6
A38: 04102-COQUIMBO | B38: 200494-CESFAM EL SAUCE | E38: =IFERROR(VLOOKUP($B38,[1]NUM1!$G$3:$T$99,2,FALSE),0) -> 0 | F38: =IFERROR(VLOOKUP($B38,[1]NUM1!$G$3:$T$99,3,FALSE),0) -> 0 | G38: =IFERROR(VLOOKUP($B38,[1]NUM1!$G$3:$T$99,4,FALSE),0) -> 0 | H38: =IFERROR(VLOOKUP($B38,[1]NUM1!$G$3:$T$99,5,FALSE),0) -> 0 | I38: =IFERROR(VLOOKUP($B38,[1]NUM1!$G$3:$T$99,6,FALSE),0) -> 0 | J38: =IFERROR(VLOOKUP($B38,[1]NUM1!$G$3:$T$99,7,FALSE),0) -> 0 | K38: =IFERROR(VLOOKUP($B38,[1]NUM1!$G$3:$T$99,8,FALSE),0) -> 0 | L38: =IFERROR(VLOOKUP($B38,[1]NUM1!$G$3:$T$99,9,FALSE),0) -> 0 | M38: =IFERROR(VLOOKUP($B38,[1]NUM1!$G$3:$T$99,10,FALSE),0) -> 2 | N38: =IFERROR(VLOOKUP($B38,[1]NUM1!$G$3:$T$99,11,FALSE),0) -> 0 | O38: =IFERROR(VLOOKUP($B38,[1]NUM1!$G$3:$T$99,12,FALSE),0) -> 0 | P38: =IFERROR(VLOOKUP($B38,[1]NUM1!$G$3:$T$99,13,FALSE),0) -> 1 | Q38: =SUM(E38:P38) -> 3 | R38: =IFERROR(VLOOKUP($B38,[1]DEN1!$G$3:$T$102,2,FALSE),0) -> 0 | S38: =IFERROR(VLOOKUP($B38,[1]DEN1!$G$3:$T$102,3,FALSE),0) -> 0 | T38: =IFERROR(VLOOKUP($B38,[1]DEN1!$G$3:$T$102,4,FALSE),0) -> 0 | U38: =IFERROR(VLOOKUP($B38,[1]DEN1!$G$3:$T$102,5,FALSE),0) -> 0 | V38: =IFERROR(VLOOKUP($B38,[1]DEN1!$G$3:$T$102,6,FALSE),0) -> 0 | W38: =IFERROR(VLOOKUP($B38,[1]DEN1!$G$3:$T$102,7,FALSE),0) -> 0 | X38: =IFERROR(VLOOKUP($B38,[1]DEN1!$G$3:$T$102,8,FALSE),0) -> 0 | Y38: =IFERROR(VLOOKUP($B38,[1]DEN1!$G$3:$T$102,9,FALSE),0) -> 2 | Z38: =IFERROR(VLOOKUP($B38,[1]DEN1!$G$3:$T$102,10,FALSE),0) -> 4 | AA38: =IFERROR(VLOOKUP($B38,[1]DEN1!$G$3:$T$102,11,FALSE),0) -> 1 | AB38: =IFERROR(VLOOKUP($B38,[1]DEN1!$G$3:$T$102,12,FALSE),0) -> 1 | AC38: =IFERROR(VLOOKUP($B38,[1]DEN1!$G$3:$T$102,13,FALSE),0) -> 2 | AD38: =SUM(R38:AC38) -> 10
A39: 04102-COQUIMBO | B39: 200499-CESFAM PAN DE AZÚCAR | E39: =IFERROR(VLOOKUP($B39,[1]NUM1!$G$3:$T$99,2,FALSE),0) -> 0 | F39: =IFERROR(VLOOKUP($B39,[1]NUM1!$G$3:$T$99,3,FALSE),0) -> 0 | G39: =IFERROR(VLOOKUP($B39,[1]NUM1!$G$3:$T$99,4,FALSE),0) -> 0 | H39: =IFERROR(VLOOKUP($B39,[1]NUM1!$G$3:$T$99,5,FALSE),0) -> 0 | I39: =IFERROR(VLOOKUP($B39,[1]NUM1!$G$3:$T$99,6,FALSE),0) -> 0 | J39: =IFERROR(VLOOKUP($B39,[1]NUM1!$G$3:$T$99,7,FALSE),0) -> 0 | K39: =IFERROR(VLOOKUP($B39,[1]NUM1!$G$3:$T$99,8,FALSE),0) -> 0 | L39: =IFERROR(VLOOKUP($B39,[1]NUM1!$G$3:$T$99,9,FALSE),0) -> 0 | M39: =IFERROR(VLOOKUP($B39,[1]NUM1!$G$3:$T$99,10,FALSE),0) -> 0 | N39: =IFERROR(VLOOKUP($B39,[1]NUM1!$G$3:$T$99,11,FALSE),0) -> 1 | O39: =IFERROR(VLOOKUP($B39,[1]NUM1!$G$3:$T$99,12,FALSE),0) -> 0 | P39: =IFERROR(VLOOKUP($B39,[1]NUM1!$G$3:$T$99,13,FALSE),0) -> 2 | Q39: =SUM(E39:P39) -> 3 | R39: =IFERROR(VLOOKUP($B39,[1]DEN1!$G$3:$T$102,2,FALSE),0) -> 0 | S39: =IFERROR(VLOOKUP($B39,[1]DEN1!$G$3:$T$102,3,FALSE),0) -> 0 | T39: =IFERROR(VLOOKUP($B39,[1]DEN1!$G$3:$T$102,4,FALSE),0) -> 0 | U39: =IFERROR(VLOOKUP($B39,[1]DEN1!$G$3:$T$102,5,FALSE),0) -> 0 | V39: =IFERROR(VLOOKUP($B39,[1]DEN1!$G$3:$T$102,6,FALSE),0) -> 0 | W39: =IFERROR(VLOOKUP($B39,[1]DEN1!$G$3:$T$102,7,FALSE),0) -> 0 | X39: =IFERROR(VLOOKUP($B39,[1]DEN1!$G$3:$T$102,8,FALSE),0) -> 0 | Y39: =IFERROR(VLOOKUP($B39,[1]DEN1!$G$3:$T$102,9,FALSE),0) -> 0 | Z39: =IFERROR(VLOOKUP($B39,[1]DEN1!$G$3:$T$102,10,FALSE),0) -> 0 | AA39: =IFERROR(VLOOKUP($B39,[1]DEN1!$G$3:$T$102,11,FALSE),0) -> 0 | AB39: =IFERROR(VLOOKUP($B39,[1]DEN1!$G$3:$T$102,12,FALSE),0) -> 1 | AC39: =IFERROR(VLOOKUP($B39,[1]DEN1!$G$3:$T$102,13,FALSE),0) -> 1 | AD39: =SUM(R39:AC39) -> 2
A40: TOTAL COQUIMBO MUNICIPAL | C40: =D40/'Metas Muni'!G6 -> 1.021021 | D40: =Q40/AD40 -> 0.91891892 | E40: =SUM(E27:E39) -> 4 | F40: =SUM(F27:F39) -> 4 | G40: =SUM(G27:G39) -> 6 | H40: =SUM(H27:H39) -> 11 | I40: =SUM(I27:I39) -> 14 | J40: =SUM(J27:J39) -> 4 | K40: =SUM(K27:K39) -> 5 | L40: =SUM(L27:L39) -> 9 | ... AD40: =SUM(AD27:AD39) -> 148
A41: 04104-LA HIGUERA | B41: 105314-CES. LA HIGUERA | E41: =IFERROR(VLOOKUP($B41,[1]NUM1!$G$3:$T$99,2,FALSE),0) -> 0 | F41: =IFERROR(VLOOKUP($B41,[1]NUM1!$G$3:$T$99,3,FALSE),0) -> 0 | G41: =IFERROR(VLOOKUP($B41,[1]NUM1!$G$3:$T$99,4,FALSE),0) -> 0 | H41: =IFERROR(VLOOKUP($B41,[1]NUM1!$G$3:$T$99,5,FALSE),0) -> 0 | I41: =IFERROR(VLOOKUP($B41,[1]NUM1!$G$3:$T$99,6,FALSE),0) -> 0 | J41: =IFERROR(VLOOKUP($B41,[1]NUM1!$G$3:$T$99,7,FALSE),0) -> 0 | K41: =IFERROR(VLOOKUP($B41,[1]NUM1!$G$3:$T$99,8,FALSE),0) -> 0 | L41: =IFERROR(VLOOKUP($B41,[1]NUM1!$G$3:$T$99,9,FALSE),0) -> 0 | M41: =IFERROR(VLOOKUP($B41,[1]NUM1!$G$3:$T$99,10,FALSE),0) -> 0 | N41: =IFERROR(VLOOKUP($B41,[1]NUM1!$G$3:$T$99,11,FALSE),0) -> 0 | O41: =IFERROR(VLOOKUP($B41,[1]NUM1!$G$3:$T$99,12,FALSE),0) -> 0 | P41: =IFERROR(VLOOKUP($B41,[1]NUM1!$G$3:$T$99,13,FALSE),0) -> 0 | Q41: =SUM(E41:P41) -> 0 | R41: =IFERROR(VLOOKUP($B41,[1]DEN1!$G$3:$T$102,2,FALSE),0) -> 0 | S41: =IFERROR(VLOOKUP($B41,[1]DEN1!$G$3:$T$102,3,FALSE),0) -> 0 | T41: =IFERROR(VLOOKUP($B41,[1]DEN1!$G$3:$T$102,4,FALSE),0) -> 1 | U41: =IFERROR(VLOOKUP($B41,[1]DEN1!$G$3:$T$102,5,FALSE),0) -> 0 | V41: =IFERROR(VLOOKUP($B41,[1]DEN1!$G$3:$T$102,6,FALSE),0) -> 0 | W41: =IFERROR(VLOOKUP($B41,[1]DEN1!$G$3:$T$102,7,FALSE),0) -> 0 | X41: =IFERROR(VLOOKUP($B41,[1]DEN1!$G$3:$T$102,8,FALSE),0) -> 0 | Y41: =IFERROR(VLOOKUP($B41,[1]DEN1!$G$3:$T$102,9,FALSE),0) -> 0 | Z41: =IFERROR(VLOOKUP($B41,[1]DEN1!$G$3:$T$102,10,FALSE),0) -> 0 | AA41: =IFERROR(VLOOKUP($B41,[1]DEN1!$G$3:$T$102,11,FALSE),0) -> 0 | AB41: =IFERROR(VLOOKUP($B41,[1]DEN1!$G$3:$T$102,12,FALSE),0) -> 0 | AC41: =IFERROR(VLOOKUP($B41,[1]DEN1!$G$3:$T$102,13,FALSE),0) -> 0 | AD41: =SUM(R41:AC41) -> 1
A42: 04104-LA HIGUERA | B42: 105500-P.S.R. CALETA HORNOS | E42: =IFERROR(VLOOKUP($B42,[1]NUM1!$G$3:$T$99,2,FALSE),0) -> 0 | F42: =IFERROR(VLOOKUP($B42,[1]NUM1!$G$3:$T$99,3,FALSE),0) -> 0 | G42: =IFERROR(VLOOKUP($B42,[1]NUM1!$G$3:$T$99,4,FALSE),0) -> 0 | H42: =IFERROR(VLOOKUP($B42,[1]NUM1!$G$3:$T$99,5,FALSE),0) -> 0 | I42: =IFERROR(VLOOKUP($B42,[1]NUM1!$G$3:$T$99,6,FALSE),0) -> 0 | J42: =IFERROR(VLOOKUP($B42,[1]NUM1!$G$3:$T$99,7,FALSE),0) -> 0 | K42: =IFERROR(VLOOKUP($B42,[1]NUM1!$G$3:$T$99,8,FALSE),0) -> 0 | L42: =IFERROR(VLOOKUP($B42,[1]NUM1!$G$3:$T$99,9,FALSE),0) -> 0 | M42: =IFERROR(VLOOKUP($B42,[1]NUM1!$G$3:$T$99,10,FALSE),0) -> 0 | N42: =IFERROR(VLOOKUP($B42,[1]NUM1!$G$3:$T$99,11,FALSE),0) -> 0 | O42: =IFERROR(VLOOKUP($B42,[1]NUM1!$G$3:$T$99,12,FALSE),0) -> 0 | P42: =IFERROR(VLOOKUP($B42,[1]NUM1!$G$3:$T$99,13,FALSE),0) -> 0 | Q42: =SUM(E42:P42) -> 0 | R42: =IFERROR(VLOOKUP($B42,[1]DEN1!$G$3:$T$102,2,FALSE),0) -> 0 | S42: =IFERROR(VLOOKUP($B42,[1]DEN1!$G$3:$T$102,3,FALSE),0) -> 0 | T42: =IFERROR(VLOOKUP($B42,[1]DEN1!$G$3:$T$102,4,FALSE),0) -> 0 | U42: =IFERROR(VLOOKUP($B42,[1]DEN1!$G$3:$T$102,5,FALSE),0) -> 0 | V42: =IFERROR(VLOOKUP($B42,[1]DEN1!$G$3:$T$102,6,FALSE),0) -> 0 | W42: =IFERROR(VLOOKUP($B42,[1]DEN1!$G$3:$T$102,7,FALSE),0) -> 0 | X42: =IFERROR(VLOOKUP($B42,[1]DEN1!$G$3:$T$102,8,FALSE),0) -> 0 | Y42: =IFERROR(VLOOKUP($B42,[1]DEN1!$G$3:$T$102,9,FALSE),0) -> 0 | Z42: =IFERROR(VLOOKUP($B42,[1]DEN1!$G$3:$T$102,10,FALSE),0) -> 0 | AA42: =IFERROR(VLOOKUP($B42,[1]DEN1!$G$3:$T$102,11,FALSE),0) -> 0 | AB42: =IFERROR(VLOOKUP($B42,[1]DEN1!$G$3:$T$102,12,FALSE),0) -> 0 | AC42: =IFERROR(VLOOKUP($B42,[1]DEN1!$G$3:$T$102,13,FALSE),0) -> 0 | AD42: =SUM(R42:AC42) -> 0
A43: 04104-LA HIGUERA | B43: 105505-P.S.R. LOS CHOROS | E43: =IFERROR(VLOOKUP($B43,[1]NUM1!$G$3:$T$99,2,FALSE),0) -> 0 | F43: =IFERROR(VLOOKUP($B43,[1]NUM1!$G$3:$T$99,3,FALSE),0) -> 0 | G43: =IFERROR(VLOOKUP($B43,[1]NUM1!$G$3:$T$99,4,FALSE),0) -> 0 | H43: =IFERROR(VLOOKUP($B43,[1]NUM1!$G$3:$T$99,5,FALSE),0) -> 0 | I43: =IFERROR(VLOOKUP($B43,[1]NUM1!$G$3:$T$99,6,FALSE),0) -> 0 | J43: =IFERROR(VLOOKUP($B43,[1]NUM1!$G$3:$T$99,7,FALSE),0) -> 0 | K43: =IFERROR(VLOOKUP($B43,[1]NUM1!$G$3:$T$99,8,FALSE),0) -> 0 | L43: =IFERROR(VLOOKUP($B43,[1]NUM1!$G$3:$T$99,9,FALSE),0) -> 0 | M43: =IFERROR(VLOOKUP($B43,[1]NUM1!$G$3:$T$99,10,FALSE),0) -> 0 | N43: =IFERROR(VLOOKUP($B43,[1]NUM1!$G$3:$T$99,11,FALSE),0) -> 0 | O43: =IFERROR(VLOOKUP($B43,[1]NUM1!$G$3:$T$99,12,FALSE),0) -> 0 | P43: =IFERROR(VLOOKUP($B43,[1]NUM1!$G$3:$T$99,13,FALSE),0) -> 0 | Q43: =SUM(E43:P43) -> 0 | R43: =IFERROR(VLOOKUP($B43,[1]DEN1!$G$3:$T$102,2,FALSE),0) -> 0 | S43: =IFERROR(VLOOKUP($B43,[1]DEN1!$G$3:$T$102,3,FALSE),0) -> 0 | T43: =IFERROR(VLOOKUP($B43,[1]DEN1!$G$3:$T$102,4,FALSE),0) -> 0 | U43: =IFERROR(VLOOKUP($B43,[1]DEN1!$G$3:$T$102,5,FALSE),0) -> 0 | V43: =IFERROR(VLOOKUP($B43,[1]DEN1!$G$3:$T$102,6,FALSE),0) -> 0 | W43: =IFERROR(VLOOKUP($B43,[1]DEN1!$G$3:$T$102,7,FALSE),0) -> 0 | X43: =IFERROR(VLOOKUP($B43,[1]DEN1!$G$3:$T$102,8,FALSE),0) -> 0 | Y43: =IFERROR(VLOOKUP($B43,[1]DEN1!$G$3:$T$102,9,FALSE),0) -> 0 | Z43: =IFERROR(VLOOKUP($B43,[1]DEN1!$G$3:$T$102,10,FALSE),0) -> 0 | AA43: =IFERROR(VLOOKUP($B43,[1]DEN1!$G$3:$T$102,11,FALSE),0) -> 0 | AB43: =IFERROR(VLOOKUP($B43,[1]DEN1!$G$3:$T$102,12,FALSE),0) -> 0 | AC43: =IFERROR(VLOOKUP($B43,[1]DEN1!$G$3:$T$102,13,FALSE),0) -> 0 | AD43: =SUM(R43:AC43) -> 0
A44: 04104-LA HIGUERA | B44: 105506-P.S.R. EL TRAPICHE | E44: =IFERROR(VLOOKUP($B44,[1]NUM1!$G$3:$T$99,2,FALSE),0) -> 0 | F44: =IFERROR(VLOOKUP($B44,[1]NUM1!$G$3:$T$99,3,FALSE),0) -> 0 | G44: =IFERROR(VLOOKUP($B44,[1]NUM1!$G$3:$T$99,4,FALSE),0) -> 0 | H44: =IFERROR(VLOOKUP($B44,[1]NUM1!$G$3:$T$99,5,FALSE),0) -> 0 | I44: =IFERROR(VLOOKUP($B44,[1]NUM1!$G$3:$T$99,6,FALSE),0) -> 0 | J44: =IFERROR(VLOOKUP($B44,[1]NUM1!$G$3:$T$99,7,FALSE),0) -> 0 | K44: =IFERROR(VLOOKUP($B44,[1]NUM1!$G$3:$T$99,8,FALSE),0) -> 0 | L44: =IFERROR(VLOOKUP($B44,[1]NUM1!$G$3:$T$99,9,FALSE),0) -> 0 | M44: =IFERROR(VLOOKUP($B44,[1]NUM1!$G$3:$T$99,10,FALSE),0) -> 0 | N44: =IFERROR(VLOOKUP($B44,[1]NUM1!$G$3:$T$99,11,FALSE),0) -> 0 | O44: =IFERROR(VLOOKUP($B44,[1]NUM1!$G$3:$T$99,12,FALSE),0) -> 0 | P44: =IFERROR(VLOOKUP($B44,[1]NUM1!$G$3:$T$99,13,FALSE),0) -> 0 | Q44: =SUM(E44:P44) -> 0 | R44: =IFERROR(VLOOKUP($B44,[1]DEN1!$G$3:$T$102,2,FALSE),0) -> 0 | S44: =IFERROR(VLOOKUP($B44,[1]DEN1!$G$3:$T$102,3,FALSE),0) -> 0 | T44: =IFERROR(VLOOKUP($B44,[1]DEN1!$G$3:$T$102,4,FALSE),0) -> 0 | U44: =IFERROR(VLOOKUP($B44,[1]DEN1!$G$3:$T$102,5,FALSE),0) -> 0 | V44: =IFERROR(VLOOKUP($B44,[1]DEN1!$G$3:$T$102,6,FALSE),0) -> 0 | W44: =IFERROR(VLOOKUP($B44,[1]DEN1!$G$3:$T$102,7,FALSE),0) -> 0 | X44: =IFERROR(VLOOKUP($B44,[1]DEN1!$G$3:$T$102,8,FALSE),0) -> 0 | Y44: =IFERROR(VLOOKUP($B44,[1]DEN1!$G$3:$T$102,9,FALSE),0) -> 0 | Z44: =IFERROR(VLOOKUP($B44,[1]DEN1!$G$3:$T$102,10,FALSE),0) -> 0 | AA44: =IFERROR(VLOOKUP($B44,[1]DEN1!$G$3:$T$102,11,FALSE),0) -> 0 | AB44: =IFERROR(VLOOKUP($B44,[1]DEN1!$G$3:$T$102,12,FALSE),0) -> 0 | AC44: =IFERROR(VLOOKUP($B44,[1]DEN1!$G$3:$T$102,13,FALSE),0) -> 0 | AD44: =SUM(R44:AC44) -> 0
A45: TOTAL LA HIGUERA | C45: =D45/'Metas Muni'!G7 -> 0 | D45: =Q45/AD45 -> 0 | E45: =SUM(E41:E44) -> 0 | F45: =SUM(F41:F44) -> 0 | G45: =SUM(G41:G44) -> 0 | H45: =SUM(H41:H44) -> 0 | I45: =SUM(I41:I44) -> 0 | J45: =SUM(J41:J44) -> 0 | K45: =SUM(K41:K44) -> 0 | L45: =SUM(L41:L44) -> 0 | ... AD45: =SUM(AD41:AD44) -> 1
A46: 04105-PAIHUANO | B46: 105306-CES. PAIHUANO | E46: =IFERROR(VLOOKUP($B46,[1]NUM1!$G$3:$T$99,2,FALSE),0) -> 0 | F46: =IFERROR(VLOOKUP($B46,[1]NUM1!$G$3:$T$99,3,FALSE),0) -> 0 | G46: =IFERROR(VLOOKUP($B46,[1]NUM1!$G$3:$T$99,4,FALSE),0) -> 0 | H46: =IFERROR(VLOOKUP($B46,[1]NUM1!$G$3:$T$99,5,FALSE),0) -> 0 | I46: =IFERROR(VLOOKUP($B46,[1]NUM1!$G$3:$T$99,6,FALSE),0) -> 0 | J46: =IFERROR(VLOOKUP($B46,[1]NUM1!$G$3:$T$99,7,FALSE),0) -> 0 | K46: =IFERROR(VLOOKUP($B46,[1]NUM1!$G$3:$T$99,8,FALSE),0) -> 0 | L46: =IFERROR(VLOOKUP($B46,[1]NUM1!$G$3:$T$99,9,FALSE),0) -> 1 | M46: =IFERROR(VLOOKUP($B46,[1]NUM1!$G$3:$T$99,10,FALSE),0) -> 0 | N46: =IFERROR(VLOOKUP($B46,[1]NUM1!$G$3:$T$99,11,FALSE),0) -> 0 | O46: =IFERROR(VLOOKUP($B46,[1]NUM1!$G$3:$T$99,12,FALSE),0) -> 0 | P46: =IFERROR(VLOOKUP($B46,[1]NUM1!$G$3:$T$99,13,FALSE),0) -> 0 | Q46: =SUM(E46:P46) -> 1 | R46: =IFERROR(VLOOKUP($B46,[1]DEN1!$G$3:$T$102,2,FALSE),0) -> 0 | S46: =IFERROR(VLOOKUP($B46,[1]DEN1!$G$3:$T$102,3,FALSE),0) -> 0 | T46: =IFERROR(VLOOKUP($B46,[1]DEN1!$G$3:$T$102,4,FALSE),0) -> 0 | U46: =IFERROR(VLOOKUP($B46,[1]DEN1!$G$3:$T$102,5,FALSE),0) -> 1 | V46: =IFERROR(VLOOKUP($B46,[1]DEN1!$G$3:$T$102,6,FALSE),0) -> 0 | W46: =IFERROR(VLOOKUP($B46,[1]DEN1!$G$3:$T$102,7,FALSE),0) -> 0 | X46: =IFERROR(VLOOKUP($B46,[1]DEN1!$G$3:$T$102,8,FALSE),0) -> 0 | Y46: =IFERROR(VLOOKUP($B46,[1]DEN1!$G$3:$T$102,9,FALSE),0) -> 0 | Z46: =IFERROR(VLOOKUP($B46,[1]DEN1!$G$3:$T$102,10,FALSE),0) -> 0 | AA46: =IFERROR(VLOOKUP($B46,[1]DEN1!$G$3:$T$102,11,FALSE),0) -> 0 | AB46: =IFERROR(VLOOKUP($B46,[1]DEN1!$G$3:$T$102,12,FALSE),0) -> 0 | AC46: =IFERROR(VLOOKUP($B46,[1]DEN1!$G$3:$T$102,13,FALSE),0) -> 0 | AD46: =SUM(R46:AC46) -> 1
A47: 04105-PAIHUANO | B47: 105475-P.S.R. HORCON | E47: =IFERROR(VLOOKUP($B47,[1]NUM1!$G$3:$T$99,2,FALSE),0) -> 0 | F47: =IFERROR(VLOOKUP($B47,[1]NUM1!$G$3:$T$99,3,FALSE),0) -> 0 | G47: =IFERROR(VLOOKUP($B47,[1]NUM1!$G$3:$T$99,4,FALSE),0) -> 0 | H47: =IFERROR(VLOOKUP($B47,[1]NUM1!$G$3:$T$99,5,FALSE),0) -> 0 | I47: =IFERROR(VLOOKUP($B47,[1]NUM1!$G$3:$T$99,6,FALSE),0) -> 0 | J47: =IFERROR(VLOOKUP($B47,[1]NUM1!$G$3:$T$99,7,FALSE),0) -> 0 | K47: =IFERROR(VLOOKUP($B47,[1]NUM1!$G$3:$T$99,8,FALSE),0) -> 0 | L47: =IFERROR(VLOOKUP($B47,[1]NUM1!$G$3:$T$99,9,FALSE),0) -> 0 | M47: =IFERROR(VLOOKUP($B47,[1]NUM1!$G$3:$T$99,10,FALSE),0) -> 0 | N47: =IFERROR(VLOOKUP($B47,[1]NUM1!$G$3:$T$99,11,FALSE),0) -> 0 | O47: =IFERROR(VLOOKUP($B47,[1]NUM1!$G$3:$T$99,12,FALSE),0) -> 0 | P47: =IFERROR(VLOOKUP($B47,[1]NUM1!$G$3:$T$99,13,FALSE),0) -> 0 | Q47: =SUM(E47:P47) -> 0 | R47: =IFERROR(VLOOKUP($B47,[1]DEN1!$G$3:$T$102,2,FALSE),0) -> 0 | S47: =IFERROR(VLOOKUP($B47,[1]DEN1!$G$3:$T$102,3,FALSE),0) -> 0 | T47: =IFERROR(VLOOKUP($B47,[1]DEN1!$G$3:$T$102,4,FALSE),0) -> 0 | U47: =IFERROR(VLOOKUP($B47,[1]DEN1!$G$3:$T$102,5,FALSE),0) -> 0 | V47: =IFERROR(VLOOKUP($B47,[1]DEN1!$G$3:$T$102,6,FALSE),0) -> 0 | W47: =IFERROR(VLOOKUP($B47,[1]DEN1!$G$3:$T$102,7,FALSE),0) -> 0 | X47: =IFERROR(VLOOKUP($B47,[1]DEN1!$G$3:$T$102,8,FALSE),0) -> 0 | Y47: =IFERROR(VLOOKUP($B47,[1]DEN1!$G$3:$T$102,9,FALSE),0) -> 0 | Z47: =IFERROR(VLOOKUP($B47,[1]DEN1!$G$3:$T$102,10,FALSE),0) -> 0 | AA47: =IFERROR(VLOOKUP($B47,[1]DEN1!$G$3:$T$102,11,FALSE),0) -> 0 | AB47: =IFERROR(VLOOKUP($B47,[1]DEN1!$G$3:$T$102,12,FALSE),0) -> 0 | AC47: =IFERROR(VLOOKUP($B47,[1]DEN1!$G$3:$T$102,13,FALSE),0) -> 0 | AD47: =SUM(R47:AC47) -> 0
A48: 04105-PAIHUANO | B48: 105476-P.S.R. MONTE GRANDE | E48: =IFERROR(VLOOKUP($B48,[1]NUM1!$G$3:$T$99,2,FALSE),0) -> 0 | F48: =IFERROR(VLOOKUP($B48,[1]NUM1!$G$3:$T$99,3,FALSE),0) -> 0 | G48: =IFERROR(VLOOKUP($B48,[1]NUM1!$G$3:$T$99,4,FALSE),0) -> 0 | H48: =IFERROR(VLOOKUP($B48,[1]NUM1!$G$3:$T$99,5,FALSE),0) -> 0 | I48: =IFERROR(VLOOKUP($B48,[1]NUM1!$G$3:$T$99,6,FALSE),0) -> 0 | J48: =IFERROR(VLOOKUP($B48,[1]NUM1!$G$3:$T$99,7,FALSE),0) -> 0 | K48: =IFERROR(VLOOKUP($B48,[1]NUM1!$G$3:$T$99,8,FALSE),0) -> 0 | L48: =IFERROR(VLOOKUP($B48,[1]NUM1!$G$3:$T$99,9,FALSE),0) -> 0 | M48: =IFERROR(VLOOKUP($B48,[1]NUM1!$G$3:$T$99,10,FALSE),0) -> 0 | N48: =IFERROR(VLOOKUP($B48,[1]NUM1!$G$3:$T$99,11,FALSE),0) -> 0 | O48: =IFERROR(VLOOKUP($B48,[1]NUM1!$G$3:$T$99,12,FALSE),0) -> 0 | P48: =IFERROR(VLOOKUP($B48,[1]NUM1!$G$3:$T$99,13,FALSE),0) -> 0 | Q48: =SUM(E48:P48) -> 0 | R48: =IFERROR(VLOOKUP($B48,[1]DEN1!$G$3:$T$102,2,FALSE),0) -> 0 | S48: =IFERROR(VLOOKUP($B48,[1]DEN1!$G$3:$T$102,3,FALSE),0) -> 0 | T48: =IFERROR(VLOOKUP($B48,[1]DEN1!$G$3:$T$102,4,FALSE),0) -> 0 | U48: =IFERROR(VLOOKUP($B48,[1]DEN1!$G$3:$T$102,5,FALSE),0) -> 0 | V48: =IFERROR(VLOOKUP($B48,[1]DEN1!$G$3:$T$102,6,FALSE),0) -> 0 | W48: =IFERROR(VLOOKUP($B48,[1]DEN1!$G$3:$T$102,7,FALSE),0) -> 0 | X48: =IFERROR(VLOOKUP($B48,[1]DEN1!$G$3:$T$102,8,FALSE),0) -> 0 | Y48: =IFERROR(VLOOKUP($B48,[1]DEN1!$G$3:$T$102,9,FALSE),0) -> 0 | Z48: =IFERROR(VLOOKUP($B48,[1]DEN1!$G$3:$T$102,10,FALSE),0) -> 0 | AA48: =IFERROR(VLOOKUP($B48,[1]DEN1!$G$3:$T$102,11,FALSE),0) -> 0 | AB48: =IFERROR(VLOOKUP($B48,[1]DEN1!$G$3:$T$102,12,FALSE),0) -> 0 | AC48: =IFERROR(VLOOKUP($B48,[1]DEN1!$G$3:$T$102,13,FALSE),0) -> 0 | AD48: =SUM(R48:AC48) -> 0
A49: 04105-PAIHUANO | B49: 105477-P.S.R. PISCO ELQUI | E49: =IFERROR(VLOOKUP($B49,[1]NUM1!$G$3:$T$99,2,FALSE),0) -> 0 | F49: =IFERROR(VLOOKUP($B49,[1]NUM1!$G$3:$T$99,3,FALSE),0) -> 0 | G49: =IFERROR(VLOOKUP($B49,[1]NUM1!$G$3:$T$99,4,FALSE),0) -> 0 | H49: =IFERROR(VLOOKUP($B49,[1]NUM1!$G$3:$T$99,5,FALSE),0) -> 0 | I49: =IFERROR(VLOOKUP($B49,[1]NUM1!$G$3:$T$99,6,FALSE),0) -> 0 | J49: =IFERROR(VLOOKUP($B49,[1]NUM1!$G$3:$T$99,7,FALSE),0) -> 0 | K49: =IFERROR(VLOOKUP($B49,[1]NUM1!$G$3:$T$99,8,FALSE),0) -> 0 | L49: =IFERROR(VLOOKUP($B49,[1]NUM1!$G$3:$T$99,9,FALSE),0) -> 0 | M49: =IFERROR(VLOOKUP($B49,[1]NUM1!$G$3:$T$99,10,FALSE),0) -> 0 | N49: =IFERROR(VLOOKUP($B49,[1]NUM1!$G$3:$T$99,11,FALSE),0) -> 0 | O49: =IFERROR(VLOOKUP($B49,[1]NUM1!$G$3:$T$99,12,FALSE),0) -> 0 | P49: =IFERROR(VLOOKUP($B49,[1]NUM1!$G$3:$T$99,13,FALSE),0) -> 0 | Q49: =SUM(E49:P49) -> 0 | R49: =IFERROR(VLOOKUP($B49,[1]DEN1!$G$3:$T$102,2,FALSE),0) -> 0 | S49: =IFERROR(VLOOKUP($B49,[1]DEN1!$G$3:$T$102,3,FALSE),0) -> 0 | T49: =IFERROR(VLOOKUP($B49,[1]DEN1!$G$3:$T$102,4,FALSE),0) -> 0 | U49: =IFERROR(VLOOKUP($B49,[1]DEN1!$G$3:$T$102,5,FALSE),0) -> 0 | V49: =IFERROR(VLOOKUP($B49,[1]DEN1!$G$3:$T$102,6,FALSE),0) -> 0 | W49: =IFERROR(VLOOKUP($B49,[1]DEN1!$G$3:$T$102,7,FALSE),0) -> 0 | X49: =IFERROR(VLOOKUP($B49,[1]DEN1!$G$3:$T$102,8,FALSE),0) -> 0 | Y49: =IFERROR(VLOOKUP($B49,[1]DEN1!$G$3:$T$102,9,FALSE),0) -> 0 | Z49: =IFERROR(VLOOKUP($B49,[1]DEN1!$G$3:$T$102,10,FALSE),0) -> 0 | AA49: =IFERROR(VLOOKUP($B49,[1]DEN1!$G$3:$T$102,11,FALSE),0) -> 0 | AB49: =IFERROR(VLOOKUP($B49,[1]DEN1!$G$3:$T$102,12,FALSE),0) -> 0 | AC49: =IFERROR(VLOOKUP($B49,[1]DEN1!$G$3:$T$102,13,FALSE),0) -> 0 | AD49: =SUM(R49:AC49) -> 0
A50: TOTAL PAIHUANO | C50: =D50/'Metas Muni'!G8 -> 1.1111111 | D50: =Q50/AD50 -> 1 | E50: =SUM(E46:E49) -> 0 | F50: =SUM(F46:F49) -> 0 | G50: =SUM(G46:G49) -> 0 | H50: =SUM(H46:H49) -> 0 | I50: =SUM(I46:I49) -> 0 | J50: =SUM(J46:J49) -> 0 | K50: =SUM(K46:K49) -> 0 | L50: =SUM(L46:L49) -> 1 | ... AD50: =SUM(AD46:AD49) -> 1
A51: 04106-VICUÑA | B51: 105467-P.S.R. DIAGUITAS | E51: =IFERROR(VLOOKUP($B51,[1]NUM1!$G$3:$T$99,2,FALSE),0) -> 0 | F51: =IFERROR(VLOOKUP($B51,[1]NUM1!$G$3:$T$99,3,FALSE),0) -> 0 | G51: =IFERROR(VLOOKUP($B51,[1]NUM1!$G$3:$T$99,4,FALSE),0) -> 0 | H51: =IFERROR(VLOOKUP($B51,[1]NUM1!$G$3:$T$99,5,FALSE),0) -> 0 | I51: =IFERROR(VLOOKUP($B51,[1]NUM1!$G$3:$T$99,6,FALSE),0) -> 0 | J51: =IFERROR(VLOOKUP($B51,[1]NUM1!$G$3:$T$99,7,FALSE),0) -> 0 | K51: =IFERROR(VLOOKUP($B51,[1]NUM1!$G$3:$T$99,8,FALSE),0) -> 0 | L51: =IFERROR(VLOOKUP($B51,[1]NUM1!$G$3:$T$99,9,FALSE),0) -> 0 | M51: =IFERROR(VLOOKUP($B51,[1]NUM1!$G$3:$T$99,10,FALSE),0) -> 0 | N51: =IFERROR(VLOOKUP($B51,[1]NUM1!$G$3:$T$99,11,FALSE),0) -> 0 | O51: =IFERROR(VLOOKUP($B51,[1]NUM1!$G$3:$T$99,12,FALSE),0) -> 0 | P51: =IFERROR(VLOOKUP($B51,[1]NUM1!$G$3:$T$99,13,FALSE),0) -> 0 | Q51: =SUM(E51:P51) -> 0 | R51: =IFERROR(VLOOKUP($B51,[1]DEN1!$G$3:$T$102,2,FALSE),0) -> 0 | S51: =IFERROR(VLOOKUP($B51,[1]DEN1!$G$3:$T$102,3,FALSE),0) -> 0 | T51: =IFERROR(VLOOKUP($B51,[1]DEN1!$G$3:$T$102,4,FALSE),0) -> 0 | U51: =IFERROR(VLOOKUP($B51,[1]DEN1!$G$3:$T$102,5,FALSE),0) -> 0 | V51: =IFERROR(VLOOKUP($B51,[1]DEN1!$G$3:$T$102,6,FALSE),0) -> 0 | W51: =IFERROR(VLOOKUP($B51,[1]DEN1!$G$3:$T$102,7,FALSE),0) -> 0 | X51: =IFERROR(VLOOKUP($B51,[1]DEN1!$G$3:$T$102,8,FALSE),0) -> 0 | Y51: =IFERROR(VLOOKUP($B51,[1]DEN1!$G$3:$T$102,9,FALSE),0) -> 0 | Z51: =IFERROR(VLOOKUP($B51,[1]DEN1!$G$3:$T$102,10,FALSE),0) -> 0 | AA51: =IFERROR(VLOOKUP($B51,[1]DEN1!$G$3:$T$102,11,FALSE),0) -> 0 | AB51: =IFERROR(VLOOKUP($B51,[1]DEN1!$G$3:$T$102,12,FALSE),0) -> 0 | AC51: =IFERROR(VLOOKUP($B51,[1]DEN1!$G$3:$T$102,13,FALSE),0) -> 0 | AD51: =SUM(R51:AC51) -> 0
A52: 04106-VICUÑA | B52: 105468-P.S.R. EL MOLLE | E52: =IFERROR(VLOOKUP($B52,[1]NUM1!$G$3:$T$99,2,FALSE),0) -> 0 | F52: =IFERROR(VLOOKUP($B52,[1]NUM1!$G$3:$T$99,3,FALSE),0) -> 0 | G52: =IFERROR(VLOOKUP($B52,[1]NUM1!$G$3:$T$99,4,FALSE),0) -> 0 | H52: =IFERROR(VLOOKUP($B52,[1]NUM1!$G$3:$T$99,5,FALSE),0) -> 0 | I52: =IFERROR(VLOOKUP($B52,[1]NUM1!$G$3:$T$99,6,FALSE),0) -> 0 | J52: =IFERROR(VLOOKUP($B52,[1]NUM1!$G$3:$T$99,7,FALSE),0) -> 1 | K52: =IFERROR(VLOOKUP($B52,[1]NUM1!$G$3:$T$99,8,FALSE),0) -> 0 | L52: =IFERROR(VLOOKUP($B52,[1]NUM1!$G$3:$T$99,9,FALSE),0) -> 0 | M52: =IFERROR(VLOOKUP($B52,[1]NUM1!$G$3:$T$99,10,FALSE),0) -> 0 | N52: =IFERROR(VLOOKUP($B52,[1]NUM1!$G$3:$T$99,11,FALSE),0) -> 0 | O52: =IFERROR(VLOOKUP($B52,[1]NUM1!$G$3:$T$99,12,FALSE),0) -> 0 | P52: =IFERROR(VLOOKUP($B52,[1]NUM1!$G$3:$T$99,13,FALSE),0) -> 0 | Q52: =SUM(E52:P52) -> 1 | R52: =IFERROR(VLOOKUP($B52,[1]DEN1!$G$3:$T$102,2,FALSE),0) -> 0 | S52: =IFERROR(VLOOKUP($B52,[1]DEN1!$G$3:$T$102,3,FALSE),0) -> 0 | T52: =IFERROR(VLOOKUP($B52,[1]DEN1!$G$3:$T$102,4,FALSE),0) -> 1 | U52: =IFERROR(VLOOKUP($B52,[1]DEN1!$G$3:$T$102,5,FALSE),0) -> 0 | V52: =IFERROR(VLOOKUP($B52,[1]DEN1!$G$3:$T$102,6,FALSE),0) -> 0 | W52: =IFERROR(VLOOKUP($B52,[1]DEN1!$G$3:$T$102,7,FALSE),0) -> 0 | X52: =IFERROR(VLOOKUP($B52,[1]DEN1!$G$3:$T$102,8,FALSE),0) -> 0 | Y52: =IFERROR(VLOOKUP($B52,[1]DEN1!$G$3:$T$102,9,FALSE),0) -> 0 | Z52: =IFERROR(VLOOKUP($B52,[1]DEN1!$G$3:$T$102,10,FALSE),0) -> 0 | AA52: =IFERROR(VLOOKUP($B52,[1]DEN1!$G$3:$T$102,11,FALSE),0) -> 0 | AB52: =IFERROR(VLOOKUP($B52,[1]DEN1!$G$3:$T$102,12,FALSE),0) -> 0 | AC52: =IFERROR(VLOOKUP($B52,[1]DEN1!$G$3:$T$102,13,FALSE),0) -> 0 | AD52: =SUM(R52:AC52) -> 1
A53: 04106-VICUÑA | B53: 105469-P.S.R. EL TAMBO | E53: =IFERROR(VLOOKUP($B53,[1]NUM1!$G$3:$T$99,2,FALSE),0) -> 0 | F53: =IFERROR(VLOOKUP($B53,[1]NUM1!$G$3:$T$99,3,FALSE),0) -> 0 | G53: =IFERROR(VLOOKUP($B53,[1]NUM1!$G$3:$T$99,4,FALSE),0) -> 0 | H53: =IFERROR(VLOOKUP($B53,[1]NUM1!$G$3:$T$99,5,FALSE),0) -> 0 | I53: =IFERROR(VLOOKUP($B53,[1]NUM1!$G$3:$T$99,6,FALSE),0) -> 0 | J53: =IFERROR(VLOOKUP($B53,[1]NUM1!$G$3:$T$99,7,FALSE),0) -> 0 | K53: =IFERROR(VLOOKUP($B53,[1]NUM1!$G$3:$T$99,8,FALSE),0) -> 0 | L53: =IFERROR(VLOOKUP($B53,[1]NUM1!$G$3:$T$99,9,FALSE),0) -> 0 | M53: =IFERROR(VLOOKUP($B53,[1]NUM1!$G$3:$T$99,10,FALSE),0) -> 0 | N53: =IFERROR(VLOOKUP($B53,[1]NUM1!$G$3:$T$99,11,FALSE),0) -> 0 | O53: =IFERROR(VLOOKUP($B53,[1]NUM1!$G$3:$T$99,12,FALSE),0) -> 0 | P53: =IFERROR(VLOOKUP($B53,[1]NUM1!$G$3:$T$99,13,FALSE),0) -> 2 | Q53: =SUM(E53:P53) -> 2 | R53: =IFERROR(VLOOKUP($B53,[1]DEN1!$G$3:$T$102,2,FALSE),0) -> 0 | S53: =IFERROR(VLOOKUP($B53,[1]DEN1!$G$3:$T$102,3,FALSE),0) -> 0 | T53: =IFERROR(VLOOKUP($B53,[1]DEN1!$G$3:$T$102,4,FALSE),0) -> 0 | U53: =IFERROR(VLOOKUP($B53,[1]DEN1!$G$3:$T$102,5,FALSE),0) -> 0 | V53: =IFERROR(VLOOKUP($B53,[1]DEN1!$G$3:$T$102,6,FALSE),0) -> 0 | W53: =IFERROR(VLOOKUP($B53,[1]DEN1!$G$3:$T$102,7,FALSE),0) -> 0 | X53: =IFERROR(VLOOKUP($B53,[1]DEN1!$G$3:$T$102,8,FALSE),0) -> 1 | Y53: =IFERROR(VLOOKUP($B53,[1]DEN1!$G$3:$T$102,9,FALSE),0) -> 0 | Z53: =IFERROR(VLOOKUP($B53,[1]DEN1!$G$3:$T$102,10,FALSE),0) -> 1 | AA53: =IFERROR(VLOOKUP($B53,[1]DEN1!$G$3:$T$102,11,FALSE),0) -> 0 | AB53: =IFERROR(VLOOKUP($B53,[1]DEN1!$G$3:$T$102,12,FALSE),0) -> 0 | AC53: =IFERROR(VLOOKUP($B53,[1]DEN1!$G$3:$T$102,13,FALSE),0) -> 0 | AD53: =SUM(R53:AC53) -> 2
A54: 04106-VICUÑA | B54: 105470-P.S.R. HUANTA | E54: =IFERROR(VLOOKUP($B54,[1]NUM1!$G$3:$T$99,2,FALSE),0) -> 0 | F54: =IFERROR(VLOOKUP($B54,[1]NUM1!$G$3:$T$99,3,FALSE),0) -> 0 | G54: =IFERROR(VLOOKUP($B54,[1]NUM1!$G$3:$T$99,4,FALSE),0) -> 0 | H54: =IFERROR(VLOOKUP($B54,[1]NUM1!$G$3:$T$99,5,FALSE),0) -> 0 | I54: =IFERROR(VLOOKUP($B54,[1]NUM1!$G$3:$T$99,6,FALSE),0) -> 0 | J54: =IFERROR(VLOOKUP($B54,[1]NUM1!$G$3:$T$99,7,FALSE),0) -> 0 | K54: =IFERROR(VLOOKUP($B54,[1]NUM1!$G$3:$T$99,8,FALSE),0) -> 0 | L54: =IFERROR(VLOOKUP($B54,[1]NUM1!$G$3:$T$99,9,FALSE),0) -> 0 | M54: =IFERROR(VLOOKUP($B54,[1]NUM1!$G$3:$T$99,10,FALSE),0) -> 0 | N54: =IFERROR(VLOOKUP($B54,[1]NUM1!$G$3:$T$99,11,FALSE),0) -> 0 | O54: =IFERROR(VLOOKUP($B54,[1]NUM1!$G$3:$T$99,12,FALSE),0) -> 0 | P54: =IFERROR(VLOOKUP($B54,[1]NUM1!$G$3:$T$99,13,FALSE),0) -> 0 | Q54: =SUM(E54:P54) -> 0 | R54: =IFERROR(VLOOKUP($B54,[1]DEN1!$G$3:$T$102,2,FALSE),0) -> 0 | S54: =IFERROR(VLOOKUP($B54,[1]DEN1!$G$3:$T$102,3,FALSE),0) -> 0 | T54: =IFERROR(VLOOKUP($B54,[1]DEN1!$G$3:$T$102,4,FALSE),0) -> 0 | U54: =IFERROR(VLOOKUP($B54,[1]DEN1!$G$3:$T$102,5,FALSE),0) -> 0 | V54: =IFERROR(VLOOKUP($B54,[1]DEN1!$G$3:$T$102,6,FALSE),0) -> 0 | W54: =IFERROR(VLOOKUP($B54,[1]DEN1!$G$3:$T$102,7,FALSE),0) -> 0 | X54: =IFERROR(VLOOKUP($B54,[1]DEN1!$G$3:$T$102,8,FALSE),0) -> 0 | Y54: =IFERROR(VLOOKUP($B54,[1]DEN1!$G$3:$T$102,9,FALSE),0) -> 0 | Z54: =IFERROR(VLOOKUP($B54,[1]DEN1!$G$3:$T$102,10,FALSE),0) -> 0 | AA54: =IFERROR(VLOOKUP($B54,[1]DEN1!$G$3:$T$102,11,FALSE),0) -> 0 | AB54: =IFERROR(VLOOKUP($B54,[1]DEN1!$G$3:$T$102,12,FALSE),0) -> 0 | AC54: =IFERROR(VLOOKUP($B54,[1]DEN1!$G$3:$T$102,13,FALSE),0) -> 0 | AD54: =SUM(R54:AC54) -> 0
A55: 04106-VICUÑA | B55: 105471-P.S.R. PERALILLO | E55: =IFERROR(VLOOKUP($B55,[1]NUM1!$G$3:$T$99,2,FALSE),0) -> 0 | F55: =IFERROR(VLOOKUP($B55,[1]NUM1!$G$3:$T$99,3,FALSE),0) -> 0 | G55: =IFERROR(VLOOKUP($B55,[1]NUM1!$G$3:$T$99,4,FALSE),0) -> 0 | H55: =IFERROR(VLOOKUP($B55,[1]NUM1!$G$3:$T$99,5,FALSE),0) -> 0 | I55: =IFERROR(VLOOKUP($B55,[1]NUM1!$G$3:$T$99,6,FALSE),0) -> 0 | J55: =IFERROR(VLOOKUP($B55,[1]NUM1!$G$3:$T$99,7,FALSE),0) -> 0 | K55: =IFERROR(VLOOKUP($B55,[1]NUM1!$G$3:$T$99,8,FALSE),0) -> 0 | L55: =IFERROR(VLOOKUP($B55,[1]NUM1!$G$3:$T$99,9,FALSE),0) -> 0 | M55: =IFERROR(VLOOKUP($B55,[1]NUM1!$G$3:$T$99,10,FALSE),0) -> 0 | N55: =IFERROR(VLOOKUP($B55,[1]NUM1!$G$3:$T$99,11,FALSE),0) -> 0 | O55: =IFERROR(VLOOKUP($B55,[1]NUM1!$G$3:$T$99,12,FALSE),0) -> 0 | P55: =IFERROR(VLOOKUP($B55,[1]NUM1!$G$3:$T$99,13,FALSE),0) -> 1 | Q55: =SUM(E55:P55) -> 1 | R55: =IFERROR(VLOOKUP($B55,[1]DEN1!$G$3:$T$102,2,FALSE),0) -> 0 | S55: =IFERROR(VLOOKUP($B55,[1]DEN1!$G$3:$T$102,3,FALSE),0) -> 0 | T55: =IFERROR(VLOOKUP($B55,[1]DEN1!$G$3:$T$102,4,FALSE),0) -> 0 | U55: =IFERROR(VLOOKUP($B55,[1]DEN1!$G$3:$T$102,5,FALSE),0) -> 0 | V55: =IFERROR(VLOOKUP($B55,[1]DEN1!$G$3:$T$102,6,FALSE),0) -> 0 | W55: =IFERROR(VLOOKUP($B55,[1]DEN1!$G$3:$T$102,7,FALSE),0) -> 0 | X55: =IFERROR(VLOOKUP($B55,[1]DEN1!$G$3:$T$102,8,FALSE),0) -> 0 | Y55: =IFERROR(VLOOKUP($B55,[1]DEN1!$G$3:$T$102,9,FALSE),0) -> 0 | Z55: =IFERROR(VLOOKUP($B55,[1]DEN1!$G$3:$T$102,10,FALSE),0) -> 1 | AA55: =IFERROR(VLOOKUP($B55,[1]DEN1!$G$3:$T$102,11,FALSE),0) -> 0 | AB55: =IFERROR(VLOOKUP($B55,[1]DEN1!$G$3:$T$102,12,FALSE),0) -> 0 | AC55: =IFERROR(VLOOKUP($B55,[1]DEN1!$G$3:$T$102,13,FALSE),0) -> 0 | AD55: =SUM(R55:AC55) -> 1
A56: 04106-VICUÑA | B56: 105472-P.S.R. RIVADAVIA | E56: =IFERROR(VLOOKUP($B56,[1]NUM1!$G$3:$T$99,2,FALSE),0) -> 0 | F56: =IFERROR(VLOOKUP($B56,[1]NUM1!$G$3:$T$99,3,FALSE),0) -> 0 | G56: =IFERROR(VLOOKUP($B56,[1]NUM1!$G$3:$T$99,4,FALSE),0) -> 0 | H56: =IFERROR(VLOOKUP($B56,[1]NUM1!$G$3:$T$99,5,FALSE),0) -> 0 | I56: =IFERROR(VLOOKUP($B56,[1]NUM1!$G$3:$T$99,6,FALSE),0) -> 0 | J56: =IFERROR(VLOOKUP($B56,[1]NUM1!$G$3:$T$99,7,FALSE),0) -> 0 | K56: =IFERROR(VLOOKUP($B56,[1]NUM1!$G$3:$T$99,8,FALSE),0) -> 0 | L56: =IFERROR(VLOOKUP($B56,[1]NUM1!$G$3:$T$99,9,FALSE),0) -> 0 | M56: =IFERROR(VLOOKUP($B56,[1]NUM1!$G$3:$T$99,10,FALSE),0) -> 0 | N56: =IFERROR(VLOOKUP($B56,[1]NUM1!$G$3:$T$99,11,FALSE),0) -> 0 | O56: =IFERROR(VLOOKUP($B56,[1]NUM1!$G$3:$T$99,12,FALSE),0) -> 0 | P56: =IFERROR(VLOOKUP($B56,[1]NUM1!$G$3:$T$99,13,FALSE),0) -> 0 | Q56: =SUM(E56:P56) -> 0 | R56: =IFERROR(VLOOKUP($B56,[1]DEN1!$G$3:$T$102,2,FALSE),0) -> 0 | S56: =IFERROR(VLOOKUP($B56,[1]DEN1!$G$3:$T$102,3,FALSE),0) -> 0 | T56: =IFERROR(VLOOKUP($B56,[1]DEN1!$G$3:$T$102,4,FALSE),0) -> 0 | U56: =IFERROR(VLOOKUP($B56,[1]DEN1!$G$3:$T$102,5,FALSE),0) -> 0 | V56: =IFERROR(VLOOKUP($B56,[1]DEN1!$G$3:$T$102,6,FALSE),0) -> 0 | W56: =IFERROR(VLOOKUP($B56,[1]DEN1!$G$3:$T$102,7,FALSE),0) -> 0 | X56: =IFERROR(VLOOKUP($B56,[1]DEN1!$G$3:$T$102,8,FALSE),0) -> 0 | Y56: =IFERROR(VLOOKUP($B56,[1]DEN1!$G$3:$T$102,9,FALSE),0) -> 0 | Z56: =IFERROR(VLOOKUP($B56,[1]DEN1!$G$3:$T$102,10,FALSE),0) -> 0 | AA56: =IFERROR(VLOOKUP($B56,[1]DEN1!$G$3:$T$102,11,FALSE),0) -> 0 | AB56: =IFERROR(VLOOKUP($B56,[1]DEN1!$G$3:$T$102,12,FALSE),0) -> 0 | AC56: =IFERROR(VLOOKUP($B56,[1]DEN1!$G$3:$T$102,13,FALSE),0) -> 0 | AD56: =SUM(R56:AC56) -> 0
A57: 04106-VICUÑA | B57: 105473-P.S.R. TALCUNA | E57: =IFERROR(VLOOKUP($B57,[1]NUM1!$G$3:$T$99,2,FALSE),0) -> 0 | F57: =IFERROR(VLOOKUP($B57,[1]NUM1!$G$3:$T$99,3,FALSE),0) -> 0 | G57: =IFERROR(VLOOKUP($B57,[1]NUM1!$G$3:$T$99,4,FALSE),0) -> 0 | H57: =IFERROR(VLOOKUP($B57,[1]NUM1!$G$3:$T$99,5,FALSE),0) -> 0 | I57: =IFERROR(VLOOKUP($B57,[1]NUM1!$G$3:$T$99,6,FALSE),0) -> 0 | J57: =IFERROR(VLOOKUP($B57,[1]NUM1!$G$3:$T$99,7,FALSE),0) -> 0 | K57: =IFERROR(VLOOKUP($B57,[1]NUM1!$G$3:$T$99,8,FALSE),0) -> 0 | L57: =IFERROR(VLOOKUP($B57,[1]NUM1!$G$3:$T$99,9,FALSE),0) -> 0 | M57: =IFERROR(VLOOKUP($B57,[1]NUM1!$G$3:$T$99,10,FALSE),0) -> 0 | N57: =IFERROR(VLOOKUP($B57,[1]NUM1!$G$3:$T$99,11,FALSE),0) -> 0 | O57: =IFERROR(VLOOKUP($B57,[1]NUM1!$G$3:$T$99,12,FALSE),0) -> 0 | P57: =IFERROR(VLOOKUP($B57,[1]NUM1!$G$3:$T$99,13,FALSE),0) -> 0 | Q57: =SUM(E57:P57) -> 0 | R57: =IFERROR(VLOOKUP($B57,[1]DEN1!$G$3:$T$102,2,FALSE),0) -> 0 | S57: =IFERROR(VLOOKUP($B57,[1]DEN1!$G$3:$T$102,3,FALSE),0) -> 0 | T57: =IFERROR(VLOOKUP($B57,[1]DEN1!$G$3:$T$102,4,FALSE),0) -> 0 | U57: =IFERROR(VLOOKUP($B57,[1]DEN1!$G$3:$T$102,5,FALSE),0) -> 0 | V57: =IFERROR(VLOOKUP($B57,[1]DEN1!$G$3:$T$102,6,FALSE),0) -> 0 | W57: =IFERROR(VLOOKUP($B57,[1]DEN1!$G$3:$T$102,7,FALSE),0) -> 0 | X57: =IFERROR(VLOOKUP($B57,[1]DEN1!$G$3:$T$102,8,FALSE),0) -> 0 | Y57: =IFERROR(VLOOKUP($B57,[1]DEN1!$G$3:$T$102,9,FALSE),0) -> 0 | Z57: =IFERROR(VLOOKUP($B57,[1]DEN1!$G$3:$T$102,10,FALSE),0) -> 0 | AA57: =IFERROR(VLOOKUP($B57,[1]DEN1!$G$3:$T$102,11,FALSE),0) -> 0 | AB57: =IFERROR(VLOOKUP($B57,[1]DEN1!$G$3:$T$102,12,FALSE),0) -> 0 | AC57: =IFERROR(VLOOKUP($B57,[1]DEN1!$G$3:$T$102,13,FALSE),0) -> 0 | AD57: =SUM(R57:AC57) -> 0
A58: 04106-VICUÑA | B58: 105474-P.S.R. CHAPILCA | E58: =IFERROR(VLOOKUP($B58,[1]NUM1!$G$3:$T$99,2,FALSE),0) -> 0 | F58: =IFERROR(VLOOKUP($B58,[1]NUM1!$G$3:$T$99,3,FALSE),0) -> 0 | G58: =IFERROR(VLOOKUP($B58,[1]NUM1!$G$3:$T$99,4,FALSE),0) -> 0 | H58: =IFERROR(VLOOKUP($B58,[1]NUM1!$G$3:$T$99,5,FALSE),0) -> 0 | I58: =IFERROR(VLOOKUP($B58,[1]NUM1!$G$3:$T$99,6,FALSE),0) -> 0 | J58: =IFERROR(VLOOKUP($B58,[1]NUM1!$G$3:$T$99,7,FALSE),0) -> 0 | K58: =IFERROR(VLOOKUP($B58,[1]NUM1!$G$3:$T$99,8,FALSE),0) -> 0 | L58: =IFERROR(VLOOKUP($B58,[1]NUM1!$G$3:$T$99,9,FALSE),0) -> 0 | M58: =IFERROR(VLOOKUP($B58,[1]NUM1!$G$3:$T$99,10,FALSE),0) -> 0 | N58: =IFERROR(VLOOKUP($B58,[1]NUM1!$G$3:$T$99,11,FALSE),0) -> 0 | O58: =IFERROR(VLOOKUP($B58,[1]NUM1!$G$3:$T$99,12,FALSE),0) -> 0 | P58: =IFERROR(VLOOKUP($B58,[1]NUM1!$G$3:$T$99,13,FALSE),0) -> 0 | Q58: =SUM(E58:P58) -> 0 | R58: =IFERROR(VLOOKUP($B58,[1]DEN1!$G$3:$T$102,2,FALSE),0) -> 0 | S58: =IFERROR(VLOOKUP($B58,[1]DEN1!$G$3:$T$102,3,FALSE),0) -> 0 | T58: =IFERROR(VLOOKUP($B58,[1]DEN1!$G$3:$T$102,4,FALSE),0) -> 0 | U58: =IFERROR(VLOOKUP($B58,[1]DEN1!$G$3:$T$102,5,FALSE),0) -> 0 | V58: =IFERROR(VLOOKUP($B58,[1]DEN1!$G$3:$T$102,6,FALSE),0) -> 0 | W58: =IFERROR(VLOOKUP($B58,[1]DEN1!$G$3:$T$102,7,FALSE),0) -> 0 | X58: =IFERROR(VLOOKUP($B58,[1]DEN1!$G$3:$T$102,8,FALSE),0) -> 0 | Y58: =IFERROR(VLOOKUP($B58,[1]DEN1!$G$3:$T$102,9,FALSE),0) -> 0 | Z58: =IFERROR(VLOOKUP($B58,[1]DEN1!$G$3:$T$102,10,FALSE),0) -> 0 | AA58: =IFERROR(VLOOKUP($B58,[1]DEN1!$G$3:$T$102,11,FALSE),0) -> 0 | AB58: =IFERROR(VLOOKUP($B58,[1]DEN1!$G$3:$T$102,12,FALSE),0) -> 0 | AC58: =IFERROR(VLOOKUP($B58,[1]DEN1!$G$3:$T$102,13,FALSE),0) -> 0 | AD58: =SUM(R58:AC58) -> 0
A59: 04106-VICUÑA | B59: 105502-P.S.R. CALINGASTA | E59: =IFERROR(VLOOKUP($B59,[1]NUM1!$G$3:$T$99,2,FALSE),0) -> 0 | F59: =IFERROR(VLOOKUP($B59,[1]NUM1!$G$3:$T$99,3,FALSE),0) -> 0 | G59: =IFERROR(VLOOKUP($B59,[1]NUM1!$G$3:$T$99,4,FALSE),0) -> 0 | H59: =IFERROR(VLOOKUP($B59,[1]NUM1!$G$3:$T$99,5,FALSE),0) -> 0 | I59: =IFERROR(VLOOKUP($B59,[1]NUM1!$G$3:$T$99,6,FALSE),0) -> 0 | J59: =IFERROR(VLOOKUP($B59,[1]NUM1!$G$3:$T$99,7,FALSE),0) -> 0 | K59: =IFERROR(VLOOKUP($B59,[1]NUM1!$G$3:$T$99,8,FALSE),0) -> 0 | L59: =IFERROR(VLOOKUP($B59,[1]NUM1!$G$3:$T$99,9,FALSE),0) -> 0 | M59: =IFERROR(VLOOKUP($B59,[1]NUM1!$G$3:$T$99,10,FALSE),0) -> 1 | N59: =IFERROR(VLOOKUP($B59,[1]NUM1!$G$3:$T$99,11,FALSE),0) -> 0 | O59: =IFERROR(VLOOKUP($B59,[1]NUM1!$G$3:$T$99,12,FALSE),0) -> 0 | P59: =IFERROR(VLOOKUP($B59,[1]NUM1!$G$3:$T$99,13,FALSE),0) -> 0 | Q59: =SUM(E59:P59) -> 1 | R59: =IFERROR(VLOOKUP($B59,[1]DEN1!$G$3:$T$102,2,FALSE),0) -> 0 | S59: =IFERROR(VLOOKUP($B59,[1]DEN1!$G$3:$T$102,3,FALSE),0) -> 0 | T59: =IFERROR(VLOOKUP($B59,[1]DEN1!$G$3:$T$102,4,FALSE),0) -> 0 | U59: =IFERROR(VLOOKUP($B59,[1]DEN1!$G$3:$T$102,5,FALSE),0) -> 0 | V59: =IFERROR(VLOOKUP($B59,[1]DEN1!$G$3:$T$102,6,FALSE),0) -> 0 | W59: =IFERROR(VLOOKUP($B59,[1]DEN1!$G$3:$T$102,7,FALSE),0) -> 0 | X59: =IFERROR(VLOOKUP($B59,[1]DEN1!$G$3:$T$102,8,FALSE),0) -> 1 | Y59: =IFERROR(VLOOKUP($B59,[1]DEN1!$G$3:$T$102,9,FALSE),0) -> 1 | Z59: =IFERROR(VLOOKUP($B59,[1]DEN1!$G$3:$T$102,10,FALSE),0) -> 0 | AA59: =IFERROR(VLOOKUP($B59,[1]DEN1!$G$3:$T$102,11,FALSE),0) -> 0 | AB59: =IFERROR(VLOOKUP($B59,[1]DEN1!$G$3:$T$102,12,FALSE),0) -> 0 | AC59: =IFERROR(VLOOKUP($B59,[1]DEN1!$G$3:$T$102,13,FALSE),0) -> 0 | AD59: =SUM(R59:AC59) -> 2
A60: 04106-VICUÑA | B60: 105509-P.S.R. GUALLIGUAICA | E60: =IFERROR(VLOOKUP($B60,[1]NUM1!$G$3:$T$99,2,FALSE),0) -> 0 | F60: =IFERROR(VLOOKUP($B60,[1]NUM1!$G$3:$T$99,3,FALSE),0) -> 0 | G60: =IFERROR(VLOOKUP($B60,[1]NUM1!$G$3:$T$99,4,FALSE),0) -> 0 | H60: =IFERROR(VLOOKUP($B60,[1]NUM1!$G$3:$T$99,5,FALSE),0) -> 0 | I60: =IFERROR(VLOOKUP($B60,[1]NUM1!$G$3:$T$99,6,FALSE),0) -> 0 | J60: =IFERROR(VLOOKUP($B60,[1]NUM1!$G$3:$T$99,7,FALSE),0) -> 0 | K60: =IFERROR(VLOOKUP($B60,[1]NUM1!$G$3:$T$99,8,FALSE),0) -> 0 | L60: =IFERROR(VLOOKUP($B60,[1]NUM1!$G$3:$T$99,9,FALSE),0) -> 0 | M60: =IFERROR(VLOOKUP($B60,[1]NUM1!$G$3:$T$99,10,FALSE),0) -> 0 | N60: =IFERROR(VLOOKUP($B60,[1]NUM1!$G$3:$T$99,11,FALSE),0) -> 0 | O60: =IFERROR(VLOOKUP($B60,[1]NUM1!$G$3:$T$99,12,FALSE),0) -> 0 | P60: =IFERROR(VLOOKUP($B60,[1]NUM1!$G$3:$T$99,13,FALSE),0) -> 0 | Q60: =SUM(E60:P60) -> 0 | R60: =IFERROR(VLOOKUP($B60,[1]DEN1!$G$3:$T$102,2,FALSE),0) -> 0 | S60: =IFERROR(VLOOKUP($B60,[1]DEN1!$G$3:$T$102,3,FALSE),0) -> 0 | T60: =IFERROR(VLOOKUP($B60,[1]DEN1!$G$3:$T$102,4,FALSE),0) -> 0 | U60: =IFERROR(VLOOKUP($B60,[1]DEN1!$G$3:$T$102,5,FALSE),0) -> 0 | V60: =IFERROR(VLOOKUP($B60,[1]DEN1!$G$3:$T$102,6,FALSE),0) -> 0 | W60: =IFERROR(VLOOKUP($B60,[1]DEN1!$G$3:$T$102,7,FALSE),0) -> 0 | X60: =IFERROR(VLOOKUP($B60,[1]DEN1!$G$3:$T$102,8,FALSE),0) -> 0 | Y60: =IFERROR(VLOOKUP($B60,[1]DEN1!$G$3:$T$102,9,FALSE),0) -> 0 | Z60: =IFERROR(VLOOKUP($B60,[1]DEN1!$G$3:$T$102,10,FALSE),0) -> 0 | AA60: =IFERROR(VLOOKUP($B60,[1]DEN1!$G$3:$T$102,11,FALSE),0) -> 0 | AB60: =IFERROR(VLOOKUP($B60,[1]DEN1!$G$3:$T$102,12,FALSE),0) -> 0 | AC60: =IFERROR(VLOOKUP($B60,[1]DEN1!$G$3:$T$102,13,FALSE),0) -> 0 | AD60: =SUM(R60:AC60) -> 0
A61: 04106-VICUÑA | B61: 200538-CESFAM SAN ISIDRO CALINGASTA | E61: =IFERROR(VLOOKUP($B61,[1]NUM1!$G$3:$T$99,2,FALSE),0) -> 0 | F61: =IFERROR(VLOOKUP($B61,[1]NUM1!$G$3:$T$99,3,FALSE),0) -> 0 | G61: =IFERROR(VLOOKUP($B61,[1]NUM1!$G$3:$T$99,4,FALSE),0) -> 0 | H61: =IFERROR(VLOOKUP($B61,[1]NUM1!$G$3:$T$99,5,FALSE),0) -> 0 | I61: =IFERROR(VLOOKUP($B61,[1]NUM1!$G$3:$T$99,6,FALSE),0) -> 0 | J61: =IFERROR(VLOOKUP($B61,[1]NUM1!$G$3:$T$99,7,FALSE),0) -> 0 | K61: =IFERROR(VLOOKUP($B61,[1]NUM1!$G$3:$T$99,8,FALSE),0) -> 0 | L61: =IFERROR(VLOOKUP($B61,[1]NUM1!$G$3:$T$99,9,FALSE),0) -> 0 | M61: =IFERROR(VLOOKUP($B61,[1]NUM1!$G$3:$T$99,10,FALSE),0) -> 0 | N61: =IFERROR(VLOOKUP($B61,[1]NUM1!$G$3:$T$99,11,FALSE),0) -> 0 | O61: =IFERROR(VLOOKUP($B61,[1]NUM1!$G$3:$T$99,12,FALSE),0) -> 1 | P61: =IFERROR(VLOOKUP($B61,[1]NUM1!$G$3:$T$99,13,FALSE),0) -> 0 | Q61: =SUM(E61:P61) -> 1 | R61: =IFERROR(VLOOKUP($B61,[1]DEN1!$G$3:$T$102,2,FALSE),0) -> 0 | S61: =IFERROR(VLOOKUP($B61,[1]DEN1!$G$3:$T$102,3,FALSE),0) -> 0 | T61: =IFERROR(VLOOKUP($B61,[1]DEN1!$G$3:$T$102,4,FALSE),0) -> 0 | U61: =IFERROR(VLOOKUP($B61,[1]DEN1!$G$3:$T$102,5,FALSE),0) -> 0 | V61: =IFERROR(VLOOKUP($B61,[1]DEN1!$G$3:$T$102,6,FALSE),0) -> 0 | W61: =IFERROR(VLOOKUP($B61,[1]DEN1!$G$3:$T$102,7,FALSE),0) -> 0 | X61: =IFERROR(VLOOKUP($B61,[1]DEN1!$G$3:$T$102,8,FALSE),0) -> 0 | Y61: =IFERROR(VLOOKUP($B61,[1]DEN1!$G$3:$T$102,9,FALSE),0) -> 0 | Z61: =IFERROR(VLOOKUP($B61,[1]DEN1!$G$3:$T$102,10,FALSE),0) -> 0 | AA61: =IFERROR(VLOOKUP($B61,[1]DEN1!$G$3:$T$102,11,FALSE),0) -> 0 | AB61: =IFERROR(VLOOKUP($B61,[1]DEN1!$G$3:$T$102,12,FALSE),0) -> 0 | AC61: =IFERROR(VLOOKUP($B61,[1]DEN1!$G$3:$T$102,13,FALSE),0) -> 0 | AD61: =SUM(R61:AC61) -> 0
A62: TOTAL VICUÑA MUNICIPAL | C62: =D62/'Metas Muni'!G9 -> 1.1111111 | D62: =Q62/AD62 -> 1 | E62: =SUM(E51:E61) -> 0 | F62: =SUM(F51:F61) -> 0 | G62: =SUM(G51:G61) -> 0 | H62: =SUM(H51:H61) -> 0 | I62: =SUM(I51:I61) -> 0 | J62: =SUM(J51:J61) -> 1 | K62: =SUM(K51:K61) -> 0 | L62: =SUM(L51:L61) -> 0 | ... AD62: =SUM(AD51:AD61) -> 6
A63: 04201-ILLAPEL | B63: 105326-CESFAM SAN RAFAEL | E63: =IFERROR(VLOOKUP($B63,[1]NUM1!$G$3:$T$99,2,FALSE),0) -> 0 | F63: =IFERROR(VLOOKUP($B63,[1]NUM1!$G$3:$T$99,3,FALSE),0) -> 0 | G63: =IFERROR(VLOOKUP($B63,[1]NUM1!$G$3:$T$99,4,FALSE),0) -> 0 | H63: =IFERROR(VLOOKUP($B63,[1]NUM1!$G$3:$T$99,5,FALSE),0) -> 0 | I63: =IFERROR(VLOOKUP($B63,[1]NUM1!$G$3:$T$99,6,FALSE),0) -> 2 | J63: =IFERROR(VLOOKUP($B63,[1]NUM1!$G$3:$T$99,7,FALSE),0) -> 0 | K63: =IFERROR(VLOOKUP($B63,[1]NUM1!$G$3:$T$99,8,FALSE),0) -> 0 | L63: =IFERROR(VLOOKUP($B63,[1]NUM1!$G$3:$T$99,9,FALSE),0) -> 0 | M63: =IFERROR(VLOOKUP($B63,[1]NUM1!$G$3:$T$99,10,FALSE),0) -> 1 | N63: =IFERROR(VLOOKUP($B63,[1]NUM1!$G$3:$T$99,11,FALSE),0) -> 0 | O63: =IFERROR(VLOOKUP($B63,[1]NUM1!$G$3:$T$99,12,FALSE),0) -> 0 | P63: =IFERROR(VLOOKUP($B63,[1]NUM1!$G$3:$T$99,13,FALSE),0) -> 0 | Q63: =SUM(E63:P63) -> 3 | R63: =IFERROR(VLOOKUP($B63,[1]DEN1!$G$3:$T$102,2,FALSE),0) -> 0 | S63: =IFERROR(VLOOKUP($B63,[1]DEN1!$G$3:$T$102,3,FALSE),0) -> 2 | T63: =IFERROR(VLOOKUP($B63,[1]DEN1!$G$3:$T$102,4,FALSE),0) -> 0 | U63: =IFERROR(VLOOKUP($B63,[1]DEN1!$G$3:$T$102,5,FALSE),0) -> 0 | V63: =IFERROR(VLOOKUP($B63,[1]DEN1!$G$3:$T$102,6,FALSE),0) -> 0 | W63: =IFERROR(VLOOKUP($B63,[1]DEN1!$G$3:$T$102,7,FALSE),0) -> 1 | X63: =IFERROR(VLOOKUP($B63,[1]DEN1!$G$3:$T$102,8,FALSE),0) -> 0 | Y63: =IFERROR(VLOOKUP($B63,[1]DEN1!$G$3:$T$102,9,FALSE),0) -> 0 | Z63: =IFERROR(VLOOKUP($B63,[1]DEN1!$G$3:$T$102,10,FALSE),0) -> 0 | AA63: =IFERROR(VLOOKUP($B63,[1]DEN1!$G$3:$T$102,11,FALSE),0) -> 0 | AB63: =IFERROR(VLOOKUP($B63,[1]DEN1!$G$3:$T$102,12,FALSE),0) -> 0 | AC63: =IFERROR(VLOOKUP($B63,[1]DEN1!$G$3:$T$102,13,FALSE),0) -> 0 | AD63: =SUM(R63:AC63) -> 3
A64: 04201-ILLAPEL | B64: 105443-P.S.R. CARCAMO | E64: =IFERROR(VLOOKUP($B64,[1]NUM1!$G$3:$T$99,2,FALSE),0) -> 0 | F64: =IFERROR(VLOOKUP($B64,[1]NUM1!$G$3:$T$99,3,FALSE),0) -> 0 | G64: =IFERROR(VLOOKUP($B64,[1]NUM1!$G$3:$T$99,4,FALSE),0) -> 0 | H64: =IFERROR(VLOOKUP($B64,[1]NUM1!$G$3:$T$99,5,FALSE),0) -> 1 | I64: =IFERROR(VLOOKUP($B64,[1]NUM1!$G$3:$T$99,6,FALSE),0) -> 0 | J64: =IFERROR(VLOOKUP($B64,[1]NUM1!$G$3:$T$99,7,FALSE),0) -> 0 | K64: =IFERROR(VLOOKUP($B64,[1]NUM1!$G$3:$T$99,8,FALSE),0) -> 0 | L64: =IFERROR(VLOOKUP($B64,[1]NUM1!$G$3:$T$99,9,FALSE),0) -> 0 | M64: =IFERROR(VLOOKUP($B64,[1]NUM1!$G$3:$T$99,10,FALSE),0) -> 0 | N64: =IFERROR(VLOOKUP($B64,[1]NUM1!$G$3:$T$99,11,FALSE),0) -> 0 | O64: =IFERROR(VLOOKUP($B64,[1]NUM1!$G$3:$T$99,12,FALSE),0) -> 0 | P64: =IFERROR(VLOOKUP($B64,[1]NUM1!$G$3:$T$99,13,FALSE),0) -> 0 | Q64: =SUM(E64:P64) -> 1 | R64: =IFERROR(VLOOKUP($B64,[1]DEN1!$G$3:$T$102,2,FALSE),0) -> 0 | S64: =IFERROR(VLOOKUP($B64,[1]DEN1!$G$3:$T$102,3,FALSE),0) -> 1 | T64: =IFERROR(VLOOKUP($B64,[1]DEN1!$G$3:$T$102,4,FALSE),0) -> 0 | U64: =IFERROR(VLOOKUP($B64,[1]DEN1!$G$3:$T$102,5,FALSE),0) -> 0 | V64: =IFERROR(VLOOKUP($B64,[1]DEN1!$G$3:$T$102,6,FALSE),0) -> 0 | W64: =IFERROR(VLOOKUP($B64,[1]DEN1!$G$3:$T$102,7,FALSE),0) -> 0 | X64: =IFERROR(VLOOKUP($B64,[1]DEN1!$G$3:$T$102,8,FALSE),0) -> 0 | Y64: =IFERROR(VLOOKUP($B64,[1]DEN1!$G$3:$T$102,9,FALSE),0) -> 0 | Z64: =IFERROR(VLOOKUP($B64,[1]DEN1!$G$3:$T$102,10,FALSE),0) -> 0 | AA64: =IFERROR(VLOOKUP($B64,[1]DEN1!$G$3:$T$102,11,FALSE),0) -> 0 | AB64: =IFERROR(VLOOKUP($B64,[1]DEN1!$G$3:$T$102,12,FALSE),0) -> 0 | AC64: =IFERROR(VLOOKUP($B64,[1]DEN1!$G$3:$T$102,13,FALSE),0) -> 0 | AD64: =SUM(R64:AC64) -> 1
A65: 04201-ILLAPEL | B65: 105444-P.S.R. HUINTIL | E65: =IFERROR(VLOOKUP($B65,[1]NUM1!$G$3:$T$99,2,FALSE),0) -> 0 | F65: =IFERROR(VLOOKUP($B65,[1]NUM1!$G$3:$T$99,3,FALSE),0) -> 0 | G65: =IFERROR(VLOOKUP($B65,[1]NUM1!$G$3:$T$99,4,FALSE),0) -> 0 | H65: =IFERROR(VLOOKUP($B65,[1]NUM1!$G$3:$T$99,5,FALSE),0) -> 0 | I65: =IFERROR(VLOOKUP($B65,[1]NUM1!$G$3:$T$99,6,FALSE),0) -> 0 | J65: =IFERROR(VLOOKUP($B65,[1]NUM1!$G$3:$T$99,7,FALSE),0) -> 0 | K65: =IFERROR(VLOOKUP($B65,[1]NUM1!$G$3:$T$99,8,FALSE),0) -> 0 | L65: =IFERROR(VLOOKUP($B65,[1]NUM1!$G$3:$T$99,9,FALSE),0) -> 0 | M65: =IFERROR(VLOOKUP($B65,[1]NUM1!$G$3:$T$99,10,FALSE),0) -> 0 | N65: =IFERROR(VLOOKUP($B65,[1]NUM1!$G$3:$T$99,11,FALSE),0) -> 0 | O65: =IFERROR(VLOOKUP($B65,[1]NUM1!$G$3:$T$99,12,FALSE),0) -> 0 | P65: =IFERROR(VLOOKUP($B65,[1]NUM1!$G$3:$T$99,13,FALSE),0) -> 0 | Q65: =SUM(E65:P65) -> 0 | R65: =IFERROR(VLOOKUP($B65,[1]DEN1!$G$3:$T$102,2,FALSE),0) -> 0 | S65: =IFERROR(VLOOKUP($B65,[1]DEN1!$G$3:$T$102,3,FALSE),0) -> 0 | T65: =IFERROR(VLOOKUP($B65,[1]DEN1!$G$3:$T$102,4,FALSE),0) -> 0 | U65: =IFERROR(VLOOKUP($B65,[1]DEN1!$G$3:$T$102,5,FALSE),0) -> 0 | V65: =IFERROR(VLOOKUP($B65,[1]DEN1!$G$3:$T$102,6,FALSE),0) -> 0 | W65: =IFERROR(VLOOKUP($B65,[1]DEN1!$G$3:$T$102,7,FALSE),0) -> 0 | X65: =IFERROR(VLOOKUP($B65,[1]DEN1!$G$3:$T$102,8,FALSE),0) -> 0 | Y65: =IFERROR(VLOOKUP($B65,[1]DEN1!$G$3:$T$102,9,FALSE),0) -> 0 | Z65: =IFERROR(VLOOKUP($B65,[1]DEN1!$G$3:$T$102,10,FALSE),0) -> 0 | AA65: =IFERROR(VLOOKUP($B65,[1]DEN1!$G$3:$T$102,11,FALSE),0) -> 0 | AB65: =IFERROR(VLOOKUP($B65,[1]DEN1!$G$3:$T$102,12,FALSE),0) -> 0 | AC65: =IFERROR(VLOOKUP($B65,[1]DEN1!$G$3:$T$102,13,FALSE),0) -> 0 | AD65: =SUM(R65:AC65) -> 0
A66: 04201-ILLAPEL | B66: 105445-P.S.R. LIMAHUIDA | E66: =IFERROR(VLOOKUP($B66,[1]NUM1!$G$3:$T$99,2,FALSE),0) -> 0 | F66: =IFERROR(VLOOKUP($B66,[1]NUM1!$G$3:$T$99,3,FALSE),0) -> 0 | G66: =IFERROR(VLOOKUP($B66,[1]NUM1!$G$3:$T$99,4,FALSE),0) -> 0 | H66: =IFERROR(VLOOKUP($B66,[1]NUM1!$G$3:$T$99,5,FALSE),0) -> 0 | I66: =IFERROR(VLOOKUP($B66,[1]NUM1!$G$3:$T$99,6,FALSE),0) -> 0 | J66: =IFERROR(VLOOKUP($B66,[1]NUM1!$G$3:$T$99,7,FALSE),0) -> 0 | K66: =IFERROR(VLOOKUP($B66,[1]NUM1!$G$3:$T$99,8,FALSE),0) -> 0 | L66: =IFERROR(VLOOKUP($B66,[1]NUM1!$G$3:$T$99,9,FALSE),0) -> 0 | M66: =IFERROR(VLOOKUP($B66,[1]NUM1!$G$3:$T$99,10,FALSE),0) -> 0 | N66: =IFERROR(VLOOKUP($B66,[1]NUM1!$G$3:$T$99,11,FALSE),0) -> 0 | O66: =IFERROR(VLOOKUP($B66,[1]NUM1!$G$3:$T$99,12,FALSE),0) -> 0 | P66: =IFERROR(VLOOKUP($B66,[1]NUM1!$G$3:$T$99,13,FALSE),0) -> 0 | Q66: =SUM(E66:P66) -> 0 | R66: =IFERROR(VLOOKUP($B66,[1]DEN1!$G$3:$T$102,2,FALSE),0) -> 0 | S66: =IFERROR(VLOOKUP($B66,[1]DEN1!$G$3:$T$102,3,FALSE),0) -> 0 | T66: =IFERROR(VLOOKUP($B66,[1]DEN1!$G$3:$T$102,4,FALSE),0) -> 0 | U66: =IFERROR(VLOOKUP($B66,[1]DEN1!$G$3:$T$102,5,FALSE),0) -> 0 | V66: =IFERROR(VLOOKUP($B66,[1]DEN1!$G$3:$T$102,6,FALSE),0) -> 0 | W66: =IFERROR(VLOOKUP($B66,[1]DEN1!$G$3:$T$102,7,FALSE),0) -> 0 | X66: =IFERROR(VLOOKUP($B66,[1]DEN1!$G$3:$T$102,8,FALSE),0) -> 0 | Y66: =IFERROR(VLOOKUP($B66,[1]DEN1!$G$3:$T$102,9,FALSE),0) -> 0 | Z66: =IFERROR(VLOOKUP($B66,[1]DEN1!$G$3:$T$102,10,FALSE),0) -> 0 | AA66: =IFERROR(VLOOKUP($B66,[1]DEN1!$G$3:$T$102,11,FALSE),0) -> 0 | AB66: =IFERROR(VLOOKUP($B66,[1]DEN1!$G$3:$T$102,12,FALSE),0) -> 0 | AC66: =IFERROR(VLOOKUP($B66,[1]DEN1!$G$3:$T$102,13,FALSE),0) -> 0 | AD66: =SUM(R66:AC66) -> 0
A67: 04201-ILLAPEL | B67: 105446-P.S.R. MATANCILLA | E67: =IFERROR(VLOOKUP($B67,[1]NUM1!$G$3:$T$99,2,FALSE),0) -> 0 | F67: =IFERROR(VLOOKUP($B67,[1]NUM1!$G$3:$T$99,3,FALSE),0) -> 0 | G67: =IFERROR(VLOOKUP($B67,[1]NUM1!$G$3:$T$99,4,FALSE),0) -> 0 | H67: =IFERROR(VLOOKUP($B67,[1]NUM1!$G$3:$T$99,5,FALSE),0) -> 0 | I67: =IFERROR(VLOOKUP($B67,[1]NUM1!$G$3:$T$99,6,FALSE),0) -> 0 | J67: =IFERROR(VLOOKUP($B67,[1]NUM1!$G$3:$T$99,7,FALSE),0) -> 0 | K67: =IFERROR(VLOOKUP($B67,[1]NUM1!$G$3:$T$99,8,FALSE),0) -> 0 | L67: =IFERROR(VLOOKUP($B67,[1]NUM1!$G$3:$T$99,9,FALSE),0) -> 0 | M67: =IFERROR(VLOOKUP($B67,[1]NUM1!$G$3:$T$99,10,FALSE),0) -> 0 | N67: =IFERROR(VLOOKUP($B67,[1]NUM1!$G$3:$T$99,11,FALSE),0) -> 0 | O67: =IFERROR(VLOOKUP($B67,[1]NUM1!$G$3:$T$99,12,FALSE),0) -> 0 | P67: =IFERROR(VLOOKUP($B67,[1]NUM1!$G$3:$T$99,13,FALSE),0) -> 0 | Q67: =SUM(E67:P67) -> 0 | R67: =IFERROR(VLOOKUP($B67,[1]DEN1!$G$3:$T$102,2,FALSE),0) -> 0 | S67: =IFERROR(VLOOKUP($B67,[1]DEN1!$G$3:$T$102,3,FALSE),0) -> 0 | T67: =IFERROR(VLOOKUP($B67,[1]DEN1!$G$3:$T$102,4,FALSE),0) -> 0 | U67: =IFERROR(VLOOKUP($B67,[1]DEN1!$G$3:$T$102,5,FALSE),0) -> 0 | V67: =IFERROR(VLOOKUP($B67,[1]DEN1!$G$3:$T$102,6,FALSE),0) -> 0 | W67: =IFERROR(VLOOKUP($B67,[1]DEN1!$G$3:$T$102,7,FALSE),0) -> 0 | X67: =IFERROR(VLOOKUP($B67,[1]DEN1!$G$3:$T$102,8,FALSE),0) -> 0 | Y67: =IFERROR(VLOOKUP($B67,[1]DEN1!$G$3:$T$102,9,FALSE),0) -> 0 | Z67: =IFERROR(VLOOKUP($B67,[1]DEN1!$G$3:$T$102,10,FALSE),0) -> 0 | AA67: =IFERROR(VLOOKUP($B67,[1]DEN1!$G$3:$T$102,11,FALSE),0) -> 0 | AB67: =IFERROR(VLOOKUP($B67,[1]DEN1!$G$3:$T$102,12,FALSE),0) -> 0 | AC67: =IFERROR(VLOOKUP($B67,[1]DEN1!$G$3:$T$102,13,FALSE),0) -> 0 | AD67: =SUM(R67:AC67) -> 0
A68: 04201-ILLAPEL | B68: 105447-P.S.R. PERALILLO | E68: =IFERROR(VLOOKUP($B68,[1]NUM1!$G$3:$T$99,2,FALSE),0) -> 0 | F68: =IFERROR(VLOOKUP($B68,[1]NUM1!$G$3:$T$99,3,FALSE),0) -> 0 | G68: =IFERROR(VLOOKUP($B68,[1]NUM1!$G$3:$T$99,4,FALSE),0) -> 0 | H68: =IFERROR(VLOOKUP($B68,[1]NUM1!$G$3:$T$99,5,FALSE),0) -> 0 | I68: =IFERROR(VLOOKUP($B68,[1]NUM1!$G$3:$T$99,6,FALSE),0) -> 0 | J68: =IFERROR(VLOOKUP($B68,[1]NUM1!$G$3:$T$99,7,FALSE),0) -> 0 | K68: =IFERROR(VLOOKUP($B68,[1]NUM1!$G$3:$T$99,8,FALSE),0) -> 0 | L68: =IFERROR(VLOOKUP($B68,[1]NUM1!$G$3:$T$99,9,FALSE),0) -> 1 | M68: =IFERROR(VLOOKUP($B68,[1]NUM1!$G$3:$T$99,10,FALSE),0) -> 0 | N68: =IFERROR(VLOOKUP($B68,[1]NUM1!$G$3:$T$99,11,FALSE),0) -> 0 | O68: =IFERROR(VLOOKUP($B68,[1]NUM1!$G$3:$T$99,12,FALSE),0) -> 0 | P68: =IFERROR(VLOOKUP($B68,[1]NUM1!$G$3:$T$99,13,FALSE),0) -> 0 | Q68: =SUM(E68:P68) -> 1 | R68: =IFERROR(VLOOKUP($B68,[1]DEN1!$G$3:$T$102,2,FALSE),0) -> 0 | S68: =IFERROR(VLOOKUP($B68,[1]DEN1!$G$3:$T$102,3,FALSE),0) -> 0 | T68: =IFERROR(VLOOKUP($B68,[1]DEN1!$G$3:$T$102,4,FALSE),0) -> 0 | U68: =IFERROR(VLOOKUP($B68,[1]DEN1!$G$3:$T$102,5,FALSE),0) -> 0 | V68: =IFERROR(VLOOKUP($B68,[1]DEN1!$G$3:$T$102,6,FALSE),0) -> 0 | W68: =IFERROR(VLOOKUP($B68,[1]DEN1!$G$3:$T$102,7,FALSE),0) -> 0 | X68: =IFERROR(VLOOKUP($B68,[1]DEN1!$G$3:$T$102,8,FALSE),0) -> 1 | Y68: =IFERROR(VLOOKUP($B68,[1]DEN1!$G$3:$T$102,9,FALSE),0) -> 0 | Z68: =IFERROR(VLOOKUP($B68,[1]DEN1!$G$3:$T$102,10,FALSE),0) -> 0 | AA68: =IFERROR(VLOOKUP($B68,[1]DEN1!$G$3:$T$102,11,FALSE),0) -> 0 | AB68: =IFERROR(VLOOKUP($B68,[1]DEN1!$G$3:$T$102,12,FALSE),0) -> 0 | AC68: =IFERROR(VLOOKUP($B68,[1]DEN1!$G$3:$T$102,13,FALSE),0) -> 0 | AD68: =SUM(R68:AC68) -> 1
A69: 04201-ILLAPEL | B69: 105448-P.S.R. SANTA VIRGINIA | E69: =IFERROR(VLOOKUP($B69,[1]NUM1!$G$3:$T$99,2,FALSE),0) -> 0 | F69: =IFERROR(VLOOKUP($B69,[1]NUM1!$G$3:$T$99,3,FALSE),0) -> 0 | G69: =IFERROR(VLOOKUP($B69,[1]NUM1!$G$3:$T$99,4,FALSE),0) -> 0 | H69: =IFERROR(VLOOKUP($B69,[1]NUM1!$G$3:$T$99,5,FALSE),0) -> 0 | I69: =IFERROR(VLOOKUP($B69,[1]NUM1!$G$3:$T$99,6,FALSE),0) -> 0 | J69: =IFERROR(VLOOKUP($B69,[1]NUM1!$G$3:$T$99,7,FALSE),0) -> 0 | K69: =IFERROR(VLOOKUP($B69,[1]NUM1!$G$3:$T$99,8,FALSE),0) -> 0 | L69: =IFERROR(VLOOKUP($B69,[1]NUM1!$G$3:$T$99,9,FALSE),0) -> 0 | M69: =IFERROR(VLOOKUP($B69,[1]NUM1!$G$3:$T$99,10,FALSE),0) -> 0 | N69: =IFERROR(VLOOKUP($B69,[1]NUM1!$G$3:$T$99,11,FALSE),0) -> 0 | O69: =IFERROR(VLOOKUP($B69,[1]NUM1!$G$3:$T$99,12,FALSE),0) -> 0 | P69: =IFERROR(VLOOKUP($B69,[1]NUM1!$G$3:$T$99,13,FALSE),0) -> 0 | Q69: =SUM(E69:P69) -> 0 | R69: =IFERROR(VLOOKUP($B69,[1]DEN1!$G$3:$T$102,2,FALSE),0) -> 0 | S69: =IFERROR(VLOOKUP($B69,[1]DEN1!$G$3:$T$102,3,FALSE),0) -> 0 | T69: =IFERROR(VLOOKUP($B69,[1]DEN1!$G$3:$T$102,4,FALSE),0) -> 0 | U69: =IFERROR(VLOOKUP($B69,[1]DEN1!$G$3:$T$102,5,FALSE),0) -> 0 | V69: =IFERROR(VLOOKUP($B69,[1]DEN1!$G$3:$T$102,6,FALSE),0) -> 0 | W69: =IFERROR(VLOOKUP($B69,[1]DEN1!$G$3:$T$102,7,FALSE),0) -> 0 | X69: =IFERROR(VLOOKUP($B69,[1]DEN1!$G$3:$T$102,8,FALSE),0) -> 0 | Y69: =IFERROR(VLOOKUP($B69,[1]DEN1!$G$3:$T$102,9,FALSE),0) -> 0 | Z69: =IFERROR(VLOOKUP($B69,[1]DEN1!$G$3:$T$102,10,FALSE),0) -> 0 | AA69: =IFERROR(VLOOKUP($B69,[1]DEN1!$G$3:$T$102,11,FALSE),0) -> 0 | AB69: =IFERROR(VLOOKUP($B69,[1]DEN1!$G$3:$T$102,12,FALSE),0) -> 0 | AC69: =IFERROR(VLOOKUP($B69,[1]DEN1!$G$3:$T$102,13,FALSE),0) -> 0 | AD69: =SUM(R69:AC69) -> 0
A70: 04201-ILLAPEL | B70: 105449-P.S.R. TUNGA NORTE | E70: =IFERROR(VLOOKUP($B70,[1]NUM1!$G$3:$T$99,2,FALSE),0) -> 0 | F70: =IFERROR(VLOOKUP($B70,[1]NUM1!$G$3:$T$99,3,FALSE),0) -> 0 | G70: =IFERROR(VLOOKUP($B70,[1]NUM1!$G$3:$T$99,4,FALSE),0) -> 0 | H70: =IFERROR(VLOOKUP($B70,[1]NUM1!$G$3:$T$99,5,FALSE),0) -> 0 | I70: =IFERROR(VLOOKUP($B70,[1]NUM1!$G$3:$T$99,6,FALSE),0) -> 0 | J70: =IFERROR(VLOOKUP($B70,[1]NUM1!$G$3:$T$99,7,FALSE),0) -> 0 | K70: =IFERROR(VLOOKUP($B70,[1]NUM1!$G$3:$T$99,8,FALSE),0) -> 0 | L70: =IFERROR(VLOOKUP($B70,[1]NUM1!$G$3:$T$99,9,FALSE),0) -> 0 | M70: =IFERROR(VLOOKUP($B70,[1]NUM1!$G$3:$T$99,10,FALSE),0) -> 0 | N70: =IFERROR(VLOOKUP($B70,[1]NUM1!$G$3:$T$99,11,FALSE),0) -> 0 | O70: =IFERROR(VLOOKUP($B70,[1]NUM1!$G$3:$T$99,12,FALSE),0) -> 0 | P70: =IFERROR(VLOOKUP($B70,[1]NUM1!$G$3:$T$99,13,FALSE),0) -> 0 | Q70: =SUM(E70:P70) -> 0 | R70: =IFERROR(VLOOKUP($B70,[1]DEN1!$G$3:$T$102,2,FALSE),0) -> 0 | S70: =IFERROR(VLOOKUP($B70,[1]DEN1!$G$3:$T$102,3,FALSE),0) -> 0 | T70: =IFERROR(VLOOKUP($B70,[1]DEN1!$G$3:$T$102,4,FALSE),0) -> 0 | U70: =IFERROR(VLOOKUP($B70,[1]DEN1!$G$3:$T$102,5,FALSE),0) -> 0 | V70: =IFERROR(VLOOKUP($B70,[1]DEN1!$G$3:$T$102,6,FALSE),0) -> 0 | W70: =IFERROR(VLOOKUP($B70,[1]DEN1!$G$3:$T$102,7,FALSE),0) -> 0 | X70: =IFERROR(VLOOKUP($B70,[1]DEN1!$G$3:$T$102,8,FALSE),0) -> 0 | Y70: =IFERROR(VLOOKUP($B70,[1]DEN1!$G$3:$T$102,9,FALSE),0) -> 0 | Z70: =IFERROR(VLOOKUP($B70,[1]DEN1!$G$3:$T$102,10,FALSE),0) -> 0 | AA70: =IFERROR(VLOOKUP($B70,[1]DEN1!$G$3:$T$102,11,FALSE),0) -> 0 | AB70: =IFERROR(VLOOKUP($B70,[1]DEN1!$G$3:$T$102,12,FALSE),0) -> 0 | AC70: =IFERROR(VLOOKUP($B70,[1]DEN1!$G$3:$T$102,13,FALSE),0) -> 0 | AD70: =SUM(R70:AC70) -> 0
A71: 04201-ILLAPEL | B71: 105485-P.S.R. PLAN DE HORNOS | E71: =IFERROR(VLOOKUP($B71,[1]NUM1!$G$3:$T$99,2,FALSE),0) -> 0 | F71: =IFERROR(VLOOKUP($B71,[1]NUM1!$G$3:$T$99,3,FALSE),0) -> 0 | G71: =IFERROR(VLOOKUP($B71,[1]NUM1!$G$3:$T$99,4,FALSE),0) -> 0 | H71: =IFERROR(VLOOKUP($B71,[1]NUM1!$G$3:$T$99,5,FALSE),0) -> 0 | I71: =IFERROR(VLOOKUP($B71,[1]NUM1!$G$3:$T$99,6,FALSE),0) -> 0 | J71: =IFERROR(VLOOKUP($B71,[1]NUM1!$G$3:$T$99,7,FALSE),0) -> 0 | K71: =IFERROR(VLOOKUP($B71,[1]NUM1!$G$3:$T$99,8,FALSE),0) -> 0 | L71: =IFERROR(VLOOKUP($B71,[1]NUM1!$G$3:$T$99,9,FALSE),0) -> 0 | M71: =IFERROR(VLOOKUP($B71,[1]NUM1!$G$3:$T$99,10,FALSE),0) -> 0 | N71: =IFERROR(VLOOKUP($B71,[1]NUM1!$G$3:$T$99,11,FALSE),0) -> 0 | O71: =IFERROR(VLOOKUP($B71,[1]NUM1!$G$3:$T$99,12,FALSE),0) -> 0 | P71: =IFERROR(VLOOKUP($B71,[1]NUM1!$G$3:$T$99,13,FALSE),0) -> 0 | Q71: =SUM(E71:P71) -> 0 | R71: =IFERROR(VLOOKUP($B71,[1]DEN1!$G$3:$T$102,2,FALSE),0) -> 0 | S71: =IFERROR(VLOOKUP($B71,[1]DEN1!$G$3:$T$102,3,FALSE),0) -> 0 | T71: =IFERROR(VLOOKUP($B71,[1]DEN1!$G$3:$T$102,4,FALSE),0) -> 0 | U71: =IFERROR(VLOOKUP($B71,[1]DEN1!$G$3:$T$102,5,FALSE),0) -> 0 | V71: =IFERROR(VLOOKUP($B71,[1]DEN1!$G$3:$T$102,6,FALSE),0) -> 0 | W71: =IFERROR(VLOOKUP($B71,[1]DEN1!$G$3:$T$102,7,FALSE),0) -> 0 | X71: =IFERROR(VLOOKUP($B71,[1]DEN1!$G$3:$T$102,8,FALSE),0) -> 0 | Y71: =IFERROR(VLOOKUP($B71,[1]DEN1!$G$3:$T$102,9,FALSE),0) -> 0 | Z71: =IFERROR(VLOOKUP($B71,[1]DEN1!$G$3:$T$102,10,FALSE),0) -> 0 | AA71: =IFERROR(VLOOKUP($B71,[1]DEN1!$G$3:$T$102,11,FALSE),0) -> 0 | AB71: =IFERROR(VLOOKUP($B71,[1]DEN1!$G$3:$T$102,12,FALSE),0) -> 0 | AC71: =IFERROR(VLOOKUP($B71,[1]DEN1!$G$3:$T$102,13,FALSE),0) -> 0 | AD71: =SUM(R71:AC71) -> 0
A72: 04201-ILLAPEL | B72: 105486-P.S.R. TUNGA SUR | E72: =IFERROR(VLOOKUP($B72,[1]NUM1!$G$3:$T$99,2,FALSE),0) -> 0 | F72: =IFERROR(VLOOKUP($B72,[1]NUM1!$G$3:$T$99,3,FALSE),0) -> 0 | G72: =IFERROR(VLOOKUP($B72,[1]NUM1!$G$3:$T$99,4,FALSE),0) -> 0 | H72: =IFERROR(VLOOKUP($B72,[1]NUM1!$G$3:$T$99,5,FALSE),0) -> 0 | I72: =IFERROR(VLOOKUP($B72,[1]NUM1!$G$3:$T$99,6,FALSE),0) -> 0 | J72: =IFERROR(VLOOKUP($B72,[1]NUM1!$G$3:$T$99,7,FALSE),0) -> 0 | K72: =IFERROR(VLOOKUP($B72,[1]NUM1!$G$3:$T$99,8,FALSE),0) -> 0 | L72: =IFERROR(VLOOKUP($B72,[1]NUM1!$G$3:$T$99,9,FALSE),0) -> 0 | M72: =IFERROR(VLOOKUP($B72,[1]NUM1!$G$3:$T$99,10,FALSE),0) -> 0 | N72: =IFERROR(VLOOKUP($B72,[1]NUM1!$G$3:$T$99,11,FALSE),0) -> 0 | O72: =IFERROR(VLOOKUP($B72,[1]NUM1!$G$3:$T$99,12,FALSE),0) -> 0 | P72: =IFERROR(VLOOKUP($B72,[1]NUM1!$G$3:$T$99,13,FALSE),0) -> 0 | Q72: =SUM(E72:P72) -> 0 | R72: =IFERROR(VLOOKUP($B72,[1]DEN1!$G$3:$T$102,2,FALSE),0) -> 0 | S72: =IFERROR(VLOOKUP($B72,[1]DEN1!$G$3:$T$102,3,FALSE),0) -> 0 | T72: =IFERROR(VLOOKUP($B72,[1]DEN1!$G$3:$T$102,4,FALSE),0) -> 0 | U72: =IFERROR(VLOOKUP($B72,[1]DEN1!$G$3:$T$102,5,FALSE),0) -> 0 | V72: =IFERROR(VLOOKUP($B72,[1]DEN1!$G$3:$T$102,6,FALSE),0) -> 0 | W72: =IFERROR(VLOOKUP($B72,[1]DEN1!$G$3:$T$102,7,FALSE),0) -> 0 | X72: =IFERROR(VLOOKUP($B72,[1]DEN1!$G$3:$T$102,8,FALSE),0) -> 0 | Y72: =IFERROR(VLOOKUP($B72,[1]DEN1!$G$3:$T$102,9,FALSE),0) -> 0 | Z72: =IFERROR(VLOOKUP($B72,[1]DEN1!$G$3:$T$102,10,FALSE),0) -> 0 | AA72: =IFERROR(VLOOKUP($B72,[1]DEN1!$G$3:$T$102,11,FALSE),0) -> 0 | AB72: =IFERROR(VLOOKUP($B72,[1]DEN1!$G$3:$T$102,12,FALSE),0) -> 0 | AC72: =IFERROR(VLOOKUP($B72,[1]DEN1!$G$3:$T$102,13,FALSE),0) -> 0 | AD72: =SUM(R72:AC72) -> 0
A73: 04201-ILLAPEL | B73: 105487-P.S.R. CAÑAS UNO | E73: =IFERROR(VLOOKUP($B73,[1]NUM1!$G$3:$T$99,2,FALSE),0) -> 0 | F73: =IFERROR(VLOOKUP($B73,[1]NUM1!$G$3:$T$99,3,FALSE),0) -> 0 | G73: =IFERROR(VLOOKUP($B73,[1]NUM1!$G$3:$T$99,4,FALSE),0) -> 0 | H73: =IFERROR(VLOOKUP($B73,[1]NUM1!$G$3:$T$99,5,FALSE),0) -> 0 | I73: =IFERROR(VLOOKUP($B73,[1]NUM1!$G$3:$T$99,6,FALSE),0) -> 0 | J73: =IFERROR(VLOOKUP($B73,[1]NUM1!$G$3:$T$99,7,FALSE),0) -> 0 | K73: =IFERROR(VLOOKUP($B73,[1]NUM1!$G$3:$T$99,8,FALSE),0) -> 0 | L73: =IFERROR(VLOOKUP($B73,[1]NUM1!$G$3:$T$99,9,FALSE),0) -> 0 | M73: =IFERROR(VLOOKUP($B73,[1]NUM1!$G$3:$T$99,10,FALSE),0) -> 0 | N73: =IFERROR(VLOOKUP($B73,[1]NUM1!$G$3:$T$99,11,FALSE),0) -> 0 | O73: =IFERROR(VLOOKUP($B73,[1]NUM1!$G$3:$T$99,12,FALSE),0) -> 1 | P73: =IFERROR(VLOOKUP($B73,[1]NUM1!$G$3:$T$99,13,FALSE),0) -> 0 | Q73: =SUM(E73:P73) -> 1 | R73: =IFERROR(VLOOKUP($B73,[1]DEN1!$G$3:$T$102,2,FALSE),0) -> 0 | S73: =IFERROR(VLOOKUP($B73,[1]DEN1!$G$3:$T$102,3,FALSE),0) -> 0 | T73: =IFERROR(VLOOKUP($B73,[1]DEN1!$G$3:$T$102,4,FALSE),0) -> 0 | U73: =IFERROR(VLOOKUP($B73,[1]DEN1!$G$3:$T$102,5,FALSE),0) -> 0 | V73: =IFERROR(VLOOKUP($B73,[1]DEN1!$G$3:$T$102,6,FALSE),0) -> 0 | W73: =IFERROR(VLOOKUP($B73,[1]DEN1!$G$3:$T$102,7,FALSE),0) -> 0 | X73: =IFERROR(VLOOKUP($B73,[1]DEN1!$G$3:$T$102,8,FALSE),0) -> 0 | Y73: =IFERROR(VLOOKUP($B73,[1]DEN1!$G$3:$T$102,9,FALSE),0) -> 1 | Z73: =IFERROR(VLOOKUP($B73,[1]DEN1!$G$3:$T$102,10,FALSE),0) -> 0 | AA73: =IFERROR(VLOOKUP($B73,[1]DEN1!$G$3:$T$102,11,FALSE),0) -> 0 | AB73: =IFERROR(VLOOKUP($B73,[1]DEN1!$G$3:$T$102,12,FALSE),0) -> 0 | AC73: =IFERROR(VLOOKUP($B73,[1]DEN1!$G$3:$T$102,13,FALSE),0) -> 0 | AD73: =SUM(R73:AC73) -> 1
A74: 04201-ILLAPEL | B74: 105496-P.S.R. PINTACURA SUR | E74: =IFERROR(VLOOKUP($B74,[1]NUM1!$G$3:$T$99,2,FALSE),0) -> 0 | F74: =IFERROR(VLOOKUP($B74,[1]NUM1!$G$3:$T$99,3,FALSE),0) -> 0 | G74: =IFERROR(VLOOKUP($B74,[1]NUM1!$G$3:$T$99,4,FALSE),0) -> 0 | H74: =IFERROR(VLOOKUP($B74,[1]NUM1!$G$3:$T$99,5,FALSE),0) -> 0 | I74: =IFERROR(VLOOKUP($B74,[1]NUM1!$G$3:$T$99,6,FALSE),0) -> 0 | J74: =IFERROR(VLOOKUP($B74,[1]NUM1!$G$3:$T$99,7,FALSE),0) -> 0 | K74: =IFERROR(VLOOKUP($B74,[1]NUM1!$G$3:$T$99,8,FALSE),0) -> 0 | L74: =IFERROR(VLOOKUP($B74,[1]NUM1!$G$3:$T$99,9,FALSE),0) -> 0 | M74: =IFERROR(VLOOKUP($B74,[1]NUM1!$G$3:$T$99,10,FALSE),0) -> 1 | N74: =IFERROR(VLOOKUP($B74,[1]NUM1!$G$3:$T$99,11,FALSE),0) -> 0 | O74: =IFERROR(VLOOKUP($B74,[1]NUM1!$G$3:$T$99,12,FALSE),0) -> 0 | P74: =IFERROR(VLOOKUP($B74,[1]NUM1!$G$3:$T$99,13,FALSE),0) -> 0 | Q74: =SUM(E74:P74) -> 1 | R74: =IFERROR(VLOOKUP($B74,[1]DEN1!$G$3:$T$102,2,FALSE),0) -> 0 | S74: =IFERROR(VLOOKUP($B74,[1]DEN1!$G$3:$T$102,3,FALSE),0) -> 0 | T74: =IFERROR(VLOOKUP($B74,[1]DEN1!$G$3:$T$102,4,FALSE),0) -> 0 | U74: =IFERROR(VLOOKUP($B74,[1]DEN1!$G$3:$T$102,5,FALSE),0) -> 0 | V74: =IFERROR(VLOOKUP($B74,[1]DEN1!$G$3:$T$102,6,FALSE),0) -> 0 | W74: =IFERROR(VLOOKUP($B74,[1]DEN1!$G$3:$T$102,7,FALSE),0) -> 0 | X74: =IFERROR(VLOOKUP($B74,[1]DEN1!$G$3:$T$102,8,FALSE),0) -> 0 | Y74: =IFERROR(VLOOKUP($B74,[1]DEN1!$G$3:$T$102,9,FALSE),0) -> 1 | Z74: =IFERROR(VLOOKUP($B74,[1]DEN1!$G$3:$T$102,10,FALSE),0) -> 0 | AA74: =IFERROR(VLOOKUP($B74,[1]DEN1!$G$3:$T$102,11,FALSE),0) -> 0 | AB74: =IFERROR(VLOOKUP($B74,[1]DEN1!$G$3:$T$102,12,FALSE),0) -> 0 | AC74: =IFERROR(VLOOKUP($B74,[1]DEN1!$G$3:$T$102,13,FALSE),0) -> 0 | AD74: =SUM(R74:AC74) -> 1
... A76: 04201-ILLAPEL | B76: 200366-CESFAM URBANO II | E76: =IFERROR(VLOOKUP($B76,[1]NUM1!$G$3:$T$99,2,FALSE),0) -> 0 | F76: =IFERROR(VLOOKUP($B76,[1]NUM1!$G$3:$T$99,3,FALSE),0) -> 0 | G76: =IFERROR(VLOOKUP($B76,[1]NUM1!$G$3:$T$99,4,FALSE),0) -> 0 | H76: =IFERROR(VLOOKUP($B76,[1]NUM1!$G$3:$T$99,5,FALSE),0) -> 1 | I76: =IFERROR(VLOOKUP($B76,[1]NUM1!$G$3:$T$99,6,FALSE),0) -> 5 | J76: =IFERROR(VLOOKUP($B76,[1]NUM1!$G$3:$T$99,7,FALSE),0) -> 0 | K76: =IFERROR(VLOOKUP($B76,[1]NUM1!$G$3:$T$99,8,FALSE),0) -> 0 | L76: =IFERROR(VLOOKUP($B76,[1]NUM1!$G$3:$T$99,9,FALSE),0) -> 3 | M76: =IFERROR(VLOOKUP($B76,[1]NUM1!$G$3:$T$99,10,FALSE),0) -> 0 | N76: =IFERROR(VLOOKUP($B76,[1]NUM1!$G$3:$T$99,11,FALSE),0) -> 0 | O76: =IFERROR(VLOOKUP($B76,[1]NUM1!$G$3:$T$99,12,FALSE),0) -> 0 | P76: =IFERROR(VLOOKUP($B76,[1]NUM1!$G$3:$T$99,13,FALSE),0) -> 0 | Q76: =SUM(E76:P76) -> 9 | R76: =IFERROR(VLOOKUP($B76,[1]DEN1!$G$3:$T$102,2,FALSE),0) -> 2 | S76: =IFERROR(VLOOKUP($B76,[1]DEN1!$G$3:$T$102,3,FALSE),0) -> 2 | T76: =IFERROR(VLOOKUP($B76,[1]DEN1!$G$3:$T$102,4,FALSE),0) -> 2 | U76: =IFERROR(VLOOKUP($B76,[1]DEN1!$G$3:$T$102,5,FALSE),0) -> 2 | V76: =IFERROR(VLOOKUP($B76,[1]DEN1!$G$3:$T$102,6,FALSE),0) -> 1 | W76: =IFERROR(VLOOKUP($B76,[1]DEN1!$G$3:$T$102,7,FALSE),0) -> 0 | X76: =IFERROR(VLOOKUP($B76,[1]DEN1!$G$3:$T$102,8,FALSE),0) -> 0 | Y76: =IFERROR(VLOOKUP($B76,[1]DEN1!$G$3:$T$102,9,FALSE),0) -> 0 | Z76: =IFERROR(VLOOKUP($B76,[1]DEN1!$G$3:$T$102,10,FALSE),0) -> 0 | AA76: =IFERROR(VLOOKUP($B76,[1]DEN1!$G$3:$T$102,11,FALSE),0) -> 0 | AB76: =IFERROR(VLOOKUP($B76,[1]DEN1!$G$3:$T$102,12,FALSE),0) -> 0 | AC76: =IFERROR(VLOOKUP($B76,[1]DEN1!$G$3:$T$102,13,FALSE),0) -> 0 | AD76: =SUM(R76:AC76) -> 9
A77: TOTAL ILLAPEL MUNICIPAL | C77: =D77/'Metas Muni'!G10 -> 1.1111111 | D77: =Q77/AD77 -> 1 | E77: =SUM(E63:E76) -> 0 | F77: =SUM(F63:F76) -> 0 | G77: =SUM(G63:G76) -> 0 | H77: =SUM(H63:H76) -> 2 | I77: =SUM(I63:I76) -> 7 | J77: =SUM(J63:J76) -> 0 | K77: =SUM(K63:K76) -> 0 | L77: =SUM(L63:L76) -> 4 | ... AC77: =SUM(AC63:AC76) -> 0 | AD77: =SUM(R77:AC77) -> 17
A78: 04202-CANELA | B78: 105309-CES. RURAL CANELA | E78: =IFERROR(VLOOKUP($B78,[1]NUM1!$G$3:$T$99,2,FALSE),0) -> 1 | F78: =IFERROR(VLOOKUP($B78,[1]NUM1!$G$3:$T$99,3,FALSE),0) -> 0 | G78: =IFERROR(VLOOKUP($B78,[1]NUM1!$G$3:$T$99,4,FALSE),0) -> 0 | H78: =IFERROR(VLOOKUP($B78,[1]NUM1!$G$3:$T$99,5,FALSE),0) -> 0 | I78: =IFERROR(VLOOKUP($B78,[1]NUM1!$G$3:$T$99,6,FALSE),0) -> 0 | J78: =IFERROR(VLOOKUP($B78,[1]NUM1!$G$3:$T$99,7,FALSE),0) -> 0 | K78: =IFERROR(VLOOKUP($B78,[1]NUM1!$G$3:$T$99,8,FALSE),0) -> 0 | L78: =IFERROR(VLOOKUP($B78,[1]NUM1!$G$3:$T$99,9,FALSE),0) -> 0 | M78: =IFERROR(VLOOKUP($B78,[1]NUM1!$G$3:$T$99,10,FALSE),0) -> 0 | N78: =IFERROR(VLOOKUP($B78,[1]NUM1!$G$3:$T$99,11,FALSE),0) -> 0 | O78: =IFERROR(VLOOKUP($B78,[1]NUM1!$G$3:$T$99,12,FALSE),0) -> 0 | P78: =IFERROR(VLOOKUP($B78,[1]NUM1!$G$3:$T$99,13,FALSE),0) -> 0 | Q78: =SUM(E78:P78) -> 1 | R78: =IFERROR(VLOOKUP($B78,[1]DEN1!$G$3:$T$102,2,FALSE),0) -> 0 | S78: =IFERROR(VLOOKUP($B78,[1]DEN1!$G$3:$T$102,3,FALSE),0) -> 0 | T78: =IFERROR(VLOOKUP($B78,[1]DEN1!$G$3:$T$102,4,FALSE),0) -> 0 | U78: =IFERROR(VLOOKUP($B78,[1]DEN1!$G$3:$T$102,5,FALSE),0) -> 0 | V78: =IFERROR(VLOOKUP($B78,[1]DEN1!$G$3:$T$102,6,FALSE),0) -> 0 | W78: =IFERROR(VLOOKUP($B78,[1]DEN1!$G$3:$T$102,7,FALSE),0) -> 1 | X78: =IFERROR(VLOOKUP($B78,[1]DEN1!$G$3:$T$102,8,FALSE),0) -> 0 | Y78: =IFERROR(VLOOKUP($B78,[1]DEN1!$G$3:$T$102,9,FALSE),0) -> 0 | Z78: =IFERROR(VLOOKUP($B78,[1]DEN1!$G$3:$T$102,10,FALSE),0) -> 0 | AA78: =IFERROR(VLOOKUP($B78,[1]DEN1!$G$3:$T$102,11,FALSE),0) -> 0 | AB78: =IFERROR(VLOOKUP($B78,[1]DEN1!$G$3:$T$102,12,FALSE),0) -> 0 | AC78: =IFERROR(VLOOKUP($B78,[1]DEN1!$G$3:$T$102,13,FALSE),0) -> 0 | AD78: =SUM(R78:AC78) -> 1
A79: 04202-CANELA | B79: 105450-P.S.R. MINCHA NORTE | E79: =IFERROR(VLOOKUP($B79,[1]NUM1!$G$3:$T$99,2,FALSE),0) -> 0 | F79: =IFERROR(VLOOKUP($B79,[1]NUM1!$G$3:$T$99,3,FALSE),0) -> 0 | G79: =IFERROR(VLOOKUP($B79,[1]NUM1!$G$3:$T$99,4,FALSE),0) -> 0 | H79: =IFERROR(VLOOKUP($B79,[1]NUM1!$G$3:$T$99,5,FALSE),0) -> 0 | I79: =IFERROR(VLOOKUP($B79,[1]NUM1!$G$3:$T$99,6,FALSE),0) -> 0 | J79: =IFERROR(VLOOKUP($B79,[1]NUM1!$G$3:$T$99,7,FALSE),0) -> 0 | K79: =IFERROR(VLOOKUP($B79,[1]NUM1!$G$3:$T$99,8,FALSE),0) -> 0 | L79: =IFERROR(VLOOKUP($B79,[1]NUM1!$G$3:$T$99,9,FALSE),0) -> 0 | M79: =IFERROR(VLOOKUP($B79,[1]NUM1!$G$3:$T$99,10,FALSE),0) -> 0 | N79: =IFERROR(VLOOKUP($B79,[1]NUM1!$G$3:$T$99,11,FALSE),0) -> 0 | O79: =IFERROR(VLOOKUP($B79,[1]NUM1!$G$3:$T$99,12,FALSE),0) -> 0 | P79: =IFERROR(VLOOKUP($B79,[1]NUM1!$G$3:$T$99,13,FALSE),0) -> 0 | Q79: =SUM(E79:P79) -> 0 | R79: =IFERROR(VLOOKUP($B79,[1]DEN1!$G$3:$T$102,2,FALSE),0) -> 0 | S79: =IFERROR(VLOOKUP($B79,[1]DEN1!$G$3:$T$102,3,FALSE),0) -> 0 | T79: =IFERROR(VLOOKUP($B79,[1]DEN1!$G$3:$T$102,4,FALSE),0) -> 0 | U79: =IFERROR(VLOOKUP($B79,[1]DEN1!$G$3:$T$102,5,FALSE),0) -> 0 | V79: =IFERROR(VLOOKUP($B79,[1]DEN1!$G$3:$T$102,6,FALSE),0) -> 0 | W79: =IFERROR(VLOOKUP($B79,[1]DEN1!$G$3:$T$102,7,FALSE),0) -> 0 | X79: =IFERROR(VLOOKUP($B79,[1]DEN1!$G$3:$T$102,8,FALSE),0) -> 0 | Y79: =IFERROR(VLOOKUP($B79,[1]DEN1!$G$3:$T$102,9,FALSE),0) -> 0 | Z79: =IFERROR(VLOOKUP($B79,[1]DEN1!$G$3:$T$102,10,FALSE),0) -> 0 | AA79: =IFERROR(VLOOKUP($B79,[1]DEN1!$G$3:$T$102,11,FALSE),0) -> 0 | AB79: =IFERROR(VLOOKUP($B79,[1]DEN1!$G$3:$T$102,12,FALSE),0) -> 0 | AC79: =IFERROR(VLOOKUP($B79,[1]DEN1!$G$3:$T$102,13,FALSE),0) -> 0 | AD79: =SUM(R79:AC79) -> 0
A80: 04202-CANELA | B80: 105451-P.S.R. AGUA FRIA | E80: =IFERROR(VLOOKUP($B80,[1]NUM1!$G$3:$T$99,2,FALSE),0) -> 0 | F80: =IFERROR(VLOOKUP($B80,[1]NUM1!$G$3:$T$99,3,FALSE),0) -> 0 | G80: =IFERROR(VLOOKUP($B80,[1]NUM1!$G$3:$T$99,4,FALSE),0) -> 0 | H80: =IFERROR(VLOOKUP($B80,[1]NUM1!$G$3:$T$99,5,FALSE),0) -> 0 | I80: =IFERROR(VLOOKUP($B80,[1]NUM1!$G$3:$T$99,6,FALSE),0) -> 0 | J80: =IFERROR(VLOOKUP($B80,[1]NUM1!$G$3:$T$99,7,FALSE),0) -> 0 | K80: =IFERROR(VLOOKUP($B80,[1]NUM1!$G$3:$T$99,8,FALSE),0) -> 0 | L80: =IFERROR(VLOOKUP($B80,[1]NUM1!$G$3:$T$99,9,FALSE),0) -> 0 | M80: =IFERROR(VLOOKUP($B80,[1]NUM1!$G$3:$T$99,10,FALSE),0) -> 0 | N80: =IFERROR(VLOOKUP($B80,[1]NUM1!$G$3:$T$99,11,FALSE),0) -> 0 | O80: =IFERROR(VLOOKUP($B80,[1]NUM1!$G$3:$T$99,12,FALSE),0) -> 0 | P80: =IFERROR(VLOOKUP($B80,[1]NUM1!$G$3:$T$99,13,FALSE),0) -> 0 | Q80: =SUM(E80:P80) -> 0 | R80: =IFERROR(VLOOKUP($B80,[1]DEN1!$G$3:$T$102,2,FALSE),0) -> 0 | S80: =IFERROR(VLOOKUP($B80,[1]DEN1!$G$3:$T$102,3,FALSE),0) -> 0 | T80: =IFERROR(VLOOKUP($B80,[1]DEN1!$G$3:$T$102,4,FALSE),0) -> 0 | U80: =IFERROR(VLOOKUP($B80,[1]DEN1!$G$3:$T$102,5,FALSE),0) -> 0 | V80: =IFERROR(VLOOKUP($B80,[1]DEN1!$G$3:$T$102,6,FALSE),0) -> 0 | W80: =IFERROR(VLOOKUP($B80,[1]DEN1!$G$3:$T$102,7,FALSE),0) -> 0 | X80: =IFERROR(VLOOKUP($B80,[1]DEN1!$G$3:$T$102,8,FALSE),0) -> 0 | Y80: =IFERROR(VLOOKUP($B80,[1]DEN1!$G$3:$T$102,9,FALSE),0) -> 0 | Z80: =IFERROR(VLOOKUP($B80,[1]DEN1!$G$3:$T$102,10,FALSE),0) -> 0 | AA80: =IFERROR(VLOOKUP($B80,[1]DEN1!$G$3:$T$102,11,FALSE),0) -> 0 | AB80: =IFERROR(VLOOKUP($B80,[1]DEN1!$G$3:$T$102,12,FALSE),0) -> 0 | AC80: =IFERROR(VLOOKUP($B80,[1]DEN1!$G$3:$T$102,13,FALSE),0) -> 0 | AD80: =SUM(R80:AC80) -> 0
A81: 04202-CANELA | B81: 105482-P.S.R. CANELA ALTA | E81: =IFERROR(VLOOKUP($B81,[1]NUM1!$G$3:$T$99,2,FALSE),0) -> 0 | F81: =IFERROR(VLOOKUP($B81,[1]NUM1!$G$3:$T$99,3,FALSE),0) -> 0 | G81: =IFERROR(VLOOKUP($B81,[1]NUM1!$G$3:$T$99,4,FALSE),0) -> 0 | H81: =IFERROR(VLOOKUP($B81,[1]NUM1!$G$3:$T$99,5,FALSE),0) -> 0 | I81: =IFERROR(VLOOKUP($B81,[1]NUM1!$G$3:$T$99,6,FALSE),0) -> 0 | J81: =IFERROR(VLOOKUP($B81,[1]NUM1!$G$3:$T$99,7,FALSE),0) -> 0 | K81: =IFERROR(VLOOKUP($B81,[1]NUM1!$G$3:$T$99,8,FALSE),0) -> 0 | L81: =IFERROR(VLOOKUP($B81,[1]NUM1!$G$3:$T$99,9,FALSE),0) -> 0 | M81: =IFERROR(VLOOKUP($B81,[1]NUM1!$G$3:$T$99,10,FALSE),0) -> 0 | N81: =IFERROR(VLOOKUP($B81,[1]NUM1!$G$3:$T$99,11,FALSE),0) -> 0 | O81: =IFERROR(VLOOKUP($B81,[1]NUM1!$G$3:$T$99,12,FALSE),0) -> 0 | P81: =IFERROR(VLOOKUP($B81,[1]NUM1!$G$3:$T$99,13,FALSE),0) -> 0 | Q81: =SUM(E81:P81) -> 0 | R81: =IFERROR(VLOOKUP($B81,[1]DEN1!$G$3:$T$102,2,FALSE),0) -> 0 | S81: =IFERROR(VLOOKUP($B81,[1]DEN1!$G$3:$T$102,3,FALSE),0) -> 0 | T81: =IFERROR(VLOOKUP($B81,[1]DEN1!$G$3:$T$102,4,FALSE),0) -> 0 | U81: =IFERROR(VLOOKUP($B81,[1]DEN1!$G$3:$T$102,5,FALSE),0) -> 0 | V81: =IFERROR(VLOOKUP($B81,[1]DEN1!$G$3:$T$102,6,FALSE),0) -> 0 | W81: =IFERROR(VLOOKUP($B81,[1]DEN1!$G$3:$T$102,7,FALSE),0) -> 0 | X81: =IFERROR(VLOOKUP($B81,[1]DEN1!$G$3:$T$102,8,FALSE),0) -> 0 | Y81: =IFERROR(VLOOKUP($B81,[1]DEN1!$G$3:$T$102,9,FALSE),0) -> 0 | Z81: =IFERROR(VLOOKUP($B81,[1]DEN1!$G$3:$T$102,10,FALSE),0) -> 0 | AA81: =IFERROR(VLOOKUP($B81,[1]DEN1!$G$3:$T$102,11,FALSE),0) -> 0 | AB81: =IFERROR(VLOOKUP($B81,[1]DEN1!$G$3:$T$102,12,FALSE),0) -> 0 | AC81: =IFERROR(VLOOKUP($B81,[1]DEN1!$G$3:$T$102,13,FALSE),0) -> 0 | AD81: =SUM(R81:AC81) -> 0
A82: 04202-CANELA | B82: 105483-P.S.R. LOS RULOS | E82: =IFERROR(VLOOKUP($B82,[1]NUM1!$G$3:$T$99,2,FALSE),0) -> 0 | F82: =IFERROR(VLOOKUP($B82,[1]NUM1!$G$3:$T$99,3,FALSE),0) -> 0 | G82: =IFERROR(VLOOKUP($B82,[1]NUM1!$G$3:$T$99,4,FALSE),0) -> 0 | H82: =IFERROR(VLOOKUP($B82,[1]NUM1!$G$3:$T$99,5,FALSE),0) -> 0 | I82: =IFERROR(VLOOKUP($B82,[1]NUM1!$G$3:$T$99,6,FALSE),0) -> 0 | J82: =IFERROR(VLOOKUP($B82,[1]NUM1!$G$3:$T$99,7,FALSE),0) -> 0 | K82: =IFERROR(VLOOKUP($B82,[1]NUM1!$G$3:$T$99,8,FALSE),0) -> 0 | L82: =IFERROR(VLOOKUP($B82,[1]NUM1!$G$3:$T$99,9,FALSE),0) -> 0 | M82: =IFERROR(VLOOKUP($B82,[1]NUM1!$G$3:$T$99,10,FALSE),0) -> 0 | N82: =IFERROR(VLOOKUP($B82,[1]NUM1!$G$3:$T$99,11,FALSE),0) -> 0 | O82: =IFERROR(VLOOKUP($B82,[1]NUM1!$G$3:$T$99,12,FALSE),0) -> 0 | P82: =IFERROR(VLOOKUP($B82,[1]NUM1!$G$3:$T$99,13,FALSE),0) -> 0 | Q82: =SUM(E82:P82) -> 0 | R82: =IFERROR(VLOOKUP($B82,[1]DEN1!$G$3:$T$102,2,FALSE),0) -> 0 | S82: =IFERROR(VLOOKUP($B82,[1]DEN1!$G$3:$T$102,3,FALSE),0) -> 0 | T82: =IFERROR(VLOOKUP($B82,[1]DEN1!$G$3:$T$102,4,FALSE),0) -> 0 | U82: =IFERROR(VLOOKUP($B82,[1]DEN1!$G$3:$T$102,5,FALSE),0) -> 0 | V82: =IFERROR(VLOOKUP($B82,[1]DEN1!$G$3:$T$102,6,FALSE),0) -> 0 | W82: =IFERROR(VLOOKUP($B82,[1]DEN1!$G$3:$T$102,7,FALSE),0) -> 0 | X82: =IFERROR(VLOOKUP($B82,[1]DEN1!$G$3:$T$102,8,FALSE),0) -> 0 | Y82: =IFERROR(VLOOKUP($B82,[1]DEN1!$G$3:$T$102,9,FALSE),0) -> 0 | Z82: =IFERROR(VLOOKUP($B82,[1]DEN1!$G$3:$T$102,10,FALSE),0) -> 0 | AA82: =IFERROR(VLOOKUP($B82,[1]DEN1!$G$3:$T$102,11,FALSE),0) -> 0 | AB82: =IFERROR(VLOOKUP($B82,[1]DEN1!$G$3:$T$102,12,FALSE),0) -> 0 | AC82: =IFERROR(VLOOKUP($B82,[1]DEN1!$G$3:$T$102,13,FALSE),0) -> 0 | AD82: =SUM(R82:AC82) -> 0
A83: 04202-CANELA | B83: 105484-P.S.R. HUENTELAUQUEN | E83: =IFERROR(VLOOKUP($B83,[1]NUM1!$G$3:$T$99,2,FALSE),0) -> 0 | F83: =IFERROR(VLOOKUP($B83,[1]NUM1!$G$3:$T$99,3,FALSE),0) -> 0 | G83: =IFERROR(VLOOKUP($B83,[1]NUM1!$G$3:$T$99,4,FALSE),0) -> 0 | H83: =IFERROR(VLOOKUP($B83,[1]NUM1!$G$3:$T$99,5,FALSE),0) -> 0 | I83: =IFERROR(VLOOKUP($B83,[1]NUM1!$G$3:$T$99,6,FALSE),0) -> 0 | J83: =IFERROR(VLOOKUP($B83,[1]NUM1!$G$3:$T$99,7,FALSE),0) -> 0 | K83: =IFERROR(VLOOKUP($B83,[1]NUM1!$G$3:$T$99,8,FALSE),0) -> 0 | L83: =IFERROR(VLOOKUP($B83,[1]NUM1!$G$3:$T$99,9,FALSE),0) -> 0 | M83: =IFERROR(VLOOKUP($B83,[1]NUM1!$G$3:$T$99,10,FALSE),0) -> 0 | N83: =IFERROR(VLOOKUP($B83,[1]NUM1!$G$3:$T$99,11,FALSE),0) -> 0 | O83: =IFERROR(VLOOKUP($B83,[1]NUM1!$G$3:$T$99,12,FALSE),0) -> 0 | P83: =IFERROR(VLOOKUP($B83,[1]NUM1!$G$3:$T$99,13,FALSE),0) -> 0 | Q83: =SUM(E83:P83) -> 0 | R83: =IFERROR(VLOOKUP($B83,[1]DEN1!$G$3:$T$102,2,FALSE),0) -> 0 | S83: =IFERROR(VLOOKUP($B83,[1]DEN1!$G$3:$T$102,3,FALSE),0) -> 0 | T83: =IFERROR(VLOOKUP($B83,[1]DEN1!$G$3:$T$102,4,FALSE),0) -> 0 | U83: =IFERROR(VLOOKUP($B83,[1]DEN1!$G$3:$T$102,5,FALSE),0) -> 0 | V83: =IFERROR(VLOOKUP($B83,[1]DEN1!$G$3:$T$102,6,FALSE),0) -> 0 | W83: =IFERROR(VLOOKUP($B83,[1]DEN1!$G$3:$T$102,7,FALSE),0) -> 0 | X83: =IFERROR(VLOOKUP($B83,[1]DEN1!$G$3:$T$102,8,FALSE),0) -> 0 | Y83: =IFERROR(VLOOKUP($B83,[1]DEN1!$G$3:$T$102,9,FALSE),0) -> 0 | Z83: =IFERROR(VLOOKUP($B83,[1]DEN1!$G$3:$T$102,10,FALSE),0) -> 0 | AA83: =IFERROR(VLOOKUP($B83,[1]DEN1!$G$3:$T$102,11,FALSE),0) -> 0 | AB83: =IFERROR(VLOOKUP($B83,[1]DEN1!$G$3:$T$102,12,FALSE),0) -> 0 | AC83: =IFERROR(VLOOKUP($B83,[1]DEN1!$G$3:$T$102,13,FALSE),0) -> 0 | AD83: =SUM(R83:AC83) -> 0
A84: 04202-CANELA | B84: 105488-P.S.R. ESPIRITU SANTO | E84: =IFERROR(VLOOKUP($B84,[1]NUM1!$G$3:$T$99,2,FALSE),0) -> 0 | F84: =IFERROR(VLOOKUP($B84,[1]NUM1!$G$3:$T$99,3,FALSE),0) -> 0 | G84: =IFERROR(VLOOKUP($B84,[1]NUM1!$G$3:$T$99,4,FALSE),0) -> 0 | H84: =IFERROR(VLOOKUP($B84,[1]NUM1!$G$3:$T$99,5,FALSE),0) -> 0 | I84: =IFERROR(VLOOKUP($B84,[1]NUM1!$G$3:$T$99,6,FALSE),0) -> 0 | J84: =IFERROR(VLOOKUP($B84,[1]NUM1!$G$3:$T$99,7,FALSE),0) -> 0 | K84: =IFERROR(VLOOKUP($B84,[1]NUM1!$G$3:$T$99,8,FALSE),0) -> 0 | L84: =IFERROR(VLOOKUP($B84,[1]NUM1!$G$3:$T$99,9,FALSE),0) -> 0 | M84: =IFERROR(VLOOKUP($B84,[1]NUM1!$G$3:$T$99,10,FALSE),0) -> 0 | N84: =IFERROR(VLOOKUP($B84,[1]NUM1!$G$3:$T$99,11,FALSE),0) -> 0 | O84: =IFERROR(VLOOKUP($B84,[1]NUM1!$G$3:$T$99,12,FALSE),0) -> 0 | P84: =IFERROR(VLOOKUP($B84,[1]NUM1!$G$3:$T$99,13,FALSE),0) -> 0 | Q84: =SUM(E84:P84) -> 0 | R84: =IFERROR(VLOOKUP($B84,[1]DEN1!$G$3:$T$102,2,FALSE),0) -> 0 | S84: =IFERROR(VLOOKUP($B84,[1]DEN1!$G$3:$T$102,3,FALSE),0) -> 0 | T84: =IFERROR(VLOOKUP($B84,[1]DEN1!$G$3:$T$102,4,FALSE),0) -> 0 | U84: =IFERROR(VLOOKUP($B84,[1]DEN1!$G$3:$T$102,5,FALSE),0) -> 0 | V84: =IFERROR(VLOOKUP($B84,[1]DEN1!$G$3:$T$102,6,FALSE),0) -> 0 | W84: =IFERROR(VLOOKUP($B84,[1]DEN1!$G$3:$T$102,7,FALSE),0) -> 0 | X84: =IFERROR(VLOOKUP($B84,[1]DEN1!$G$3:$T$102,8,FALSE),0) -> 0 | Y84: =IFERROR(VLOOKUP($B84,[1]DEN1!$G$3:$T$102,9,FALSE),0) -> 0 | Z84: =IFERROR(VLOOKUP($B84,[1]DEN1!$G$3:$T$102,10,FALSE),0) -> 0 | AA84: =IFERROR(VLOOKUP($B84,[1]DEN1!$G$3:$T$102,11,FALSE),0) -> 0 | AB84: =IFERROR(VLOOKUP($B84,[1]DEN1!$G$3:$T$102,12,FALSE),0) -> 0 | AC84: =IFERROR(VLOOKUP($B84,[1]DEN1!$G$3:$T$102,13,FALSE),0) -> 0 | AD84: =SUM(R84:AC84) -> 0
A85: 04202-CANELA | B85: 105493-P.S.R. MINCHA SUR | E85: =IFERROR(VLOOKUP($B85,[1]NUM1!$G$3:$T$99,2,FALSE),0) -> 0 | F85: =IFERROR(VLOOKUP($B85,[1]NUM1!$G$3:$T$99,3,FALSE),0) -> 0 | G85: =IFERROR(VLOOKUP($B85,[1]NUM1!$G$3:$T$99,4,FALSE),0) -> 0 | H85: =IFERROR(VLOOKUP($B85,[1]NUM1!$G$3:$T$99,5,FALSE),0) -> 0 | I85: =IFERROR(VLOOKUP($B85,[1]NUM1!$G$3:$T$99,6,FALSE),0) -> 0 | J85: =IFERROR(VLOOKUP($B85,[1]NUM1!$G$3:$T$99,7,FALSE),0) -> 0 | K85: =IFERROR(VLOOKUP($B85,[1]NUM1!$G$3:$T$99,8,FALSE),0) -> 0 | L85: =IFERROR(VLOOKUP($B85,[1]NUM1!$G$3:$T$99,9,FALSE),0) -> 0 | M85: =IFERROR(VLOOKUP($B85,[1]NUM1!$G$3:$T$99,10,FALSE),0) -> 0 | N85: =IFERROR(VLOOKUP($B85,[1]NUM1!$G$3:$T$99,11,FALSE),0) -> 0 | O85: =IFERROR(VLOOKUP($B85,[1]NUM1!$G$3:$T$99,12,FALSE),0) -> 0 | P85: =IFERROR(VLOOKUP($B85,[1]NUM1!$G$3:$T$99,13,FALSE),0) -> 0 | Q85: =SUM(E85:P85) -> 0 | R85: =IFERROR(VLOOKUP($B85,[1]DEN1!$G$3:$T$102,2,FALSE),0) -> 0 | S85: =IFERROR(VLOOKUP($B85,[1]DEN1!$G$3:$T$102,3,FALSE),0) -> 0 | T85: =IFERROR(VLOOKUP($B85,[1]DEN1!$G$3:$T$102,4,FALSE),0) -> 0 | U85: =IFERROR(VLOOKUP($B85,[1]DEN1!$G$3:$T$102,5,FALSE),0) -> 0 | V85: =IFERROR(VLOOKUP($B85,[1]DEN1!$G$3:$T$102,6,FALSE),0) -> 0 | W85: =IFERROR(VLOOKUP($B85,[1]DEN1!$G$3:$T$102,7,FALSE),0) -> 0 | X85: =IFERROR(VLOOKUP($B85,[1]DEN1!$G$3:$T$102,8,FALSE),0) -> 0 | Y85: =IFERROR(VLOOKUP($B85,[1]DEN1!$G$3:$T$102,9,FALSE),0) -> 0 | Z85: =IFERROR(VLOOKUP($B85,[1]DEN1!$G$3:$T$102,10,FALSE),0) -> 0 | AA85: =IFERROR(VLOOKUP($B85,[1]DEN1!$G$3:$T$102,11,FALSE),0) -> 0 | AB85: =IFERROR(VLOOKUP($B85,[1]DEN1!$G$3:$T$102,12,FALSE),0) -> 0 | AC85: =IFERROR(VLOOKUP($B85,[1]DEN1!$G$3:$T$102,13,FALSE),0) -> 0 | AD85: =SUM(R85:AC85) -> 0
A86: 04202-CANELA | B86: 105497-P.S.R. JABONERIA | E86: =IFERROR(VLOOKUP($B86,[1]NUM1!$G$3:$T$99,2,FALSE),0) -> 0 | F86: =IFERROR(VLOOKUP($B86,[1]NUM1!$G$3:$T$99,3,FALSE),0) -> 0 | G86: =IFERROR(VLOOKUP($B86,[1]NUM1!$G$3:$T$99,4,FALSE),0) -> 0 | H86: =IFERROR(VLOOKUP($B86,[1]NUM1!$G$3:$T$99,5,FALSE),0) -> 0 | I86: =IFERROR(VLOOKUP($B86,[1]NUM1!$G$3:$T$99,6,FALSE),0) -> 0 | J86: =IFERROR(VLOOKUP($B86,[1]NUM1!$G$3:$T$99,7,FALSE),0) -> 0 | K86: =IFERROR(VLOOKUP($B86,[1]NUM1!$G$3:$T$99,8,FALSE),0) -> 0 | L86: =IFERROR(VLOOKUP($B86,[1]NUM1!$G$3:$T$99,9,FALSE),0) -> 0 | M86: =IFERROR(VLOOKUP($B86,[1]NUM1!$G$3:$T$99,10,FALSE),0) -> 0 | N86: =IFERROR(VLOOKUP($B86,[1]NUM1!$G$3:$T$99,11,FALSE),0) -> 0 | O86: =IFERROR(VLOOKUP($B86,[1]NUM1!$G$3:$T$99,12,FALSE),0) -> 0 | P86: =IFERROR(VLOOKUP($B86,[1]NUM1!$G$3:$T$99,13,FALSE),0) -> 0 | Q86: =SUM(E86:P86) -> 0 | R86: =IFERROR(VLOOKUP($B86,[1]DEN1!$G$3:$T$102,2,FALSE),0) -> 0 | S86: =IFERROR(VLOOKUP($B86,[1]DEN1!$G$3:$T$102,3,FALSE),0) -> 0 | T86: =IFERROR(VLOOKUP($B86,[1]DEN1!$G$3:$T$102,4,FALSE),0) -> 0 | U86: =IFERROR(VLOOKUP($B86,[1]DEN1!$G$3:$T$102,5,FALSE),0) -> 0 | V86: =IFERROR(VLOOKUP($B86,[1]DEN1!$G$3:$T$102,6,FALSE),0) -> 0 | W86: =IFERROR(VLOOKUP($B86,[1]DEN1!$G$3:$T$102,7,FALSE),0) -> 0 | X86: =IFERROR(VLOOKUP($B86,[1]DEN1!$G$3:$T$102,8,FALSE),0) -> 0 | Y86: =IFERROR(VLOOKUP($B86,[1]DEN1!$G$3:$T$102,9,FALSE),0) -> 0 | Z86: =IFERROR(VLOOKUP($B86,[1]DEN1!$G$3:$T$102,10,FALSE),0) -> 0 | AA86: =IFERROR(VLOOKUP($B86,[1]DEN1!$G$3:$T$102,11,FALSE),0) -> 0 | AB86: =IFERROR(VLOOKUP($B86,[1]DEN1!$G$3:$T$102,12,FALSE),0) -> 0 | AC86: =IFERROR(VLOOKUP($B86,[1]DEN1!$G$3:$T$102,13,FALSE),0) -> 0 | AD86: =SUM(R86:AC86) -> 0
A87: 04202-CANELA | B87: 105498-P.S.R. QUEBRADA DE LINARES | E87: =IFERROR(VLOOKUP($B87,[1]NUM1!$G$3:$T$99,2,FALSE),0) -> 0 | F87: =IFERROR(VLOOKUP($B87,[1]NUM1!$G$3:$T$99,3,FALSE),0) -> 0 | G87: =IFERROR(VLOOKUP($B87,[1]NUM1!$G$3:$T$99,4,FALSE),0) -> 0 | H87: =IFERROR(VLOOKUP($B87,[1]NUM1!$G$3:$T$99,5,FALSE),0) -> 0 | I87: =IFERROR(VLOOKUP($B87,[1]NUM1!$G$3:$T$99,6,FALSE),0) -> 0 | J87: =IFERROR(VLOOKUP($B87,[1]NUM1!$G$3:$T$99,7,FALSE),0) -> 0 | K87: =IFERROR(VLOOKUP($B87,[1]NUM1!$G$3:$T$99,8,FALSE),0) -> 0 | L87: =IFERROR(VLOOKUP($B87,[1]NUM1!$G$3:$T$99,9,FALSE),0) -> 0 | M87: =IFERROR(VLOOKUP($B87,[1]NUM1!$G$3:$T$99,10,FALSE),0) -> 0 | N87: =IFERROR(VLOOKUP($B87,[1]NUM1!$G$3:$T$99,11,FALSE),0) -> 0 | O87: =IFERROR(VLOOKUP($B87,[1]NUM1!$G$3:$T$99,12,FALSE),0) -> 0 | P87: =IFERROR(VLOOKUP($B87,[1]NUM1!$G$3:$T$99,13,FALSE),0) -> 0 | Q87: =SUM(E87:P87) -> 0 | R87: =IFERROR(VLOOKUP($B87,[1]DEN1!$G$3:$T$102,2,FALSE),0) -> 0 | S87: =IFERROR(VLOOKUP($B87,[1]DEN1!$G$3:$T$102,3,FALSE),0) -> 0 | T87: =IFERROR(VLOOKUP($B87,[1]DEN1!$G$3:$T$102,4,FALSE),0) -> 0 | U87: =IFERROR(VLOOKUP($B87,[1]DEN1!$G$3:$T$102,5,FALSE),0) -> 0 | V87: =IFERROR(VLOOKUP($B87,[1]DEN1!$G$3:$T$102,6,FALSE),0) -> 0 | W87: =IFERROR(VLOOKUP($B87,[1]DEN1!$G$3:$T$102,7,FALSE),0) -> 0 | X87: =IFERROR(VLOOKUP($B87,[1]DEN1!$G$3:$T$102,8,FALSE),0) -> 0 | Y87: =IFERROR(VLOOKUP($B87,[1]DEN1!$G$3:$T$102,9,FALSE),0) -> 0 | Z87: =IFERROR(VLOOKUP($B87,[1]DEN1!$G$3:$T$102,10,FALSE),0) -> 0 | AA87: =IFERROR(VLOOKUP($B87,[1]DEN1!$G$3:$T$102,11,FALSE),0) -> 0 | AB87: =IFERROR(VLOOKUP($B87,[1]DEN1!$G$3:$T$102,12,FALSE),0) -> 0 | AC87: =IFERROR(VLOOKUP($B87,[1]DEN1!$G$3:$T$102,13,FALSE),0) -> 0 | AD87: =SUM(R87:AC87) -> 0
A88: TOTAL CANELA MUNICIPAL | C88: =D88/'Metas Muni'!G11 -> 1.1111111 | D88: =Q88/AD88 -> 1 | E88: =SUM(E78:E87) -> 1 | F88: =SUM(F78:F87) -> 0 | G88: =SUM(G78:G87) -> 0 | H88: =SUM(H78:H87) -> 0 | I88: =SUM(I78:I87) -> 0 | J88: =SUM(J78:J87) -> 0 | K88: =SUM(K78:K87) -> 0 | L88: =SUM(L78:L87) -> 0 | ... AC88: =SUM(AC78:AC87) -> 0 | AD88: =SUM(R88:AC88) -> 1
A89: 04203-LOS VILOS | B89: 105478-P.S.R. CAIMANES | E89: =IFERROR(VLOOKUP($B89,[1]NUM1!$G$3:$T$99,2,FALSE),0) -> 0 | F89: =IFERROR(VLOOKUP($B89,[1]NUM1!$G$3:$T$99,3,FALSE),0) -> 0 | G89: =IFERROR(VLOOKUP($B89,[1]NUM1!$G$3:$T$99,4,FALSE),0) -> 0 | H89: =IFERROR(VLOOKUP($B89,[1]NUM1!$G$3:$T$99,5,FALSE),0) -> 0 | I89: =IFERROR(VLOOKUP($B89,[1]NUM1!$G$3:$T$99,6,FALSE),0) -> 0 | J89: =IFERROR(VLOOKUP($B89,[1]NUM1!$G$3:$T$99,7,FALSE),0) -> 0 | K89: =IFERROR(VLOOKUP($B89,[1]NUM1!$G$3:$T$99,8,FALSE),0) -> 0 | L89: =IFERROR(VLOOKUP($B89,[1]NUM1!$G$3:$T$99,9,FALSE),0) -> 0 | M89: =IFERROR(VLOOKUP($B89,[1]NUM1!$G$3:$T$99,10,FALSE),0) -> 0 | N89: =IFERROR(VLOOKUP($B89,[1]NUM1!$G$3:$T$99,11,FALSE),0) -> 0 | O89: =IFERROR(VLOOKUP($B89,[1]NUM1!$G$3:$T$99,12,FALSE),0) -> 0 | P89: =IFERROR(VLOOKUP($B89,[1]NUM1!$G$3:$T$99,13,FALSE),0) -> 0 | Q89: =SUM(E89:P89) -> 0 | R89: =IFERROR(VLOOKUP($B89,[1]DEN1!$G$3:$T$102,2,FALSE),0) -> 0 | S89: =IFERROR(VLOOKUP($B89,[1]DEN1!$G$3:$T$102,3,FALSE),0) -> 0 | T89: =IFERROR(VLOOKUP($B89,[1]DEN1!$G$3:$T$102,4,FALSE),0) -> 0 | U89: =IFERROR(VLOOKUP($B89,[1]DEN1!$G$3:$T$102,5,FALSE),0) -> 0 | V89: =IFERROR(VLOOKUP($B89,[1]DEN1!$G$3:$T$102,6,FALSE),0) -> 0 | W89: =IFERROR(VLOOKUP($B89,[1]DEN1!$G$3:$T$102,7,FALSE),0) -> 0 | X89: =IFERROR(VLOOKUP($B89,[1]DEN1!$G$3:$T$102,8,FALSE),0) -> 0 | Y89: =IFERROR(VLOOKUP($B89,[1]DEN1!$G$3:$T$102,9,FALSE),0) -> 0 | Z89: =IFERROR(VLOOKUP($B89,[1]DEN1!$G$3:$T$102,10,FALSE),0) -> 0 | AA89: =IFERROR(VLOOKUP($B89,[1]DEN1!$G$3:$T$102,11,FALSE),0) -> 0 | AB89: =IFERROR(VLOOKUP($B89,[1]DEN1!$G$3:$T$102,12,FALSE),0) -> 0 | AC89: =IFERROR(VLOOKUP($B89,[1]DEN1!$G$3:$T$102,13,FALSE),0) -> 0 | AD89: =SUM(R89:AC89) -> 0
A90: 04203-LOS VILOS | B90: 105479-P.S.R. GUANGUALI | E90: =IFERROR(VLOOKUP($B90,[1]NUM1!$G$3:$T$99,2,FALSE),0) -> 0 | F90: =IFERROR(VLOOKUP($B90,[1]NUM1!$G$3:$T$99,3,FALSE),0) -> 0 | G90: =IFERROR(VLOOKUP($B90,[1]NUM1!$G$3:$T$99,4,FALSE),0) -> 0 | H90: =IFERROR(VLOOKUP($B90,[1]NUM1!$G$3:$T$99,5,FALSE),0) -> 0 | I90: =IFERROR(VLOOKUP($B90,[1]NUM1!$G$3:$T$99,6,FALSE),0) -> 0 | J90: =IFERROR(VLOOKUP($B90,[1]NUM1!$G$3:$T$99,7,FALSE),0) -> 0 | K90: =IFERROR(VLOOKUP($B90,[1]NUM1!$G$3:$T$99,8,FALSE),0) -> 0 | L90: =IFERROR(VLOOKUP($B90,[1]NUM1!$G$3:$T$99,9,FALSE),0) -> 0 | M90: =IFERROR(VLOOKUP($B90,[1]NUM1!$G$3:$T$99,10,FALSE),0) -> 0 | N90: =IFERROR(VLOOKUP($B90,[1]NUM1!$G$3:$T$99,11,FALSE),0) -> 0 | O90: =IFERROR(VLOOKUP($B90,[1]NUM1!$G$3:$T$99,12,FALSE),0) -> 0 | P90: =IFERROR(VLOOKUP($B90,[1]NUM1!$G$3:$T$99,13,FALSE),0) -> 0 | Q90: =SUM(E90:P90) -> 0 | R90: =IFERROR(VLOOKUP($B90,[1]DEN1!$G$3:$T$102,2,FALSE),0) -> 0 | S90: =IFERROR(VLOOKUP($B90,[1]DEN1!$G$3:$T$102,3,FALSE),0) -> 0 | T90: =IFERROR(VLOOKUP($B90,[1]DEN1!$G$3:$T$102,4,FALSE),0) -> 0 | U90: =IFERROR(VLOOKUP($B90,[1]DEN1!$G$3:$T$102,5,FALSE),0) -> 0 | V90: =IFERROR(VLOOKUP($B90,[1]DEN1!$G$3:$T$102,6,FALSE),0) -> 0 | W90: =IFERROR(VLOOKUP($B90,[1]DEN1!$G$3:$T$102,7,FALSE),0) -> 0 | X90: =IFERROR(VLOOKUP($B90,[1]DEN1!$G$3:$T$102,8,FALSE),0) -> 0 | Y90: =IFERROR(VLOOKUP($B90,[1]DEN1!$G$3:$T$102,9,FALSE),0) -> 0 | Z90: =IFERROR(VLOOKUP($B90,[1]DEN1!$G$3:$T$102,10,FALSE),0) -> 0 | AA90: =IFERROR(VLOOKUP($B90,[1]DEN1!$G$3:$T$102,11,FALSE),0) -> 0 | AB90: =IFERROR(VLOOKUP($B90,[1]DEN1!$G$3:$T$102,12,FALSE),0) -> 0 | AC90: =IFERROR(VLOOKUP($B90,[1]DEN1!$G$3:$T$102,13,FALSE),0) -> 0 | AD90: =SUM(R90:AC90) -> 0
A91: 04203-LOS VILOS | B91: 105480-P.S.R. QUILIMARI | E91: =IFERROR(VLOOKUP($B91,[1]NUM1!$G$3:$T$99,2,FALSE),0) -> 0 | F91: =IFERROR(VLOOKUP($B91,[1]NUM1!$G$3:$T$99,3,FALSE),0) -> 0 | G91: =IFERROR(VLOOKUP($B91,[1]NUM1!$G$3:$T$99,4,FALSE),0) -> 0 | H91: =IFERROR(VLOOKUP($B91,[1]NUM1!$G$3:$T$99,5,FALSE),0) -> 0 | I91: =IFERROR(VLOOKUP($B91,[1]NUM1!$G$3:$T$99,6,FALSE),0) -> 0 | J91: =IFERROR(VLOOKUP($B91,[1]NUM1!$G$3:$T$99,7,FALSE),0) -> 0 | K91: =IFERROR(VLOOKUP($B91,[1]NUM1!$G$3:$T$99,8,FALSE),0) -> 0 | L91: =IFERROR(VLOOKUP($B91,[1]NUM1!$G$3:$T$99,9,FALSE),0) -> 0 | M91: =IFERROR(VLOOKUP($B91,[1]NUM1!$G$3:$T$99,10,FALSE),0) -> 0 | N91: =IFERROR(VLOOKUP($B91,[1]NUM1!$G$3:$T$99,11,FALSE),0) -> 0 | O91: =IFERROR(VLOOKUP($B91,[1]NUM1!$G$3:$T$99,12,FALSE),0) -> 0 | P91: =IFERROR(VLOOKUP($B91,[1]NUM1!$G$3:$T$99,13,FALSE),0) -> 1 | Q91: =SUM(E91:P91) -> 1 | R91: =IFERROR(VLOOKUP($B91,[1]DEN1!$G$3:$T$102,2,FALSE),0) -> 0 | S91: =IFERROR(VLOOKUP($B91,[1]DEN1!$G$3:$T$102,3,FALSE),0) -> 0 | T91: =IFERROR(VLOOKUP($B91,[1]DEN1!$G$3:$T$102,4,FALSE),0) -> 0 | U91: =IFERROR(VLOOKUP($B91,[1]DEN1!$G$3:$T$102,5,FALSE),0) -> 0 | V91: =IFERROR(VLOOKUP($B91,[1]DEN1!$G$3:$T$102,6,FALSE),0) -> 0 | W91: =IFERROR(VLOOKUP($B91,[1]DEN1!$G$3:$T$102,7,FALSE),0) -> 0 | X91: =IFERROR(VLOOKUP($B91,[1]DEN1!$G$3:$T$102,8,FALSE),0) -> 0 | Y91: =IFERROR(VLOOKUP($B91,[1]DEN1!$G$3:$T$102,9,FALSE),0) -> 0 | Z91: =IFERROR(VLOOKUP($B91,[1]DEN1!$G$3:$T$102,10,FALSE),0) -> 1 | AA91: =IFERROR(VLOOKUP($B91,[1]DEN1!$G$3:$T$102,11,FALSE),0) -> 0 | AB91: =IFERROR(VLOOKUP($B91,[1]DEN1!$G$3:$T$102,12,FALSE),0) -> 0 | AC91: =IFERROR(VLOOKUP($B91,[1]DEN1!$G$3:$T$102,13,FALSE),0) -> 0 | AD91: =SUM(R91:AC91) -> 1
A92: 04203-LOS VILOS | B92: 105481-P.S.R. TILAMA | E92: =IFERROR(VLOOKUP($B92,[1]NUM1!$G$3:$T$99,2,FALSE),0) -> 0 | F92: =IFERROR(VLOOKUP($B92,[1]NUM1!$G$3:$T$99,3,FALSE),0) -> 0 | G92: =IFERROR(VLOOKUP($B92,[1]NUM1!$G$3:$T$99,4,FALSE),0) -> 0 | H92: =IFERROR(VLOOKUP($B92,[1]NUM1!$G$3:$T$99,5,FALSE),0) -> 0 | I92: =IFERROR(VLOOKUP($B92,[1]NUM1!$G$3:$T$99,6,FALSE),0) -> 0 | J92: =IFERROR(VLOOKUP($B92,[1]NUM1!$G$3:$T$99,7,FALSE),0) -> 0 | K92: =IFERROR(VLOOKUP($B92,[1]NUM1!$G$3:$T$99,8,FALSE),0) -> 0 | L92: =IFERROR(VLOOKUP($B92,[1]NUM1!$G$3:$T$99,9,FALSE),0) -> 0 | M92: =IFERROR(VLOOKUP($B92,[1]NUM1!$G$3:$T$99,10,FALSE),0) -> 0 | N92: =IFERROR(VLOOKUP($B92,[1]NUM1!$G$3:$T$99,11,FALSE),0) -> 0 | O92: =IFERROR(VLOOKUP($B92,[1]NUM1!$G$3:$T$99,12,FALSE),0) -> 0 | P92: =IFERROR(VLOOKUP($B92,[1]NUM1!$G$3:$T$99,13,FALSE),0) -> 0 | Q92: =SUM(E92:P92) -> 0 | R92: =IFERROR(VLOOKUP($B92,[1]DEN1!$G$3:$T$102,2,FALSE),0) -> 0 | S92: =IFERROR(VLOOKUP($B92,[1]DEN1!$G$3:$T$102,3,FALSE),0) -> 0 | T92: =IFERROR(VLOOKUP($B92,[1]DEN1!$G$3:$T$102,4,FALSE),0) -> 0 | U92: =IFERROR(VLOOKUP($B92,[1]DEN1!$G$3:$T$102,5,FALSE),0) -> 0 | V92: =IFERROR(VLOOKUP($B92,[1]DEN1!$G$3:$T$102,6,FALSE),0) -> 0 | W92: =IFERROR(VLOOKUP($B92,[1]DEN1!$G$3:$T$102,7,FALSE),0) -> 0 | X92: =IFERROR(VLOOKUP($B92,[1]DEN1!$G$3:$T$102,8,FALSE),0) -> 0 | Y92: =IFERROR(VLOOKUP($B92,[1]DEN1!$G$3:$T$102,9,FALSE),0) -> 0 | Z92: =IFERROR(VLOOKUP($B92,[1]DEN1!$G$3:$T$102,10,FALSE),0) -> 0 | AA92: =IFERROR(VLOOKUP($B92,[1]DEN1!$G$3:$T$102,11,FALSE),0) -> 0 | AB92: =IFERROR(VLOOKUP($B92,[1]DEN1!$G$3:$T$102,12,FALSE),0) -> 0 | AC92: =IFERROR(VLOOKUP($B92,[1]DEN1!$G$3:$T$102,13,FALSE),0) -> 0 | AD92: =SUM(R92:AC92) -> 0
A93: 04203-LOS VILOS | B93: 105511-P.S.R. LOS CONDORES | E93: =IFERROR(VLOOKUP($B93,[1]NUM1!$G$3:$T$99,2,FALSE),0) -> 0 | F93: =IFERROR(VLOOKUP($B93,[1]NUM1!$G$3:$T$99,3,FALSE),0) -> 0 | G93: =IFERROR(VLOOKUP($B93,[1]NUM1!$G$3:$T$99,4,FALSE),0) -> 0 | H93: =IFERROR(VLOOKUP($B93,[1]NUM1!$G$3:$T$99,5,FALSE),0) -> 1 | I93: =IFERROR(VLOOKUP($B93,[1]NUM1!$G$3:$T$99,6,FALSE),0) -> 0 | J93: =IFERROR(VLOOKUP($B93,[1]NUM1!$G$3:$T$99,7,FALSE),0) -> 0 | K93: =IFERROR(VLOOKUP($B93,[1]NUM1!$G$3:$T$99,8,FALSE),0) -> 0 | L93: =IFERROR(VLOOKUP($B93,[1]NUM1!$G$3:$T$99,9,FALSE),0) -> 0 | M93: =IFERROR(VLOOKUP($B93,[1]NUM1!$G$3:$T$99,10,FALSE),0) -> 0 | N93: =IFERROR(VLOOKUP($B93,[1]NUM1!$G$3:$T$99,11,FALSE),0) -> 0 | O93: =IFERROR(VLOOKUP($B93,[1]NUM1!$G$3:$T$99,12,FALSE),0) -> 0 | P93: =IFERROR(VLOOKUP($B93,[1]NUM1!$G$3:$T$99,13,FALSE),0) -> 0 | Q93: =SUM(E93:P93) -> 1 | R93: =IFERROR(VLOOKUP($B93,[1]DEN1!$G$3:$T$102,2,FALSE),0) -> 0 | S93: =IFERROR(VLOOKUP($B93,[1]DEN1!$G$3:$T$102,3,FALSE),0) -> 0 | T93: =IFERROR(VLOOKUP($B93,[1]DEN1!$G$3:$T$102,4,FALSE),0) -> 0 | U93: =IFERROR(VLOOKUP($B93,[1]DEN1!$G$3:$T$102,5,FALSE),0) -> 0 | V93: =IFERROR(VLOOKUP($B93,[1]DEN1!$G$3:$T$102,6,FALSE),0) -> 0 | W93: =IFERROR(VLOOKUP($B93,[1]DEN1!$G$3:$T$102,7,FALSE),0) -> 0 | X93: =IFERROR(VLOOKUP($B93,[1]DEN1!$G$3:$T$102,8,FALSE),0) -> 0 | Y93: =IFERROR(VLOOKUP($B93,[1]DEN1!$G$3:$T$102,9,FALSE),0) -> 0 | Z93: =IFERROR(VLOOKUP($B93,[1]DEN1!$G$3:$T$102,10,FALSE),0) -> 0 | AA93: =IFERROR(VLOOKUP($B93,[1]DEN1!$G$3:$T$102,11,FALSE),0) -> 0 | AB93: =IFERROR(VLOOKUP($B93,[1]DEN1!$G$3:$T$102,12,FALSE),0) -> 0 | AC93: =IFERROR(VLOOKUP($B93,[1]DEN1!$G$3:$T$102,13,FALSE),0) -> 0 | AD93: =SUM(R93:AC93) -> 0
A94: TOTAL LOS VILOS MUNICIPAL | C94: =D94/'Metas Muni'!G12 -> 2.2222222 | D94: =Q94/AD94 -> 2 | E94: =SUM(E89:E93) -> 0 | F94: =SUM(F89:F93) -> 0 | G94: =SUM(G89:G93) -> 0 | H94: =SUM(H89:H93) -> 1 | I94: =SUM(I89:I93) -> 0 | J94: =SUM(J89:J93) -> 0 | K94: =SUM(K89:K93) -> 0 | L94: =SUM(L89:L93) -> 0 | ... AC94: =SUM(AC89:AC93) -> 0 | AD94: =SUM(R94:AC94) -> 1
A95: 04204-SALAMANCA | B95: 105452-P.S.R. CUNCUMEN | E95: =IFERROR(VLOOKUP($B95,[1]NUM1!$G$3:$T$99,2,FALSE),0) -> 0 | F95: =IFERROR(VLOOKUP($B95,[1]NUM1!$G$3:$T$99,3,FALSE),0) -> 0 | G95: =IFERROR(VLOOKUP($B95,[1]NUM1!$G$3:$T$99,4,FALSE),0) -> 0 | H95: =IFERROR(VLOOKUP($B95,[1]NUM1!$G$3:$T$99,5,FALSE),0) -> 0 | I95: =IFERROR(VLOOKUP($B95,[1]NUM1!$G$3:$T$99,6,FALSE),0) -> 0 | J95: =IFERROR(VLOOKUP($B95,[1]NUM1!$G$3:$T$99,7,FALSE),0) -> 0 | K95: =IFERROR(VLOOKUP($B95,[1]NUM1!$G$3:$T$99,8,FALSE),0) -> 0 | L95: =IFERROR(VLOOKUP($B95,[1]NUM1!$G$3:$T$99,9,FALSE),0) -> 0 | M95: =IFERROR(VLOOKUP($B95,[1]NUM1!$G$3:$T$99,10,FALSE),0) -> 0 | N95: =IFERROR(VLOOKUP($B95,[1]NUM1!$G$3:$T$99,11,FALSE),0) -> 0 | O95: =IFERROR(VLOOKUP($B95,[1]NUM1!$G$3:$T$99,12,FALSE),0) -> 0 | P95: =IFERROR(VLOOKUP($B95,[1]NUM1!$G$3:$T$99,13,FALSE),0) -> 0 | Q95: =SUM(E95:P95) -> 0 | R95: =IFERROR(VLOOKUP($B95,[1]DEN1!$G$3:$T$102,2,FALSE),0) -> 0 | S95: =IFERROR(VLOOKUP($B95,[1]DEN1!$G$3:$T$102,3,FALSE),0) -> 0 | T95: =IFERROR(VLOOKUP($B95,[1]DEN1!$G$3:$T$102,4,FALSE),0) -> 0 | U95: =IFERROR(VLOOKUP($B95,[1]DEN1!$G$3:$T$102,5,FALSE),0) -> 0 | V95: =IFERROR(VLOOKUP($B95,[1]DEN1!$G$3:$T$102,6,FALSE),0) -> 0 | W95: =IFERROR(VLOOKUP($B95,[1]DEN1!$G$3:$T$102,7,FALSE),0) -> 0 | X95: =IFERROR(VLOOKUP($B95,[1]DEN1!$G$3:$T$102,8,FALSE),0) -> 0 | Y95: =IFERROR(VLOOKUP($B95,[1]DEN1!$G$3:$T$102,9,FALSE),0) -> 0 | Z95: =IFERROR(VLOOKUP($B95,[1]DEN1!$G$3:$T$102,10,FALSE),0) -> 0 | AA95: =IFERROR(VLOOKUP($B95,[1]DEN1!$G$3:$T$102,11,FALSE),0) -> 0 | AB95: =IFERROR(VLOOKUP($B95,[1]DEN1!$G$3:$T$102,12,FALSE),0) -> 0 | AC95: =IFERROR(VLOOKUP($B95,[1]DEN1!$G$3:$T$102,13,FALSE),0) -> 0 | AD95: =SUM(R95:AC95) -> 0
A96: 04204-SALAMANCA | B96: 105453-P.S.R. TRANQUILLA | E96: =IFERROR(VLOOKUP($B96,[1]NUM1!$G$3:$T$99,2,FALSE),0) -> 0 | F96: =IFERROR(VLOOKUP($B96,[1]NUM1!$G$3:$T$99,3,FALSE),0) -> 0 | G96: =IFERROR(VLOOKUP($B96,[1]NUM1!$G$3:$T$99,4,FALSE),0) -> 0 | H96: =IFERROR(VLOOKUP($B96,[1]NUM1!$G$3:$T$99,5,FALSE),0) -> 1 | I96: =IFERROR(VLOOKUP($B96,[1]NUM1!$G$3:$T$99,6,FALSE),0) -> 0 | J96: =IFERROR(VLOOKUP($B96,[1]NUM1!$G$3:$T$99,7,FALSE),0) -> 0 | K96: =IFERROR(VLOOKUP($B96,[1]NUM1!$G$3:$T$99,8,FALSE),0) -> 0 | L96: =IFERROR(VLOOKUP($B96,[1]NUM1!$G$3:$T$99,9,FALSE),0) -> 0 | M96: =IFERROR(VLOOKUP($B96,[1]NUM1!$G$3:$T$99,10,FALSE),0) -> 0 | N96: =IFERROR(VLOOKUP($B96,[1]NUM1!$G$3:$T$99,11,FALSE),0) -> 0 | O96: =IFERROR(VLOOKUP($B96,[1]NUM1!$G$3:$T$99,12,FALSE),0) -> 1 | P96: =IFERROR(VLOOKUP($B96,[1]NUM1!$G$3:$T$99,13,FALSE),0) -> 0 | Q96: =SUM(E96:P96) -> 2 | R96: =IFERROR(VLOOKUP($B96,[1]DEN1!$G$3:$T$102,2,FALSE),0) -> 0 | S96: =IFERROR(VLOOKUP($B96,[1]DEN1!$G$3:$T$102,3,FALSE),0) -> 0 | T96: =IFERROR(VLOOKUP($B96,[1]DEN1!$G$3:$T$102,4,FALSE),0) -> 0 | U96: =IFERROR(VLOOKUP($B96,[1]DEN1!$G$3:$T$102,5,FALSE),0) -> 0 | V96: =IFERROR(VLOOKUP($B96,[1]DEN1!$G$3:$T$102,6,FALSE),0) -> 0 | W96: =IFERROR(VLOOKUP($B96,[1]DEN1!$G$3:$T$102,7,FALSE),0) -> 1 | X96: =IFERROR(VLOOKUP($B96,[1]DEN1!$G$3:$T$102,8,FALSE),0) -> 0 | Y96: =IFERROR(VLOOKUP($B96,[1]DEN1!$G$3:$T$102,9,FALSE),0) -> 0 | Z96: =IFERROR(VLOOKUP($B96,[1]DEN1!$G$3:$T$102,10,FALSE),0) -> 0 | AA96: =IFERROR(VLOOKUP($B96,[1]DEN1!$G$3:$T$102,11,FALSE),0) -> 0 | AB96: =IFERROR(VLOOKUP($B96,[1]DEN1!$G$3:$T$102,12,FALSE),0) -> 0 | AC96: =IFERROR(VLOOKUP($B96,[1]DEN1!$G$3:$T$102,13,FALSE),0) -> 0 | AD96: =SUM(R96:AC96) -> 1
A97: 04204-SALAMANCA | B97: 105454-P.S.R. CUNLAGUA | E97: =IFERROR(VLOOKUP($B97,[1]NUM1!$G$3:$T$99,2,FALSE),0) -> 0 | F97: =IFERROR(VLOOKUP($B97,[1]NUM1!$G$3:$T$99,3,FALSE),0) -> 0 | G97: =IFERROR(VLOOKUP($B97,[1]NUM1!$G$3:$T$99,4,FALSE),0) -> 0 | H97: =IFERROR(VLOOKUP($B97,[1]NUM1!$G$3:$T$99,5,FALSE),0) -> 0 | I97: =IFERROR(VLOOKUP($B97,[1]NUM1!$G$3:$T$99,6,FALSE),0) -> 0 | J97: =IFERROR(VLOOKUP($B97,[1]NUM1!$G$3:$T$99,7,FALSE),0) -> 0 | K97: =IFERROR(VLOOKUP($B97,[1]NUM1!$G$3:$T$99,8,FALSE),0) -> 0 | L97: =IFERROR(VLOOKUP($B97,[1]NUM1!$G$3:$T$99,9,FALSE),0) -> 0 | M97: =IFERROR(VLOOKUP($B97,[1]NUM1!$G$3:$T$99,10,FALSE),0) -> 0 | N97: =IFERROR(VLOOKUP($B97,[1]NUM1!$G$3:$T$99,11,FALSE),0) -> 0 | O97: =IFERROR(VLOOKUP($B97,[1]NUM1!$G$3:$T$99,12,FALSE),0) -> 0 | P97: =IFERROR(VLOOKUP($B97,[1]NUM1!$G$3:$T$99,13,FALSE),0) -> 0 | Q97: =SUM(E97:P97) -> 0 | R97: =IFERROR(VLOOKUP($B97,[1]DEN1!$G$3:$T$102,2,FALSE),0) -> 0 | S97: =IFERROR(VLOOKUP($B97,[1]DEN1!$G$3:$T$102,3,FALSE),0) -> 0 | T97: =IFERROR(VLOOKUP($B97,[1]DEN1!$G$3:$T$102,4,FALSE),0) -> 0 | U97: =IFERROR(VLOOKUP($B97,[1]DEN1!$G$3:$T$102,5,FALSE),0) -> 0 | V97: =IFERROR(VLOOKUP($B97,[1]DEN1!$G$3:$T$102,6,FALSE),0) -> 0 | W97: =IFERROR(VLOOKUP($B97,[1]DEN1!$G$3:$T$102,7,FALSE),0) -> 0 | X97: =IFERROR(VLOOKUP($B97,[1]DEN1!$G$3:$T$102,8,FALSE),0) -> 0 | Y97: =IFERROR(VLOOKUP($B97,[1]DEN1!$G$3:$T$102,9,FALSE),0) -> 0 | Z97: =IFERROR(VLOOKUP($B97,[1]DEN1!$G$3:$T$102,10,FALSE),0) -> 0 | AA97: =IFERROR(VLOOKUP($B97,[1]DEN1!$G$3:$T$102,11,FALSE),0) -> 0 | AB97: =IFERROR(VLOOKUP($B97,[1]DEN1!$G$3:$T$102,12,FALSE),0) -> 0 | AC97: =IFERROR(VLOOKUP($B97,[1]DEN1!$G$3:$T$102,13,FALSE),0) -> 0 | AD97: =SUM(R97:AC97) -> 0
A98: 04204-SALAMANCA | B98: 105455-P.S.R. CHILLEPIN | E98: =IFERROR(VLOOKUP($B98,[1]NUM1!$G$3:$T$99,2,FALSE),0) -> 0 | F98: =IFERROR(VLOOKUP($B98,[1]NUM1!$G$3:$T$99,3,FALSE),0) -> 0 | G98: =IFERROR(VLOOKUP($B98,[1]NUM1!$G$3:$T$99,4,FALSE),0) -> 0 | H98: =IFERROR(VLOOKUP($B98,[1]NUM1!$G$3:$T$99,5,FALSE),0) -> 0 | I98: =IFERROR(VLOOKUP($B98,[1]NUM1!$G$3:$T$99,6,FALSE),0) -> 0 | J98: =IFERROR(VLOOKUP($B98,[1]NUM1!$G$3:$T$99,7,FALSE),0) -> 0 | K98: =IFERROR(VLOOKUP($B98,[1]NUM1!$G$3:$T$99,8,FALSE),0) -> 0 | L98: =IFERROR(VLOOKUP($B98,[1]NUM1!$G$3:$T$99,9,FALSE),0) -> 0 | M98: =IFERROR(VLOOKUP($B98,[1]NUM1!$G$3:$T$99,10,FALSE),0) -> 0 | N98: =IFERROR(VLOOKUP($B98,[1]NUM1!$G$3:$T$99,11,FALSE),0) -> 0 | O98: =IFERROR(VLOOKUP($B98,[1]NUM1!$G$3:$T$99,12,FALSE),0) -> 0 | P98: =IFERROR(VLOOKUP($B98,[1]NUM1!$G$3:$T$99,13,FALSE),0) -> 0 | Q98: =SUM(E98:P98) -> 0 | R98: =IFERROR(VLOOKUP($B98,[1]DEN1!$G$3:$T$102,2,FALSE),0) -> 0 | S98: =IFERROR(VLOOKUP($B98,[1]DEN1!$G$3:$T$102,3,FALSE),0) -> 0 | T98: =IFERROR(VLOOKUP($B98,[1]DEN1!$G$3:$T$102,4,FALSE),0) -> 0 | U98: =IFERROR(VLOOKUP($B98,[1]DEN1!$G$3:$T$102,5,FALSE),0) -> 0 | V98: =IFERROR(VLOOKUP($B98,[1]DEN1!$G$3:$T$102,6,FALSE),0) -> 0 | W98: =IFERROR(VLOOKUP($B98,[1]DEN1!$G$3:$T$102,7,FALSE),0) -> 0 | X98: =IFERROR(VLOOKUP($B98,[1]DEN1!$G$3:$T$102,8,FALSE),0) -> 0 | Y98: =IFERROR(VLOOKUP($B98,[1]DEN1!$G$3:$T$102,9,FALSE),0) -> 0 | Z98: =IFERROR(VLOOKUP($B98,[1]DEN1!$G$3:$T$102,10,FALSE),0) -> 0 | AA98: =IFERROR(VLOOKUP($B98,[1]DEN1!$G$3:$T$102,11,FALSE),0) -> 0 | AB98: =IFERROR(VLOOKUP($B98,[1]DEN1!$G$3:$T$102,12,FALSE),0) -> 0 | AC98: =IFERROR(VLOOKUP($B98,[1]DEN1!$G$3:$T$102,13,FALSE),0) -> 0 | AD98: =SUM(R98:AC98) -> 0
A99: 04204-SALAMANCA | B99: 105456-P.S.R. LLIMPO | E99: =IFERROR(VLOOKUP($B99,[1]NUM1!$G$3:$T$99,2,FALSE),0) -> 0 | F99: =IFERROR(VLOOKUP($B99,[1]NUM1!$G$3:$T$99,3,FALSE),0) -> 0 | G99: =IFERROR(VLOOKUP($B99,[1]NUM1!$G$3:$T$99,4,FALSE),0) -> 0 | H99: =IFERROR(VLOOKUP($B99,[1]NUM1!$G$3:$T$99,5,FALSE),0) -> 0 | I99: =IFERROR(VLOOKUP($B99,[1]NUM1!$G$3:$T$99,6,FALSE),0) -> 0 | J99: =IFERROR(VLOOKUP($B99,[1]NUM1!$G$3:$T$99,7,FALSE),0) -> 0 | K99: =IFERROR(VLOOKUP($B99,[1]NUM1!$G$3:$T$99,8,FALSE),0) -> 0 | L99: =IFERROR(VLOOKUP($B99,[1]NUM1!$G$3:$T$99,9,FALSE),0) -> 0 | M99: =IFERROR(VLOOKUP($B99,[1]NUM1!$G$3:$T$99,10,FALSE),0) -> 0 | N99: =IFERROR(VLOOKUP($B99,[1]NUM1!$G$3:$T$99,11,FALSE),0) -> 0 | O99: =IFERROR(VLOOKUP($B99,[1]NUM1!$G$3:$T$99,12,FALSE),0) -> 1 | P99: =IFERROR(VLOOKUP($B99,[1]NUM1!$G$3:$T$99,13,FALSE),0) -> 0 | Q99: =SUM(E99:P99) -> 1 | R99: =IFERROR(VLOOKUP($B99,[1]DEN1!$G$3:$T$102,2,FALSE),0) -> 0 | S99: =IFERROR(VLOOKUP($B99,[1]DEN1!$G$3:$T$102,3,FALSE),0) -> 0 | T99: =IFERROR(VLOOKUP($B99,[1]DEN1!$G$3:$T$102,4,FALSE),0) -> 0 | U99: =IFERROR(VLOOKUP($B99,[1]DEN1!$G$3:$T$102,5,FALSE),0) -> 0 | V99: =IFERROR(VLOOKUP($B99,[1]DEN1!$G$3:$T$102,6,FALSE),0) -> 0 | W99: =IFERROR(VLOOKUP($B99,[1]DEN1!$G$3:$T$102,7,FALSE),0) -> 0 | X99: =IFERROR(VLOOKUP($B99,[1]DEN1!$G$3:$T$102,8,FALSE),0) -> 0 | Y99: =IFERROR(VLOOKUP($B99,[1]DEN1!$G$3:$T$102,9,FALSE),0) -> 0 | Z99: =IFERROR(VLOOKUP($B99,[1]DEN1!$G$3:$T$102,10,FALSE),0) -> 1 | AA99: =IFERROR(VLOOKUP($B99,[1]DEN1!$G$3:$T$102,11,FALSE),0) -> 0 | AB99: =IFERROR(VLOOKUP($B99,[1]DEN1!$G$3:$T$102,12,FALSE),0) -> 0 | AC99: =IFERROR(VLOOKUP($B99,[1]DEN1!$G$3:$T$102,13,FALSE),0) -> 0 | AD99: =SUM(R99:AC99) -> 1
A100: 04204-SALAMANCA | B100: 105457-P.S.R. SAN AGUSTIN | E100: =IFERROR(VLOOKUP($B100,[1]NUM1!$G$3:$T$99,2,FALSE),0) -> 0 | F100: =IFERROR(VLOOKUP($B100,[1]NUM1!$G$3:$T$99,3,FALSE),0) -> 0 | G100: =IFERROR(VLOOKUP($B100,[1]NUM1!$G$3:$T$99,4,FALSE),0) -> 0 | H100: =IFERROR(VLOOKUP($B100,[1]NUM1!$G$3:$T$99,5,FALSE),0) -> 0 | I100: =IFERROR(VLOOKUP($B100,[1]NUM1!$G$3:$T$99,6,FALSE),0) -> 0 | J100: =IFERROR(VLOOKUP($B100,[1]NUM1!$G$3:$T$99,7,FALSE),0) -> 0 | K100: =IFERROR(VLOOKUP($B100,[1]NUM1!$G$3:$T$99,8,FALSE),0) -> 0 | L100: =IFERROR(VLOOKUP($B100,[1]NUM1!$G$3:$T$99,9,FALSE),0) -> 0 | M100: =IFERROR(VLOOKUP($B100,[1]NUM1!$G$3:$T$99,10,FALSE),0) -> 0 | N100: =IFERROR(VLOOKUP($B100,[1]NUM1!$G$3:$T$99,11,FALSE),0) -> 0 | O100: =IFERROR(VLOOKUP($B100,[1]NUM1!$G$3:$T$99,12,FALSE),0) -> 0 | P100: =IFERROR(VLOOKUP($B100,[1]NUM1!$G$3:$T$99,13,FALSE),0) -> 0 | Q100: =SUM(E100:P100) -> 0 | R100: =IFERROR(VLOOKUP($B100,[1]DEN1!$G$3:$T$102,2,FALSE),0) -> 0 | S100: =IFERROR(VLOOKUP($B100,[1]DEN1!$G$3:$T$102,3,FALSE),0) -> 0 | T100: =IFERROR(VLOOKUP($B100,[1]DEN1!$G$3:$T$102,4,FALSE),0) -> 0 | U100: =IFERROR(VLOOKUP($B100,[1]DEN1!$G$3:$T$102,5,FALSE),0) -> 0 | V100: =IFERROR(VLOOKUP($B100,[1]DEN1!$G$3:$T$102,6,FALSE),0) -> 0 | W100: =IFERROR(VLOOKUP($B100,[1]DEN1!$G$3:$T$102,7,FALSE),0) -> 0 | X100: =IFERROR(VLOOKUP($B100,[1]DEN1!$G$3:$T$102,8,FALSE),0) -> 0 | Y100: =IFERROR(VLOOKUP($B100,[1]DEN1!$G$3:$T$102,9,FALSE),0) -> 0 | Z100: =IFERROR(VLOOKUP($B100,[1]DEN1!$G$3:$T$102,10,FALSE),0) -> 0 | AA100: =IFERROR(VLOOKUP($B100,[1]DEN1!$G$3:$T$102,11,FALSE),0) -> 0 | AB100: =IFERROR(VLOOKUP($B100,[1]DEN1!$G$3:$T$102,12,FALSE),0) -> 0 | AC100: =IFERROR(VLOOKUP($B100,[1]DEN1!$G$3:$T$102,13,FALSE),0) -> 0 | AD100: =SUM(R100:AC100) -> 0
A101: 04204-SALAMANCA | B101: 105458-P.S.R. TAHUINCO | E101: =IFERROR(VLOOKUP($B101,[1]NUM1!$G$3:$T$99,2,FALSE),0) -> 0 | F101: =IFERROR(VLOOKUP($B101,[1]NUM1!$G$3:$T$99,3,FALSE),0) -> 0 | G101: =IFERROR(VLOOKUP($B101,[1]NUM1!$G$3:$T$99,4,FALSE),0) -> 0 | H101: =IFERROR(VLOOKUP($B101,[1]NUM1!$G$3:$T$99,5,FALSE),0) -> 1 | I101: =IFERROR(VLOOKUP($B101,[1]NUM1!$G$3:$T$99,6,FALSE),0) -> 0 | J101: =IFERROR(VLOOKUP($B101,[1]NUM1!$G$3:$T$99,7,FALSE),0) -> 1 | K101: =IFERROR(VLOOKUP($B101,[1]NUM1!$G$3:$T$99,8,FALSE),0) -> 0 | L101: =IFERROR(VLOOKUP($B101,[1]NUM1!$G$3:$T$99,9,FALSE),0) -> 0 | M101: =IFERROR(VLOOKUP($B101,[1]NUM1!$G$3:$T$99,10,FALSE),0) -> 0 | N101: =IFERROR(VLOOKUP($B101,[1]NUM1!$G$3:$T$99,11,FALSE),0) -> 1 | O101: =IFERROR(VLOOKUP($B101,[1]NUM1!$G$3:$T$99,12,FALSE),0) -> 0 | P101: =IFERROR(VLOOKUP($B101,[1]NUM1!$G$3:$T$99,13,FALSE),0) -> 0 | Q101: =SUM(E101:P101) -> 3 | R101: =IFERROR(VLOOKUP($B101,[1]DEN1!$G$3:$T$102,2,FALSE),0) -> 0 | S101: =IFERROR(VLOOKUP($B101,[1]DEN1!$G$3:$T$102,3,FALSE),0) -> 2 | T101: =IFERROR(VLOOKUP($B101,[1]DEN1!$G$3:$T$102,4,FALSE),0) -> 0 | U101: =IFERROR(VLOOKUP($B101,[1]DEN1!$G$3:$T$102,5,FALSE),0) -> 0 | V101: =IFERROR(VLOOKUP($B101,[1]DEN1!$G$3:$T$102,6,FALSE),0) -> 0 | W101: =IFERROR(VLOOKUP($B101,[1]DEN1!$G$3:$T$102,7,FALSE),0) -> 0 | X101: =IFERROR(VLOOKUP($B101,[1]DEN1!$G$3:$T$102,8,FALSE),0) -> 0 | Y101: =IFERROR(VLOOKUP($B101,[1]DEN1!$G$3:$T$102,9,FALSE),0) -> 0 | Z101: =IFERROR(VLOOKUP($B101,[1]DEN1!$G$3:$T$102,10,FALSE),0) -> 1 | AA101: =IFERROR(VLOOKUP($B101,[1]DEN1!$G$3:$T$102,11,FALSE),0) -> 0 | AB101: =IFERROR(VLOOKUP($B101,[1]DEN1!$G$3:$T$102,12,FALSE),0) -> 0 | AC101: =IFERROR(VLOOKUP($B101,[1]DEN1!$G$3:$T$102,13,FALSE),0) -> 0 | AD101: =SUM(R101:AC101) -> 3
A102: 04204-SALAMANCA | B102: 105491-P.S.R. QUELEN BAJO | E102: =IFERROR(VLOOKUP($B102,[1]NUM1!$G$3:$T$99,2,FALSE),0) -> 0 | F102: =IFERROR(VLOOKUP($B102,[1]NUM1!$G$3:$T$99,3,FALSE),0) -> 0 | G102: =IFERROR(VLOOKUP($B102,[1]NUM1!$G$3:$T$99,4,FALSE),0) -> 0 | H102: =IFERROR(VLOOKUP($B102,[1]NUM1!$G$3:$T$99,5,FALSE),0) -> 1 | I102: =IFERROR(VLOOKUP($B102,[1]NUM1!$G$3:$T$99,6,FALSE),0) -> 0 | J102: =IFERROR(VLOOKUP($B102,[1]NUM1!$G$3:$T$99,7,FALSE),0) -> 0 | K102: =IFERROR(VLOOKUP($B102,[1]NUM1!$G$3:$T$99,8,FALSE),0) -> 0 | L102: =IFERROR(VLOOKUP($B102,[1]NUM1!$G$3:$T$99,9,FALSE),0) -> 0 | M102: =IFERROR(VLOOKUP($B102,[1]NUM1!$G$3:$T$99,10,FALSE),0) -> 0 | N102: =IFERROR(VLOOKUP($B102,[1]NUM1!$G$3:$T$99,11,FALSE),0) -> 0 | O102: =IFERROR(VLOOKUP($B102,[1]NUM1!$G$3:$T$99,12,FALSE),0) -> 1 | P102: =IFERROR(VLOOKUP($B102,[1]NUM1!$G$3:$T$99,13,FALSE),0) -> 0 | Q102: =SUM(E102:P102) -> 2 | R102: =IFERROR(VLOOKUP($B102,[1]DEN1!$G$3:$T$102,2,FALSE),0) -> 0 | S102: =IFERROR(VLOOKUP($B102,[1]DEN1!$G$3:$T$102,3,FALSE),0) -> 1 | T102: =IFERROR(VLOOKUP($B102,[1]DEN1!$G$3:$T$102,4,FALSE),0) -> 0 | U102: =IFERROR(VLOOKUP($B102,[1]DEN1!$G$3:$T$102,5,FALSE),0) -> 0 | V102: =IFERROR(VLOOKUP($B102,[1]DEN1!$G$3:$T$102,6,FALSE),0) -> 0 | W102: =IFERROR(VLOOKUP($B102,[1]DEN1!$G$3:$T$102,7,FALSE),0) -> 0 | X102: =IFERROR(VLOOKUP($B102,[1]DEN1!$G$3:$T$102,8,FALSE),0) -> 0 | Y102: =IFERROR(VLOOKUP($B102,[1]DEN1!$G$3:$T$102,9,FALSE),0) -> 0 | Z102: =IFERROR(VLOOKUP($B102,[1]DEN1!$G$3:$T$102,10,FALSE),0) -> 0 | AA102: =IFERROR(VLOOKUP($B102,[1]DEN1!$G$3:$T$102,11,FALSE),0) -> 0 | AB102: =IFERROR(VLOOKUP($B102,[1]DEN1!$G$3:$T$102,12,FALSE),0) -> 0 | AC102: =IFERROR(VLOOKUP($B102,[1]DEN1!$G$3:$T$102,13,FALSE),0) -> 0 | AD102: =SUM(R102:AC102) -> 1
A103: 04204-SALAMANCA | B103: 105492-P.S.R. CAMISA | E103: =IFERROR(VLOOKUP($B103,[1]NUM1!$G$3:$T$99,2,FALSE),0) -> 0 | F103: =IFERROR(VLOOKUP($B103,[1]NUM1!$G$3:$T$99,3,FALSE),0) -> 0 | G103: =IFERROR(VLOOKUP($B103,[1]NUM1!$G$3:$T$99,4,FALSE),0) -> 0 | H103: =IFERROR(VLOOKUP($B103,[1]NUM1!$G$3:$T$99,5,FALSE),0) -> 0 | I103: =IFERROR(VLOOKUP($B103,[1]NUM1!$G$3:$T$99,6,FALSE),0) -> 0 | J103: =IFERROR(VLOOKUP($B103,[1]NUM1!$G$3:$T$99,7,FALSE),0) -> 0 | K103: =IFERROR(VLOOKUP($B103,[1]NUM1!$G$3:$T$99,8,FALSE),0) -> 0 | L103: =IFERROR(VLOOKUP($B103,[1]NUM1!$G$3:$T$99,9,FALSE),0) -> 0 | M103: =IFERROR(VLOOKUP($B103,[1]NUM1!$G$3:$T$99,10,FALSE),0) -> 0 | N103: =IFERROR(VLOOKUP($B103,[1]NUM1!$G$3:$T$99,11,FALSE),0) -> 0 | O103: =IFERROR(VLOOKUP($B103,[1]NUM1!$G$3:$T$99,12,FALSE),0) -> 0 | P103: =IFERROR(VLOOKUP($B103,[1]NUM1!$G$3:$T$99,13,FALSE),0) -> 0 | Q103: =SUM(E103:P103) -> 0 | R103: =IFERROR(VLOOKUP($B103,[1]DEN1!$G$3:$T$102,2,FALSE),0) -> 0 | S103: =IFERROR(VLOOKUP($B103,[1]DEN1!$G$3:$T$102,3,FALSE),0) -> 0 | T103: =IFERROR(VLOOKUP($B103,[1]DEN1!$G$3:$T$102,4,FALSE),0) -> 0 | U103: =IFERROR(VLOOKUP($B103,[1]DEN1!$G$3:$T$102,5,FALSE),0) -> 0 | V103: =IFERROR(VLOOKUP($B103,[1]DEN1!$G$3:$T$102,6,FALSE),0) -> 0 | W103: =IFERROR(VLOOKUP($B103,[1]DEN1!$G$3:$T$102,7,FALSE),0) -> 0 | X103: =IFERROR(VLOOKUP($B103,[1]DEN1!$G$3:$T$102,8,FALSE),0) -> 0 | Y103: =IFERROR(VLOOKUP($B103,[1]DEN1!$G$3:$T$102,9,FALSE),0) -> 0 | Z103: =IFERROR(VLOOKUP($B103,[1]DEN1!$G$3:$T$102,10,FALSE),0) -> 0 | AA103: =IFERROR(VLOOKUP($B103,[1]DEN1!$G$3:$T$102,11,FALSE),0) -> 0 | AB103: =IFERROR(VLOOKUP($B103,[1]DEN1!$G$3:$T$102,12,FALSE),0) -> 0 | AC103: =IFERROR(VLOOKUP($B103,[1]DEN1!$G$3:$T$102,13,FALSE),0) -> 0 | AD103: =SUM(R103:AC103) -> 0
A104: 04204-SALAMANCA | B104: 105501-P.S.R. ARBOLEDA GRANDE | E104: =IFERROR(VLOOKUP($B104,[1]NUM1!$G$3:$T$99,2,FALSE),0) -> 0 | F104: =IFERROR(VLOOKUP($B104,[1]NUM1!$G$3:$T$99,3,FALSE),0) -> 0 | G104: =IFERROR(VLOOKUP($B104,[1]NUM1!$G$3:$T$99,4,FALSE),0) -> 0 | H104: =IFERROR(VLOOKUP($B104,[1]NUM1!$G$3:$T$99,5,FALSE),0) -> 0 | I104: =IFERROR(VLOOKUP($B104,[1]NUM1!$G$3:$T$99,6,FALSE),0) -> 0 | J104: =IFERROR(VLOOKUP($B104,[1]NUM1!$G$3:$T$99,7,FALSE),0) -> 0 | K104: =IFERROR(VLOOKUP($B104,[1]NUM1!$G$3:$T$99,8,FALSE),0) -> 0 | L104: =IFERROR(VLOOKUP($B104,[1]NUM1!$G$3:$T$99,9,FALSE),0) -> 0 | M104: =IFERROR(VLOOKUP($B104,[1]NUM1!$G$3:$T$99,10,FALSE),0) -> 0 | N104: =IFERROR(VLOOKUP($B104,[1]NUM1!$G$3:$T$99,11,FALSE),0) -> 0 | O104: =IFERROR(VLOOKUP($B104,[1]NUM1!$G$3:$T$99,12,FALSE),0) -> 0 | P104: =IFERROR(VLOOKUP($B104,[1]NUM1!$G$3:$T$99,13,FALSE),0) -> 0 | Q104: =SUM(E104:P104) -> 0 | R104: =IFERROR(VLOOKUP($B104,[1]DEN1!$G$3:$T$102,2,FALSE),0) -> 0 | S104: =IFERROR(VLOOKUP($B104,[1]DEN1!$G$3:$T$102,3,FALSE),0) -> 0 | T104: =IFERROR(VLOOKUP($B104,[1]DEN1!$G$3:$T$102,4,FALSE),0) -> 0 | U104: =IFERROR(VLOOKUP($B104,[1]DEN1!$G$3:$T$102,5,FALSE),0) -> 0 | V104: =IFERROR(VLOOKUP($B104,[1]DEN1!$G$3:$T$102,6,FALSE),0) -> 0 | W104: =IFERROR(VLOOKUP($B104,[1]DEN1!$G$3:$T$102,7,FALSE),0) -> 0 | X104: =IFERROR(VLOOKUP($B104,[1]DEN1!$G$3:$T$102,8,FALSE),0) -> 0 | Y104: =IFERROR(VLOOKUP($B104,[1]DEN1!$G$3:$T$102,9,FALSE),0) -> 0 | Z104: =IFERROR(VLOOKUP($B104,[1]DEN1!$G$3:$T$102,10,FALSE),0) -> 0 | AA104: =IFERROR(VLOOKUP($B104,[1]DEN1!$G$3:$T$102,11,FALSE),0) -> 0 | AB104: =IFERROR(VLOOKUP($B104,[1]DEN1!$G$3:$T$102,12,FALSE),0) -> 0 | AC104: =IFERROR(VLOOKUP($B104,[1]DEN1!$G$3:$T$102,13,FALSE),0) -> 0 | AD104: =SUM(R104:AC104) -> 0
A105: TOTAL SALAMANCA MUNICIPAL | C105: =D105/'Metas Muni'!G13 -> 1.4814815 | D105: =Q105/AD105 -> 1.3333333 | E105: =SUM(E95:E104) -> 0 | F105: =SUM(F95:F104) -> 0 | G105: =SUM(G95:G104) -> 0 | H105: =SUM(H95:H104) -> 3 | I105: =SUM(I95:I104) -> 0 | J105: =SUM(J95:J104) -> 1 | K105: =SUM(K95:K104) -> 0 | L105: =SUM(L95:L104) -> 0 | ... AC105: =SUM(AC95:AC104) -> 0 | AD105: =SUM(R105:AC105) -> 6
A106: 04301-OVALLE | B106: 105315-CES. RURAL C. DE TAMAYA | E106: =IFERROR(VLOOKUP($B106,[1]NUM1!$G$3:$T$99,2,FALSE),0) -> 0 | F106: =IFERROR(VLOOKUP($B106,[1]NUM1!$G$3:$T$99,3,FALSE),0) -> 1 | G106: =IFERROR(VLOOKUP($B106,[1]NUM1!$G$3:$T$99,4,FALSE),0) -> 0 | H106: =IFERROR(VLOOKUP($B106,[1]NUM1!$G$3:$T$99,5,FALSE),0) -> 2 | I106: =IFERROR(VLOOKUP($B106,[1]NUM1!$G$3:$T$99,6,FALSE),0) -> 0 | J106: =IFERROR(VLOOKUP($B106,[1]NUM1!$G$3:$T$99,7,FALSE),0) -> 1 | K106: =IFERROR(VLOOKUP($B106,[1]NUM1!$G$3:$T$99,8,FALSE),0) -> 1 | L106: =IFERROR(VLOOKUP($B106,[1]NUM1!$G$3:$T$99,9,FALSE),0) -> 0 | M106: =IFERROR(VLOOKUP($B106,[1]NUM1!$G$3:$T$99,10,FALSE),0) -> 1 | N106: =IFERROR(VLOOKUP($B106,[1]NUM1!$G$3:$T$99,11,FALSE),0) -> 1 | O106: =IFERROR(VLOOKUP($B106,[1]NUM1!$G$3:$T$99,12,FALSE),0) -> 2 | P106: =IFERROR(VLOOKUP($B106,[1]NUM1!$G$3:$T$99,13,FALSE),0) -> 0 | Q106: =SUM(E106:P106) -> 9 | R106: =IFERROR(VLOOKUP($B106,[1]DEN1!$G$3:$T$102,2,FALSE),0) -> 1 | S106: =IFERROR(VLOOKUP($B106,[1]DEN1!$G$3:$T$102,3,FALSE),0) -> 0 | T106: =IFERROR(VLOOKUP($B106,[1]DEN1!$G$3:$T$102,4,FALSE),0) -> 2 | U106: =IFERROR(VLOOKUP($B106,[1]DEN1!$G$3:$T$102,5,FALSE),0) -> 0 | V106: =IFERROR(VLOOKUP($B106,[1]DEN1!$G$3:$T$102,6,FALSE),0) -> 0 | W106: =IFERROR(VLOOKUP($B106,[1]DEN1!$G$3:$T$102,7,FALSE),0) -> 1 | X106: =IFERROR(VLOOKUP($B106,[1]DEN1!$G$3:$T$102,8,FALSE),0) -> 0 | Y106: =IFERROR(VLOOKUP($B106,[1]DEN1!$G$3:$T$102,9,FALSE),0) -> 2 | Z106: =IFERROR(VLOOKUP($B106,[1]DEN1!$G$3:$T$102,10,FALSE),0) -> 0 | AA106: =IFERROR(VLOOKUP($B106,[1]DEN1!$G$3:$T$102,11,FALSE),0) -> 0 | AB106: =IFERROR(VLOOKUP($B106,[1]DEN1!$G$3:$T$102,12,FALSE),0) -> 0 | AC106: =IFERROR(VLOOKUP($B106,[1]DEN1!$G$3:$T$102,13,FALSE),0) -> 0 | AD106: =SUM(R106:AC106) -> 6
A107: 04301-OVALLE | B107: 105317-CES. JORGE JORDAN D. | E107: =IFERROR(VLOOKUP($B107,[1]NUM1!$G$3:$T$99,2,FALSE),0) -> 1 | F107: =IFERROR(VLOOKUP($B107,[1]NUM1!$G$3:$T$99,3,FALSE),0) -> 0 | G107: =IFERROR(VLOOKUP($B107,[1]NUM1!$G$3:$T$99,4,FALSE),0) -> 0 | H107: =IFERROR(VLOOKUP($B107,[1]NUM1!$G$3:$T$99,5,FALSE),0) -> 1 | I107: =IFERROR(VLOOKUP($B107,[1]NUM1!$G$3:$T$99,6,FALSE),0) -> 0 | J107: =IFERROR(VLOOKUP($B107,[1]NUM1!$G$3:$T$99,7,FALSE),0) -> 1 | K107: =IFERROR(VLOOKUP($B107,[1]NUM1!$G$3:$T$99,8,FALSE),0) -> 2 | L107: =IFERROR(VLOOKUP($B107,[1]NUM1!$G$3:$T$99,9,FALSE),0) -> 4 | M107: =IFERROR(VLOOKUP($B107,[1]NUM1!$G$3:$T$99,10,FALSE),0) -> 3 | N107: =IFERROR(VLOOKUP($B107,[1]NUM1!$G$3:$T$99,11,FALSE),0) -> 4 | O107: =IFERROR(VLOOKUP($B107,[1]NUM1!$G$3:$T$99,12,FALSE),0) -> 6 | P107: =IFERROR(VLOOKUP($B107,[1]NUM1!$G$3:$T$99,13,FALSE),0) -> 6 | Q107: =SUM(E107:P107) -> 28 | R107: =IFERROR(VLOOKUP($B107,[1]DEN1!$G$3:$T$102,2,FALSE),0) -> 1 | S107: =IFERROR(VLOOKUP($B107,[1]DEN1!$G$3:$T$102,3,FALSE),0) -> 0 | T107: =IFERROR(VLOOKUP($B107,[1]DEN1!$G$3:$T$102,4,FALSE),0) -> 2 | U107: =IFERROR(VLOOKUP($B107,[1]DEN1!$G$3:$T$102,5,FALSE),0) -> 3 | V107: =IFERROR(VLOOKUP($B107,[1]DEN1!$G$3:$T$102,6,FALSE),0) -> 2 | W107: =IFERROR(VLOOKUP($B107,[1]DEN1!$G$3:$T$102,7,FALSE),0) -> 2 | X107: =IFERROR(VLOOKUP($B107,[1]DEN1!$G$3:$T$102,8,FALSE),0) -> 2 | Y107: =IFERROR(VLOOKUP($B107,[1]DEN1!$G$3:$T$102,9,FALSE),0) -> 8 | Z107: =IFERROR(VLOOKUP($B107,[1]DEN1!$G$3:$T$102,10,FALSE),0) -> 5 | AA107: =IFERROR(VLOOKUP($B107,[1]DEN1!$G$3:$T$102,11,FALSE),0) -> 0 | AB107: =IFERROR(VLOOKUP($B107,[1]DEN1!$G$3:$T$102,12,FALSE),0) -> 0 | AC107: =IFERROR(VLOOKUP($B107,[1]DEN1!$G$3:$T$102,13,FALSE),0) -> 0 | AD107: =SUM(R107:AC107) -> 25
A108: 04301-OVALLE | B108: 105322-CES. MARCOS MACUADA | E108: =IFERROR(VLOOKUP($B108,[1]NUM1!$G$3:$T$99,2,FALSE),0) -> 3 | F108: =IFERROR(VLOOKUP($B108,[1]NUM1!$G$3:$T$99,3,FALSE),0) -> 1 | G108: =IFERROR(VLOOKUP($B108,[1]NUM1!$G$3:$T$99,4,FALSE),0) -> 0 | H108: =IFERROR(VLOOKUP($B108,[1]NUM1!$G$3:$T$99,5,FALSE),0) -> 2 | I108: =IFERROR(VLOOKUP($B108,[1]NUM1!$G$3:$T$99,6,FALSE),0) -> 1 | J108: =IFERROR(VLOOKUP($B108,[1]NUM1!$G$3:$T$99,7,FALSE),0) -> 5 | K108: =IFERROR(VLOOKUP($B108,[1]NUM1!$G$3:$T$99,8,FALSE),0) -> 3 | L108: =IFERROR(VLOOKUP($B108,[1]NUM1!$G$3:$T$99,9,FALSE),0) -> 1 | M108: =IFERROR(VLOOKUP($B108,[1]NUM1!$G$3:$T$99,10,FALSE),0) -> 1 | N108: =IFERROR(VLOOKUP($B108,[1]NUM1!$G$3:$T$99,11,FALSE),0) -> 3 | O108: =IFERROR(VLOOKUP($B108,[1]NUM1!$G$3:$T$99,12,FALSE),0) -> 1 | P108: =IFERROR(VLOOKUP($B108,[1]NUM1!$G$3:$T$99,13,FALSE),0) -> 5 | Q108: =SUM(E108:P108) -> 26 | R108: =IFERROR(VLOOKUP($B108,[1]DEN1!$G$3:$T$102,2,FALSE),0) -> 4 | S108: =IFERROR(VLOOKUP($B108,[1]DEN1!$G$3:$T$102,3,FALSE),0) -> 5 | T108: =IFERROR(VLOOKUP($B108,[1]DEN1!$G$3:$T$102,4,FALSE),0) -> 5 | U108: =IFERROR(VLOOKUP($B108,[1]DEN1!$G$3:$T$102,5,FALSE),0) -> 2 | V108: =IFERROR(VLOOKUP($B108,[1]DEN1!$G$3:$T$102,6,FALSE),0) -> 2 | W108: =IFERROR(VLOOKUP($B108,[1]DEN1!$G$3:$T$102,7,FALSE),0) -> 2 | X108: =IFERROR(VLOOKUP($B108,[1]DEN1!$G$3:$T$102,8,FALSE),0) -> 4 | Y108: =IFERROR(VLOOKUP($B108,[1]DEN1!$G$3:$T$102,9,FALSE),0) -> 1 | Z108: =IFERROR(VLOOKUP($B108,[1]DEN1!$G$3:$T$102,10,FALSE),0) -> 3 | AA108: =IFERROR(VLOOKUP($B108,[1]DEN1!$G$3:$T$102,11,FALSE),0) -> 0 | AB108: =IFERROR(VLOOKUP($B108,[1]DEN1!$G$3:$T$102,12,FALSE),0) -> 0 | AC108: =IFERROR(VLOOKUP($B108,[1]DEN1!$G$3:$T$102,13,FALSE),0) -> 0 | AD108: =SUM(R108:AC108) -> 28
A109: 04301-OVALLE | B109: 105324-CES. SOTAQUI | E109: =IFERROR(VLOOKUP($B109,[1]NUM1!$G$3:$T$99,2,FALSE),0) -> 0 | F109: =IFERROR(VLOOKUP($B109,[1]NUM1!$G$3:$T$99,3,FALSE),0) -> 0 | G109: =IFERROR(VLOOKUP($B109,[1]NUM1!$G$3:$T$99,4,FALSE),0) -> 0 | H109: =IFERROR(VLOOKUP($B109,[1]NUM1!$G$3:$T$99,5,FALSE),0) -> 0 | I109: =IFERROR(VLOOKUP($B109,[1]NUM1!$G$3:$T$99,6,FALSE),0) -> 0 | J109: =IFERROR(VLOOKUP($B109,[1]NUM1!$G$3:$T$99,7,FALSE),0) -> 0 | K109: =IFERROR(VLOOKUP($B109,[1]NUM1!$G$3:$T$99,8,FALSE),0) -> 0 | L109: =IFERROR(VLOOKUP($B109,[1]NUM1!$G$3:$T$99,9,FALSE),0) -> 0 | M109: =IFERROR(VLOOKUP($B109,[1]NUM1!$G$3:$T$99,10,FALSE),0) -> 0 | N109: =IFERROR(VLOOKUP($B109,[1]NUM1!$G$3:$T$99,11,FALSE),0) -> 1 | O109: =IFERROR(VLOOKUP($B109,[1]NUM1!$G$3:$T$99,12,FALSE),0) -> 0 | P109: =IFERROR(VLOOKUP($B109,[1]NUM1!$G$3:$T$99,13,FALSE),0) -> 0 | Q109: =SUM(E109:P109) -> 1 | R109: =IFERROR(VLOOKUP($B109,[1]DEN1!$G$3:$T$102,2,FALSE),0) -> 0 | S109: =IFERROR(VLOOKUP($B109,[1]DEN1!$G$3:$T$102,3,FALSE),0) -> 0 | T109: =IFERROR(VLOOKUP($B109,[1]DEN1!$G$3:$T$102,4,FALSE),0) -> 0 | U109: =IFERROR(VLOOKUP($B109,[1]DEN1!$G$3:$T$102,5,FALSE),0) -> 0 | V109: =IFERROR(VLOOKUP($B109,[1]DEN1!$G$3:$T$102,6,FALSE),0) -> 0 | W109: =IFERROR(VLOOKUP($B109,[1]DEN1!$G$3:$T$102,7,FALSE),0) -> 0 | X109: =IFERROR(VLOOKUP($B109,[1]DEN1!$G$3:$T$102,8,FALSE),0) -> 2 | Y109: =IFERROR(VLOOKUP($B109,[1]DEN1!$G$3:$T$102,9,FALSE),0) -> 0 | Z109: =IFERROR(VLOOKUP($B109,[1]DEN1!$G$3:$T$102,10,FALSE),0) -> 0 | AA109: =IFERROR(VLOOKUP($B109,[1]DEN1!$G$3:$T$102,11,FALSE),0) -> 1 | AB109: =IFERROR(VLOOKUP($B109,[1]DEN1!$G$3:$T$102,12,FALSE),0) -> 0 | AC109: =IFERROR(VLOOKUP($B109,[1]DEN1!$G$3:$T$102,13,FALSE),0) -> 0 | AD109: =SUM(R109:AC109) -> 3
...

Sheet Meta 02
A1: COMUNA | B1: ESTABLECIMIENTO | C1: CUMPLIMIENTO | D1: Indicador | E1: META 2 : DETECCIÓN PRECOZ DEL CÁNCER DE CUELLO UTERINO
E2: NUMERADOR | G2: DENOMINADOR
E10: Nº de Mujeres de 25 a 64 años inscritas validadas con PAP vigente | G10: DENOMINADOR | H10: Nº de Mujeres de 25 a 64 años inscritas validadas con PAP vigente a Junio 2017 | I10: Nº de mujeres comprometidas como disminución de cierre de brecha de vigencia de PAP a Junio 2017
D11: Resultado | E11: A JUNIO | F11: A DICBRE
A12: 04101-LA SERENA | B12: 105300-CES. CARDENAL CARO | E12: =IFERROR(VLOOKUP($B12,[1]NUM2!$G$3:$J$72,2,FALSE),0) -> 3239 | F12: =IFERROR(VLOOKUP($B12,[1]NUM2!$G$3:$J$72,3,FALSE),0) -> 3241 | H12: =IFERROR(VLOOKUP($B12,'[1]DEN2 2017'!$G$3:$I$66,2,FALSE),0) -> 3153
A13: 04101-LA SERENA | B13: 105301-CES. LAS COMPAÑIAS | E13: =IFERROR(VLOOKUP($B13,[1]NUM2!$G$3:$J$72,2,FALSE),0) -> 3057 | F13: =IFERROR(VLOOKUP($B13,[1]NUM2!$G$3:$J$72,3,FALSE),0) -> 3237 | H13: =IFERROR(VLOOKUP($B13,'[1]DEN2 2017'!$G$3:$I$66,2,FALSE),0) -> 3117
A14: 04101-LA SERENA | B14: 105302-CES. PEDRO AGUIRRE C. | E14: =IFERROR(VLOOKUP($B14,[1]NUM2!$G$3:$J$72,2,FALSE),0) -> 3218 | F14: =IFERROR(VLOOKUP($B14,[1]NUM2!$G$3:$J$72,3,FALSE),0) -> 3253 | H14: =IFERROR(VLOOKUP($B14,'[1]DEN2 2017'!$G$3:$I$66,2,FALSE),0) -> 3231
A15: 04101-LA SERENA | B15: 105313-CES. SCHAFFHAUSER | E15: =IFERROR(VLOOKUP($B15,[1]NUM2!$G$3:$J$72,2,FALSE),0) -> 5413 | F15: =IFERROR(VLOOKUP($B15,[1]NUM2!$G$3:$J$72,3,FALSE),0) -> 5614 | H15: =IFERROR(VLOOKUP($B15,'[1]DEN2 2017'!$G$3:$I$66,2,FALSE),0) -> 5532
A16: 04101-LA SERENA | B16: 105319-CES. CARDENAL R.S.H. | E16: =IFERROR(VLOOKUP($B16,[1]NUM2!$G$3:$J$72,2,FALSE),0) -> 2848 | F16: =IFERROR(VLOOKUP($B16,[1]NUM2!$G$3:$J$72,3,FALSE),0) -> 2833 | H16: =IFERROR(VLOOKUP($B16,'[1]DEN2 2017'!$G$3:$I$66,2,FALSE),0) -> 3067
A17: 04101-LA SERENA | B17: 105325-CESFAM JUAN PABLO II | E17: =IFERROR(VLOOKUP($B17,[1]NUM2!$G$3:$J$72,2,FALSE),0) -> 3017 | F17: =IFERROR(VLOOKUP($B17,[1]NUM2!$G$3:$J$72,3,FALSE),0) -> 3138 | H17: =IFERROR(VLOOKUP($B17,'[1]DEN2 2017'!$G$3:$I$66,2,FALSE),0) -> 2821
A18: 04101-LA SERENA | B18: 105400-P.S.R. ALGARROBITO | E18: =IFERROR(VLOOKUP($B18,[1]NUM2!$G$3:$J$72,2,FALSE),0) -> 883 | F18: =IFERROR(VLOOKUP($B18,[1]NUM2!$G$3:$J$72,3,FALSE),0) -> 887 | H18: =IFERROR(VLOOKUP($B18,'[1]DEN2 2017'!$G$3:$I$66,2,FALSE),0) -> 922
A19: 04101-LA SERENA | B19: 105401-P.S.R. LAS ROJAS | E19: =IFERROR(VLOOKUP($B19,[1]NUM2!$G$3:$J$72,2,FALSE),0) -> 0 | F19: =IFERROR(VLOOKUP($B19,[1]NUM2!$G$3:$J$72,3,FALSE),0) -> 0 | H19: =IFERROR(VLOOKUP($B19,'[1]DEN2 2017'!$G$3:$I$66,2,FALSE),0) -> 0
A20: 04101-LA SERENA | B20: 105402-P.S.R. EL ROMERO | E20: =IFERROR(VLOOKUP($B20,[1]NUM2!$G$3:$J$72,2,FALSE),0) -> 0 | F20: =IFERROR(VLOOKUP($B20,[1]NUM2!$G$3:$J$72,3,FALSE),0) -> 0 | H20: =IFERROR(VLOOKUP($B20,'[1]DEN2 2017'!$G$3:$I$66,2,FALSE),0) -> 0
A21: 04101-LA SERENA | B21: 105499-P.S.R. LAMBERT | E21: =IFERROR(VLOOKUP($B21,[1]NUM2!$G$3:$J$72,2,FALSE),0) -> 0 | F21: =IFERROR(VLOOKUP($B21,[1]NUM2!$G$3:$J$72,3,FALSE),0) -> 0 | H21: =IFERROR(VLOOKUP($B21,'[1]DEN2 2017'!$G$3:$I$66,2,FALSE),0) -> 0
A22: 04101-LA SERENA | B22: 105700-CECOF VILLA EL INDIO | E22: =IFERROR(VLOOKUP($B22,[1]NUM2!$G$3:$J$72,2,FALSE),0) -> 570 | F22: =IFERROR(VLOOKUP($B22,[1]NUM2!$G$3:$J$72,3,FALSE),0) -> 0 | H22: =IFERROR(VLOOKUP($B22,'[1]DEN2 2017'!$G$3:$I$66,2,FALSE),0) -> 0
A23: 04101-LA SERENA | B23: 105701-CECOF VILLA ALEMANIA | E23: =IFERROR(VLOOKUP($B23,[1]NUM2!$G$3:$J$72,2,FALSE),0) -> 21 | F23: =IFERROR(VLOOKUP($B23,[1]NUM2!$G$3:$J$72,3,FALSE),0) -> 24 | H23: =IFERROR(VLOOKUP($B23,'[1]DEN2 2017'!$G$3:$I$66,2,FALSE),0) -> 7
... A25: 04101-LA SERENA | B25: 200402-CECOF ARCOS DE PINAMAR | E25: =IFERROR(VLOOKUP($B25,[1]NUM2!$G$3:$J$72,2,FALSE),0) -> 84 | F25: =IFERROR(VLOOKUP($B25,[1]NUM2!$G$3:$J$72,3,FALSE),0) -> 0 | H25: =IFERROR(VLOOKUP($B25,'[1]DEN2 2017'!$G$3:$I$66,2,FALSE),0) -> 0
A26: TOTAL LA SERENA | C26: =D26/'Metas Muni'!H5 -> 1.5576593 | D26: =F26/G26 -> 0.87151035 | E26: =SUM(E12:E25) -> 22350 | F26: =SUM(F12:F25) -> 22227 | G26: =+H26+I26 -> 25504 | H26: =SUM(H12:H25) -> 21850 | I26: 3654
A27: 04102-COQUIMBO | B27: 105303-CES. SAN JUAN | E27: =IFERROR(VLOOKUP($B27,[1]NUM2!$G$3:$J$72,2,FALSE),0) -> 3375 | F27: =IFERROR(VLOOKUP($B27,[1]NUM2!$G$3:$J$72,3,FALSE),0) -> 3574 | H27: =IFERROR(VLOOKUP($B27,'[1]DEN2 2017'!$G$3:$I$66,2,FALSE),0) -> 3155
A28: 04102-COQUIMBO | B28: 105304-CES. SANTA CECILIA | E28: =IFERROR(VLOOKUP($B28,[1]NUM2!$G$3:$J$72,2,FALSE),0) -> 3806 | F28: =IFERROR(VLOOKUP($B28,[1]NUM2!$G$3:$J$72,3,FALSE),0) -> 3942 | H28: =IFERROR(VLOOKUP($B28,'[1]DEN2 2017'!$G$3:$I$66,2,FALSE),0) -> 3676
A29: 04102-COQUIMBO | B29: 105305-CES. TIERRAS BLANCAS | E29: =IFERROR(VLOOKUP($B29,[1]NUM2!$G$3:$J$72,2,FALSE),0) -> 7175 | F29: =IFERROR(VLOOKUP($B29,[1]NUM2!$G$3:$J$72,3,FALSE),0) -> 7346 | H29: =IFERROR(VLOOKUP($B29,'[1]DEN2 2017'!$G$3:$I$66,2,FALSE),0) -> 6904
A30: 04102-COQUIMBO | B30: 105321-CES. RURAL TONGOY | E30: =IFERROR(VLOOKUP($B30,[1]NUM2!$G$3:$J$72,2,FALSE),0) -> 974 | F30: =IFERROR(VLOOKUP($B30,[1]NUM2!$G$3:$J$72,3,FALSE),0) -> 1045 | H30: =IFERROR(VLOOKUP($B30,'[1]DEN2 2017'!$G$3:$I$66,2,FALSE),0) -> 895
A31: 04102-COQUIMBO | B31: 105323-CES. DR. SERGIO AGUILAR | E31: =IFERROR(VLOOKUP($B31,[1]NUM2!$G$3:$J$72,2,FALSE),0) -> 4029 | F31: =IFERROR(VLOOKUP($B31,[1]NUM2!$G$3:$J$72,3,FALSE),0) -> 4413 | H31: =IFERROR(VLOOKUP($B31,'[1]DEN2 2017'!$G$3:$I$66,2,FALSE),0) -> 3792
A32: 04102-COQUIMBO | B32: 105404-P.S.R. EL TANGUE | E32: =IFERROR(VLOOKUP($B32,[1]NUM2!$G$3:$J$72,2,FALSE),0) -> 0 | F32: =IFERROR(VLOOKUP($B32,[1]NUM2!$G$3:$J$72,3,FALSE),0) -> 0 | H32: =IFERROR(VLOOKUP($B32,'[1]DEN2 2017'!$G$3:$I$66,2,FALSE),0) -> 0
A33: 04102-COQUIMBO | B33: 105405-P.S.R. GUANAQUEROS | E33: =IFERROR(VLOOKUP($B33,[1]NUM2!$G$3:$J$72,2,FALSE),0) -> 0 | F33: =IFERROR(VLOOKUP($B33,[1]NUM2!$G$3:$J$72,3,FALSE),0) -> 0 | H33: =IFERROR(VLOOKUP($B33,'[1]DEN2 2017'!$G$3:$I$66,2,FALSE),0) -> 0
A34: 04102-COQUIMBO | B34: 105406-P.S.R. PAN DE AZUCAR | E34: =IFERROR(VLOOKUP($B34,[1]NUM2!$G$3:$J$72,2,FALSE),0) -> 1438 | F34: =IFERROR(VLOOKUP($B34,[1]NUM2!$G$3:$J$72,3,FALSE),0) -> 0 | H34: =IFERROR(VLOOKUP($B34,'[1]DEN2 2017'!$G$3:$I$66,2,FALSE),0) -> 1363
A35: 04102-COQUIMBO | B35: 105407-P.S.R. TAMBILLOS | E35: =IFERROR(VLOOKUP($B35,[1]NUM2!$G$3:$J$72,2,FALSE),0) -> 0 | F35: =IFERROR(VLOOKUP($B35,[1]NUM2!$G$3:$J$72,3,FALSE),0) -> 0 | H35: =IFERROR(VLOOKUP($B35,'[1]DEN2 2017'!$G$3:$I$66,2,FALSE),0) -> 0
A36: 04102-COQUIMBO | B36: 105705-CECOF EL ALBA | E36: =IFERROR(VLOOKUP($B36,[1]NUM2!$G$3:$J$72,2,FALSE),0) -> 0 | F36: =IFERROR(VLOOKUP($B36,[1]NUM2!$G$3:$J$72,3,FALSE),0) -> 0 | H36: =IFERROR(VLOOKUP($B36,'[1]DEN2 2017'!$G$3:$I$66,2,FALSE),0) -> 0
A37: 04102-COQUIMBO | B37: 200273-CECOF PUNTA MIRA | E37: =IFERROR(VLOOKUP($B37,[1]NUM2!$G$3:$J$72,2,FALSE),0) -> 0 | F37: =IFERROR(VLOOKUP($B37,[1]NUM2!$G$3:$J$72,3,FALSE),0) -> 0 | H37: =IFERROR(VLOOKUP($B37,'[1]DEN2 2017'!$G$3:$I$66,2,FALSE),0) -> 0
A38: 04102-COQUIMBO | B38: 200494-CESFAM EL SAUCE | E38: =IFERROR(VLOOKUP($B38,[1]NUM2!$G$3:$J$72,2,FALSE),0) -> 0 | F38: =IFERROR(VLOOKUP($B38,[1]NUM2!$G$3:$J$72,3,FALSE),0) -> 435 | H38: =IFERROR(VLOOKUP($B38,'[1]DEN2 2017'!$G$3:$I$66,2,FALSE),0) -> 0
A39: 04102-COQUIMBO | B39: 200499-CESFAM PAN DE AZÚCAR | E39: =IFERROR(VLOOKUP($B39,[1]NUM2!$G$3:$J$72,2,FALSE),0) -> 0 | F39: =IFERROR(VLOOKUP($B39,[1]NUM2!$G$3:$J$72,3,FALSE),0) -> 1515 | H39: =IFERROR(VLOOKUP($B39,'[1]DEN2 2017'!$G$3:$I$66,2,FALSE),0) -> 0
A40: TOTAL COQUIMBO | C40: =D40/'Metas Muni'!H6 -> 1.7531654 | D40: =F40/G40 -> 0.94232641 | E40: =SUM(E27:E39) -> 20797 | F40: =SUM(F27:F39) -> 22270 | G40: =+H40+I40 -> 23633 | H40: =SUM(H27:H39) -> 19785 | I40: 3848
A41: 04104-LA HIGUERA | B41: 105314-CES. LA HIGUERA | E41: =IFERROR(VLOOKUP($B41,[1]NUM2!$G$3:$J$72,2,FALSE),0) -> 513 | F41: =IFERROR(VLOOKUP($B41,[1]NUM2!$G$3:$J$72,3,FALSE),0) -> 495 | H41: =IFERROR(VLOOKUP($B41,'[1]DEN2 2017'!$G$3:$I$66,2,FALSE),0) -> 469
A42: 04104-LA HIGUERA | B42: 105500-P.S.R. CALETA HORNOS | E42: =IFERROR(VLOOKUP($B42,[1]NUM2!$G$3:$J$72,2,FALSE),0) -> 0 | F42: =IFERROR(VLOOKUP($B42,[1]NUM2!$G$3:$J$72,3,FALSE),0) -> 0 | H42: =IFERROR(VLOOKUP($B42,'[1]DEN2 2017'!$G$3:$I$66,2,FALSE),0) -> 0
A43: 04104-LA HIGUERA | B43: 105505-P.S.R. LOS CHOROS | E43: =IFERROR(VLOOKUP($B43,[1]NUM2!$G$3:$J$72,2,FALSE),0) -> 0 | F43: =IFERROR(VLOOKUP($B43,[1]NUM2!$G$3:$J$72,3,FALSE),0) -> 0 | H43: =IFERROR(VLOOKUP($B43,'[1]DEN2 2017'!$G$3:$I$66,2,FALSE),0) -> 0
A44: 04104-LA HIGUERA | B44: 105506-P.S.R. EL TRAPICHE | E44: =IFERROR(VLOOKUP($B44,[1]NUM2!$G$3:$J$72,2,FALSE),0) -> 0 | F44: =IFERROR(VLOOKUP($B44,[1]NUM2!$G$3:$J$72,3,FALSE),0) -> 0 | H44: =IFERROR(VLOOKUP($B44,'[1]DEN2 2017'!$G$3:$I$66,2,FALSE),0) -> 0
A45: TOTAL LA HIGUERA | C45: =D45/'Metas Muni'!H7 -> 1.0069043 | D45: =F45/G45 -> 1.0554371 | E45: =SUM(E41:E44) -> 513 | F45: =SUM(F41:F44) -> 495 | G45: =+H45+I45 -> 469 | H45: =SUM(H41:H44) -> 469 | I45: 0
A46: 04105-PAIHUANO | B46: 105306-CES. PAIHUANO | E46: =IFERROR(VLOOKUP($B46,[1]NUM2!$G$3:$J$72,2,FALSE),0) -> 804 | F46: =IFERROR(VLOOKUP($B46,[1]NUM2!$G$3:$J$72,3,FALSE),0) -> 800 | H46: =IFERROR(VLOOKUP($B46,'[1]DEN2 2017'!$G$3:$I$66,2,FALSE),0) -> 795
A47: 04105-PAIHUANO | B47: 105475-P.S.R. HORCON | E47: =IFERROR(VLOOKUP($B47,[1]NUM2!$G$3:$J$72,2,FALSE),0) -> 0 | F47: =IFERROR(VLOOKUP($B47,[1]NUM2!$G$3:$J$72,3,FALSE),0) -> 0 | H47: =IFERROR(VLOOKUP($B47,'[1]DEN2 2017'!$G$3:$I$66,2,FALSE),0) -> 0
A48: 04105-PAIHUANO | B48: 105476-P.S.R. MONTE GRANDE | E48: =IFERROR(VLOOKUP($B48,[1]NUM2!$G$3:$J$72,2,FALSE),0) -> 0 | F48: =IFERROR(VLOOKUP($B48,[1]NUM2!$G$3:$J$72,3,FALSE),0) -> 0 | H48: =IFERROR(VLOOKUP($B48,'[1]DEN2 2017'!$G$3:$I$66,2,FALSE),0) -> 0
A49: 04105-PAIHUANO | B49: 105477-P.S.R. PISCO ELQUI | E49: =IFERROR(VLOOKUP($B49,[1]NUM2!$G$3:$J$72,2,FALSE),0) -> 0 | F49: =IFERROR(VLOOKUP($B49,[1]NUM2!$G$3:$J$72,3,FALSE),0) -> 0 | H49: =IFERROR(VLOOKUP($B49,'[1]DEN2 2017'!$G$3:$I$66,2,FALSE),0) -> 0
A50: TOTAL PAIHUANO | C50: =D50/'Metas Muni'!H8 -> 1.0502967 | D50: =F50/G50 -> 1.0062893 | E50: =SUM(E46:E49) -> 804 | F50: =SUM(F46:F49) -> 800 | G50: =+H50+I50 -> 795 | H50: =SUM(H46:H49) -> 795 | I50: 0
A51: 04106-VICUÑA | B51: 105467-P.S.R. DIAGUITAS | E51: =IFERROR(VLOOKUP($B51,[1]NUM2!$G$3:$J$72,2,FALSE),0) -> 2091 | F51: =IFERROR(VLOOKUP($B51,[1]NUM2!$G$3:$J$72,3,FALSE),0) -> 2216 | H51: =IFERROR(VLOOKUP($B51,'[1]DEN2 2017'!$G$3:$I$66,2,FALSE),0) -> 1872
A52: 04106-VICUÑA | B52: 105468-P.S.R. EL MOLLE | E52: =IFERROR(VLOOKUP($B52,[1]NUM2!$G$3:$J$72,2,FALSE),0) -> 0 | F52: =IFERROR(VLOOKUP($B52,[1]NUM2!$G$3:$J$72,3,FALSE),0) -> 0 | H52: =IFERROR(VLOOKUP($B52,'[1]DEN2 2017'!$G$3:$I$66,2,FALSE),0) -> 0
A53: 04106-VICUÑA | B53: 105469-P.S.R. EL TAMBO | E53: =IFERROR(VLOOKUP($B53,[1]NUM2!$G$3:$J$72,2,FALSE),0) -> 0 | F53: =IFERROR(VLOOKUP($B53,[1]NUM2!$G$3:$J$72,3,FALSE),0) -> 0 | H53: =IFERROR(VLOOKUP($B53,'[1]DEN2 2017'!$G$3:$I$66,2,FALSE),0) -> 0
A54: 04106-VICUÑA | B54: 105470-P.S.R. HUANTA | E54: =IFERROR(VLOOKUP($B54,[1]NUM2!$G$3:$J$72,2,FALSE),0) -> 0 | F54: =IFERROR(VLOOKUP($B54,[1]NUM2!$G$3:$J$72,3,FALSE),0) -> 0 | H54: =IFERROR(VLOOKUP($B54,'[1]DEN2 2017'!$G$3:$I$66,2,FALSE),0) -> 0
A55: 04106-VICUÑA | B55: 105471-P.S.R. PERALILLO | E55: =IFERROR(VLOOKUP($B55,[1]NUM2!$G$3:$J$72,2,FALSE),0) -> 0 | F55: =IFERROR(VLOOKUP($B55,[1]NUM2!$G$3:$J$72,3,FALSE),0) -> 0 | H55: =IFERROR(VLOOKUP($B55,'[1]DEN2 2017'!$G$3:$I$66,2,FALSE),0) -> 0
A56: 04106-VICUÑA | B56: 105472-P.S.R. RIVADAVIA | E56: =IFERROR(VLOOKUP($B56,[1]NUM2!$G$3:$J$72,2,FALSE),0) -> 0 | F56: =IFERROR(VLOOKUP($B56,[1]NUM2!$G$3:$J$72,3,FALSE),0) -> 0 | H56: =IFERROR(VLOOKUP($B56,'[1]DEN2 2017'!$G$3:$I$66,2,FALSE),0) -> 0
A57: 04106-VICUÑA | B57: 105473-P.S.R. TALCUNA | E57: =IFERROR(VLOOKUP($B57,[1]NUM2!$G$3:$J$72,2,FALSE),0) -> 0 | F57: =IFERROR(VLOOKUP($B57,[1]NUM2!$G$3:$J$72,3,FALSE),0) -> 0 | H57: =IFERROR(VLOOKUP($B57,'[1]DEN2 2017'!$G$3:$I$66,2,FALSE),0) -> 0
A58: 04106-VICUÑA | B58: 105474-P.S.R. CHAPILCA | E58: =IFERROR(VLOOKUP($B58,[1]NUM2!$G$3:$J$72,2,FALSE),0) -> 0 | F58: =IFERROR(VLOOKUP($B58,[1]NUM2!$G$3:$J$72,3,FALSE),0) -> 0 | H58: =IFERROR(VLOOKUP($B58,'[1]DEN2 2017'!$G$3:$I$66,2,FALSE),0) -> 0
A59: 04106-VICUÑA | B59: 105502-P.S.R. CALINGASTA | E59: =IFERROR(VLOOKUP($B59,[1]NUM2!$G$3:$J$72,2,FALSE),0) -> 0 | F59: =IFERROR(VLOOKUP($B59,[1]NUM2!$G$3:$J$72,3,FALSE),0) -> 0 | H59: =IFERROR(VLOOKUP($B59,'[1]DEN2 2017'!$G$3:$I$66,2,FALSE),0) -> 0
A60: 04106-VICUÑA | B60: 105509-P.S.R. GUALLIGUAICA | E60: =IFERROR(VLOOKUP($B60,[1]NUM2!$G$3:$J$72,2,FALSE),0) -> 0 | F60: =IFERROR(VLOOKUP($B60,[1]NUM2!$G$3:$J$72,3,FALSE),0) -> 0 | H60: =IFERROR(VLOOKUP($B60,'[1]DEN2 2017'!$G$3:$I$66,2,FALSE),0) -> 0
A61: 04106-VICUÑA | B61: 200538-CESFAM SAN ISIDRO CALINGASTA | E61: =IFERROR(VLOOKUP($B61,[1]NUM2!$G$3:$J$72,2,FALSE),0) -> 0 | F61: =IFERROR(VLOOKUP($B61,[1]NUM2!$G$3:$J$72,3,FALSE),0) -> 0 | H61: =IFERROR(VLOOKUP($B61,'[1]DEN2 2017'!$G$3:$I$66,2,FALSE),0) -> 0
A62: TOTAL VICUÑA | C62: =D62/'Metas Muni'!H9 -> 1.7935629 | D62: =F62/G62 -> 1.0273528 | E62: =SUM(E51:E61) -> 2091 | F62: =SUM(F51:F61) -> 2216 | G62: =+H62+I62 -> 2157 | H62: =SUM(H51:H61) -> 1872 | I62: 285
A63: 04201-ILLAPEL | B63: 105326-CESFAM SAN RAFAEL | E63: =IFERROR(VLOOKUP($B63,[1]NUM2!$G$3:$J$72,2,FALSE),0) -> 693 | F63: =IFERROR(VLOOKUP($B63,[1]NUM2!$G$3:$J$72,3,FALSE),0) -> 853 | H63: =IFERROR(VLOOKUP($B63,'[1]DEN2 2017'!$G$3:$I$66,2,FALSE),0) -> 268
A64: 04201-ILLAPEL | B64: 105443-P.S.R. CARCAMO | E64: =IFERROR(VLOOKUP($B64,[1]NUM2!$G$3:$J$72,2,FALSE),0) -> 1718 | F64: =IFERROR(VLOOKUP($B64,[1]NUM2!$G$3:$J$72,3,FALSE),0) -> 1511 | H64: =IFERROR(VLOOKUP($B64,'[1]DEN2 2017'!$G$3:$I$66,2,FALSE),0) -> 2009
A65: 04201-ILLAPEL | B65: 105444-P.S.R. HUINTIL | E65: =IFERROR(VLOOKUP($B65,[1]NUM2!$G$3:$J$72,2,FALSE),0) -> 0 | F65: =IFERROR(VLOOKUP($B65,[1]NUM2!$G$3:$J$72,3,FALSE),0) -> 0 | H65: =IFERROR(VLOOKUP($B65,'[1]DEN2 2017'!$G$3:$I$66,2,FALSE),0) -> 0
A66: 04201-ILLAPEL | B66: 105445-P.S.R. LIMAHUIDA | E66: =IFERROR(VLOOKUP($B66,[1]NUM2!$G$3:$J$72,2,FALSE),0) -> 0 | F66: =IFERROR(VLOOKUP($B66,[1]NUM2!$G$3:$J$72,3,FALSE),0) -> 0 | H66: =IFERROR(VLOOKUP($B66,'[1]DEN2 2017'!$G$3:$I$66,2,FALSE),0) -> 0
A67: 04201-ILLAPEL | B67: 105446-P.S.R. MATANCILLA | E67: =IFERROR(VLOOKUP($B67,[1]NUM2!$G$3:$J$72,2,FALSE),0) -> 0 | F67: =IFERROR(VLOOKUP($B67,[1]NUM2!$G$3:$J$72,3,FALSE),0) -> 0 | H67: =IFERROR(VLOOKUP($B67,'[1]DEN2 2017'!$G$3:$I$66,2,FALSE),0) -> 0
A68: 04201-ILLAPEL | B68: 105447-P.S.R. PERALILLO | E68: =IFERROR(VLOOKUP($B68,[1]NUM2!$G$3:$J$72,2,FALSE),0) -> 0 | F68: =IFERROR(VLOOKUP($B68,[1]NUM2!$G$3:$J$72,3,FALSE),0) -> 0 | H68: =IFERROR(VLOOKUP($B68,'[1]DEN2 2017'!$G$3:$I$66,2,FALSE),0) -> 0
A69: 04201-ILLAPEL | B69: 105448-P.S.R. SANTA VIRGINIA | E69: =IFERROR(VLOOKUP($B69,[1]NUM2!$G$3:$J$72,2,FALSE),0) -> 0 | F69: =IFERROR(VLOOKUP($B69,[1]NUM2!$G$3:$J$72,3,FALSE),0) -> 0 | H69: =IFERROR(VLOOKUP($B69,'[1]DEN2 2017'!$G$3:$I$66,2,FALSE),0) -> 0
A70: 04201-ILLAPEL | B70: 105449-P.S.R. TUNGA NORTE | E70: =IFERROR(VLOOKUP($B70,[1]NUM2!$G$3:$J$72,2,FALSE),0) -> 0 | F70: =IFERROR(VLOOKUP($B70,[1]NUM2!$G$3:$J$72,3,FALSE),0) -> 0 | H70: =IFERROR(VLOOKUP($B70,'[1]DEN2 2017'!$G$3:$I$66,2,FALSE),0) -> 0
A71: 04201-ILLAPEL | B71: 105485-P.S.R. PLAN DE HORNOS | E71: =IFERROR(VLOOKUP($B71,[1]NUM2!$G$3:$J$72,2,FALSE),0) -> 0 | F71: =IFERROR(VLOOKUP($B71,[1]NUM2!$G$3:$J$72,3,FALSE),0) -> 0 | H71: =IFERROR(VLOOKUP($B71,'[1]DEN2 2017'!$G$3:$I$66,2,FALSE),0) -> 0
A72: 04201-ILLAPEL | B72: 105486-P.S.R. TUNGA SUR | E72: =IFERROR(VLOOKUP($B72,[1]NUM2!$G$3:$J$72,2,FALSE),0) -> 0 | F72: =IFERROR(VLOOKUP($B72,[1]NUM2!$G$3:$J$72,3,FALSE),0) -> 0 | H72: =IFERROR(VLOOKUP($B72,'[1]DEN2 2017'!$G$3:$I$66,2,FALSE),0) -> 0
A73: 04201-ILLAPEL | B73: 105487-P.S.R. CAÑAS UNO | E73: =IFERROR(VLOOKUP($B73,[1]NUM2!$G$3:$J$72,2,FALSE),0) -> 0 | F73: =IFERROR(VLOOKUP($B73,[1]NUM2!$G$3:$J$72,3,FALSE),0) -> 0 | H73: =IFERROR(VLOOKUP($B73,'[1]DEN2 2017'!$G$3:$I$66,2,FALSE),0) -> 0
A74: 04201-ILLAPEL | B74: 105496-P.S.R. PINTACURA SUR | E74: =IFERROR(VLOOKUP($B74,[1]NUM2!$G$3:$J$72,2,FALSE),0) -> 0 | F74: =IFERROR(VLOOKUP($B74,[1]NUM2!$G$3:$J$72,3,FALSE),0) -> 0 | H74: =IFERROR(VLOOKUP($B74,'[1]DEN2 2017'!$G$3:$I$66,2,FALSE),0) -> 0
... A76: 04201-ILLAPEL | B76: 200366-CESFAM URBANO II | E76: =IFERROR(VLOOKUP($B76,[1]NUM2!$G$3:$J$72,2,FALSE),0) -> 273 | F76: =IFERROR(VLOOKUP($B76,[1]NUM2!$G$3:$J$72,3,FALSE),0) -> 471 | H76: =IFERROR(VLOOKUP($B76,'[1]DEN2 2017'!$G$3:$I$66,2,FALSE),0) -> 0
A77: TOTAL ILLAPEL | C77: =D77/'Metas Muni'!H10 -> 1.6509495 | D77: =F77/G77 -> 1.213613 | E77: =SUM(E63:E76) -> 2684 | F77: =SUM(F63:F76) -> 2835 | G77: =+H77+I77 -> 2336 | H77: =SUM(H63:H76) -> 2277 | I77: 59
A78: 04202-CANELA | B78: 105309-CES. RURAL CANELA | E78: =IFERROR(VLOOKUP($B78,[1]NUM2!$G$3:$J$72,2,FALSE),0) -> 1212 | F78: =IFERROR(VLOOKUP($B78,[1]NUM2!$G$3:$J$72,3,FALSE),0) -> 1221 | H78: =IFERROR(VLOOKUP($B78,'[1]DEN2 2017'!$G$3:$I$66,2,FALSE),0) -> 1055
A79: 04202-CANELA | B79: 105450-P.S.R. MINCHA NORTE | E79: =IFERROR(VLOOKUP($B79,[1]NUM2!$G$3:$J$72,2,FALSE),0) -> 0 | F79: =IFERROR(VLOOKUP($B79,[1]NUM2!$G$3:$J$72,3,FALSE),0) -> 0 | H79: =IFERROR(VLOOKUP($B79,'[1]DEN2 2017'!$G$3:$I$66,2,FALSE),0) -> 0
A80: 04202-CANELA | B80: 105451-P.S.R. AGUA FRIA | E80: =IFERROR(VLOOKUP($B80,[1]NUM2!$G$3:$J$72,2,FALSE),0) -> 0 | F80: =IFERROR(VLOOKUP($B80,[1]NUM2!$G$3:$J$72,3,FALSE),0) -> 0 | H80: =IFERROR(VLOOKUP($B80,'[1]DEN2 2017'!$G$3:$I$66,2,FALSE),0) -> 0
A81: 04202-CANELA | B81: 105482-P.S.R. CANELA ALTA | E81: =IFERROR(VLOOKUP($B81,[1]NUM2!$G$3:$J$72,2,FALSE),0) -> 0 | F81: =IFERROR(VLOOKUP($B81,[1]NUM2!$G$3:$J$72,3,FALSE),0) -> 0 | H81: =IFERROR(VLOOKUP($B81,'[1]DEN2 2017'!$G$3:$I$66,2,FALSE),0) -> 0
A82: 04202-CANELA | B82: 105483-P.S.R. LOS RULOS | E82: =IFERROR(VLOOKUP($B82,[1]NUM2!$G$3:$J$72,2,FALSE),0) -> 0 | F82: =IFERROR(VLOOKUP($B82,[1]NUM2!$G$3:$J$72,3,FALSE),0) -> 0 | H82: =IFERROR(VLOOKUP($B82,'[1]DEN2 2017'!$G$3:$I$66,2,FALSE),0) -> 0
A83: 04202-CANELA | B83: 105484-P.S.R. HUENTELAUQUEN | E83: =IFERROR(VLOOKUP($B83,[1]NUM2!$G$3:$J$72,2,FALSE),0) -> 0 | F83: =IFERROR(VLOOKUP($B83,[1]NUM2!$G$3:$J$72,3,FALSE),0) -> 0 | H83: =IFERROR(VLOOKUP($B83,'[1]DEN2 2017'!$G$3:$I$66,2,FALSE),0) -> 0
A84: 04202-CANELA | B84: 105488-P.S.R. ESPIRITU SANTO | E84: =IFERROR(VLOOKUP($B84,[1]NUM2!$G$3:$J$72,2,FALSE),0) -> 0 | F84: =IFERROR(VLOOKUP($B84,[1]NUM2!$G$3:$J$72,3,FALSE),0) -> 0 | H84: =IFERROR(VLOOKUP($B84,'[1]DEN2 2017'!$G$3:$I$66,2,FALSE),0) -> 0
A85: 04202-CANELA | B85: 105493-P.S.R. MINCHA SUR | E85: =IFERROR(VLOOKUP($B85,[1]NUM2!$G$3:$J$72,2,FALSE),0) -> 0 | F85: =IFERROR(VLOOKUP($B85,[1]NUM2!$G$3:$J$72,3,FALSE),0) -> 0 | H85: =IFERROR(VLOOKUP($B85,'[1]DEN2 2017'!$G$3:$I$66,2,FALSE),0) -> 0
A86: 04202-CANELA | B86: 105497-P.S.R. JABONERIA | E86: =IFERROR(VLOOKUP($B86,[1]NUM2!$G$3:$J$72,2,FALSE),0) -> 0 | F86: =IFERROR(VLOOKUP($B86,[1]NUM2!$G$3:$J$72,3,FALSE),0) -> 0 | H86: =IFERROR(VLOOKUP($B86,'[1]DEN2 2017'!$G$3:$I$66,2,FALSE),0) -> 0
A87: 04202-CANELA | B87: 105498-P.S.R. QUEBRADA DE LINARES | E87: =IFERROR(VLOOKUP($B87,[1]NUM2!$G$3:$J$72,2,FALSE),0) -> 0 | F87: =IFERROR(VLOOKUP($B87,[1]NUM2!$G$3:$J$72,3,FALSE),0) -> 0 | H87: =IFERROR(VLOOKUP($B87,'[1]DEN2 2017'!$G$3:$I$66,2,FALSE),0) -> 0
A88: TOTAL CANELA | C88: =D88/'Metas Muni'!H11 -> 1.8101632 | D88: =F88/G88 -> 0.96445498 | E88: =SUM(E78:E87) -> 1212 | F88: =SUM(F78:F87) -> 1221 | G88: =+H88+I88 -> 1266 | H88: =SUM(H78:H87) -> 1055 | I88: 211
A89: 04203-LOS VILOS | B89: 105478-P.S.R. CAIMANES | E89: =IFERROR(VLOOKUP($B89,[1]NUM2!$G$3:$J$72,2,FALSE),0) -> 919 | F89: =IFERROR(VLOOKUP($B89,[1]NUM2!$G$3:$J$72,3,FALSE),0) -> 951 | H89: =IFERROR(VLOOKUP($B89,'[1]DEN2 2017'!$G$3:$I$66,2,FALSE),0) -> 864
A90: 04203-LOS VILOS | B90: 105479-P.S.R. GUANGUALI | E90: =IFERROR(VLOOKUP($B90,[1]NUM2!$G$3:$J$72,2,FALSE),0) -> 0 | F90: =IFERROR(VLOOKUP($B90,[1]NUM2!$G$3:$J$72,3,FALSE),0) -> 0 | H90: =IFERROR(VLOOKUP($B90,'[1]DEN2 2017'!$G$3:$I$66,2,FALSE),0) -> 0
A91: 04203-LOS VILOS | B91: 105480-P.S.R. QUILIMARI | E91: =IFERROR(VLOOKUP($B91,[1]NUM2!$G$3:$J$72,2,FALSE),0) -> 0 | F91: =IFERROR(VLOOKUP($B91,[1]NUM2!$G$3:$J$72,3,FALSE),0) -> 0 | H91: =IFERROR(VLOOKUP($B91,'[1]DEN2 2017'!$G$3:$I$66,2,FALSE),0) -> 0
A92: 04203-LOS VILOS | B92: 105481-P.S.R. TILAMA | E92: =IFERROR(VLOOKUP($B92,[1]NUM2!$G$3:$J$72,2,FALSE),0) -> 0 | F92: =IFERROR(VLOOKUP($B92,[1]NUM2!$G$3:$J$72,3,FALSE),0) -> 0 | H92: =IFERROR(VLOOKUP($B92,'[1]DEN2 2017'!$G$3:$I$66,2,FALSE),0) -> 0
A93: 04203-LOS VILOS | B93: 105511-P.S.R. LOS CONDORES | E93: =IFERROR(VLOOKUP($B93,[1]NUM2!$G$3:$J$72,2,FALSE),0) -> 0 | F93: =IFERROR(VLOOKUP($B93,[1]NUM2!$G$3:$J$72,3,FALSE),0) -> 0 | H93: =IFERROR(VLOOKUP($B93,'[1]DEN2 2017'!$G$3:$I$66,2,FALSE),0) -> 0
A94: TOTAL LOS VILOS | C94: =D94/'Metas Muni'!H12 -> 1.6022741 | D94: =F94/G94 -> 0.99373041 | E94: =SUM(E89:E93) -> 919 | F94: =SUM(F89:F93) -> 951 | G94: =+H94+I94 -> 957 | H94: =SUM(H89:H93) -> 864 | I94: 93
A95: 04204-SALAMANCA | B95: 105452-P.S.R. CUNCUMEN | E95: =IFERROR(VLOOKUP($B95,[1]NUM2!$G$3:$J$72,2,FALSE),0) -> 2580 | F95: =IFERROR(VLOOKUP($B95,[1]NUM2!$G$3:$J$72,3,FALSE),0) -> 2632 | H95: =IFERROR(VLOOKUP($B95,'[1]DEN2 2017'!$G$3:$I$66,2,FALSE),0) -> 2539
A96: 04204-SALAMANCA | B96: 105453-P.S.R. TRANQUILLA | E96: =IFERROR(VLOOKUP($B96,[1]NUM2!$G$3:$J$72,2,FALSE),0) -> 0 | F96: =IFERROR(VLOOKUP($B96,[1]NUM2!$G$3:$J$72,3,FALSE),0) -> 0 | H96: =IFERROR(VLOOKUP($B96,'[1]DEN2 2017'!$G$3:$I$66,2,FALSE),0) -> 0
A97: 04204-SALAMANCA | B97: 105454-P.S.R. CUNLAGUA | E97: =IFERROR(VLOOKUP($B97,[1]NUM2!$G$3:$J$72,2,FALSE),0) -> 0 | F97: =IFERROR(VLOOKUP($B97,[1]NUM2!$G$3:$J$72,3,FALSE),0) -> 0 | H97: =IFERROR(VLOOKUP($B97,'[1]DEN2 2017'!$G$3:$I$66,2,FALSE),0) -> 0
A98: 04204-SALAMANCA | B98: 105455-P.S.R. CHILLEPIN | E98: =IFERROR(VLOOKUP($B98,[1]NUM2!$G$3:$J$72,2,FALSE),0) -> 0 | F98: =IFERROR(VLOOKUP($B98,[1]NUM2!$G$3:$J$72,3,FALSE),0) -> 0 | H98: =IFERROR(VLOOKUP($B98,'[1]DEN2 2017'!$G$3:$I$66,2,FALSE),0) -> 0
A99: 04204-SALAMANCA | B99: 105456-P.S.R. LLIMPO | E99: =IFERROR(VLOOKUP($B99,[1]NUM2!$G$3:$J$72,2,FALSE),0) -> 0 | F99: =IFERROR(VLOOKUP($B99,[1]NUM2!$G$3:$J$72,3,FALSE),0) -> 0 | H99: =IFERROR(VLOOKUP($B99,'[1]DEN2 2017'!$G$3:$I$66,2,FALSE),0) -> 0
A100: 04204-SALAMANCA | B100: 105457-P.S.R. SAN AGUSTIN | E100: =IFERROR(VLOOKUP($B100,[1]NUM2!$G$3:$J$72,2,FALSE),0) -> 0 | F100: =IFERROR(VLOOKUP($B100,[1]NUM2!$G$3:$J$72,3,FALSE),0) -> 0 | H100: =IFERROR(VLOOKUP($B100,'[1]DEN2 2017'!$G$3:$I$66,2,FALSE),0) -> 0
A101: 04204-SALAMANCA | B101: 105458-P.S.R. TAHUINCO | E101: =IFERROR(VLOOKUP($B101,[1]NUM2!$G$3:$J$72,2,FALSE),0) -> 0 | F101: =IFERROR(VLOOKUP($B101,[1]NUM2!$G$3:$J$72,3,FALSE),0) -> 0 | H101: =IFERROR(VLOOKUP($B101,'[1]DEN2 2017'!$G$3:$I$66,2,FALSE),0) -> 0
A102: 04204-SALAMANCA | B102: 105491-P.S.R. QUELEN BAJO | E102: =IFERROR(VLOOKUP($B102,[1]NUM2!$G$3:$J$72,2,FALSE),0) -> 0 | F102: =IFERROR(VLOOKUP($B102,[1]NUM2!$G$3:$J$72,3,FALSE),0) -> 0 | H102: =IFERROR(VLOOKUP($B102,'[1]DEN2 2017'!$G$3:$I$66,2,FALSE),0) -> 0
A103: 04204-SALAMANCA | B103: 105492-P.S.R. CAMISA | E103: =IFERROR(VLOOKUP($B103,[1]NUM2!$G$3:$J$72,2,FALSE),0) -> 0 | F103: =IFERROR(VLOOKUP($B103,[1]NUM2!$G$3:$J$72,3,FALSE),0) -> 0 | H103: =IFERROR(VLOOKUP($B103,'[1]DEN2 2017'!$G$3:$I$66,2,FALSE),0) -> 0
A104: 04204-SALAMANCA | B104: 105501-P.S.R. ARBOLEDA GRANDE | E104: =IFERROR(VLOOKUP($B104,[1]NUM2!$G$3:$J$72,2,FALSE),0) -> 0 | F104: =IFERROR(VLOOKUP($B104,[1]NUM2!$G$3:$J$72,3,FALSE),0) -> 0 | H104: =IFERROR(VLOOKUP($B104,'[1]DEN2 2017'!$G$3:$I$66,2,FALSE),0) -> 0
A105: TOTAL SALAMANCA | C105: =D105/'Metas Muni'!H13 -> 1.3512828 | D105: =F105/G105 -> 1.0138675 | E105: =SUM(E95:E104) -> 2580 | F105: =SUM(F95:F104) -> 2632 | G105: =+H105+I105 -> 2596 | H105: =SUM(H95:H104) -> 2539 | I105: 57
A106: 04301-OVALLE | B106: 105315-CES. RURAL C. DE TAMAYA | E106: =IFERROR(VLOOKUP($B106,[1]NUM2!$G$3:$J$72,2,FALSE),0) -> 1114 | F106: =IFERROR(VLOOKUP($B106,[1]NUM2!$G$3:$J$72,3,FALSE),0) -> 1102 | H106: =IFERROR(VLOOKUP($B106,'[1]DEN2 2017'!$G$3:$I$66,2,FALSE),0) -> 1118
A107: 04301-OVALLE | B107: 105317-CES. JORGE JORDAN D. | E107: =IFERROR(VLOOKUP($B107,[1]NUM2!$G$3:$J$72,2,FALSE),0) -> 3729 | F107: =IFERROR(VLOOKUP($B107,[1]NUM2!$G$3:$J$72,3,FALSE),0) -> 3686 | H107: =IFERROR(VLOOKUP($B107,'[1]DEN2 2017'!$G$3:$I$66,2,FALSE),0) -> 4728
A108: 04301-OVALLE | B108: 105322-CES. MARCOS MACUADA | E108: =IFERROR(VLOOKUP($B108,[1]NUM2!$G$3:$J$72,2,FALSE),0) -> 4769 | F108: =IFERROR(VLOOKUP($B108,[1]NUM2!$G$3:$J$72,3,FALSE),0) -> 4798 | H108: =IFERROR(VLOOKUP($B108,'[1]DEN2 2017'!$G$3:$I$66,2,FALSE),0) -> 4376
A109: 04301-OVALLE | B109: 105324-CES. SOTAQUI | E109: =IFERROR(VLOOKUP($B109,[1]NUM2!$G$3:$J$72,2,FALSE),0) -> 985 | F109: =IFERROR(VLOOKUP($B109,[1]NUM2!$G$3:$J$72,3,FALSE),0) -> 1063 | H109: =IFERROR(VLOOKUP($B109,'[1]DEN2 2017'!$G$3:$I$66,2,FALSE),0) -> 951
...

Sheet Meta 3A
A1: COMUNA | B1: ESTABLECIMIENTO | C1: CUMPLIMIENTO | D1: Indicador | E1: META 3a: COBERTURA DE ALTA ODONTOLÓGICA TOTAL EN ADOLESCENTES DE 12 AÑOS
E2: NUMERADOR | R2: DENOMINADOR
E10: N° de Adolescentes de 12 años con alta odontológica total | R10: Total de Adolescentes de 12 años inscritos validados
D11: Resultado | E11: ENERO | F11: FEBRERO | G11: MARZO | H11: ABRIL | I11: MAYO | J11: JUNIO | K11: JULIO | L11: AGOSTO | M11: SEPBRE | N11: OCTUBRE | O11: NOVBRE | P11: DICBRE | Q11: TOTAL
A12: 04101-LA SERENA | B12: 105300-CES. CARDENAL CARO | E12: =IFERROR(VLOOKUP($B12,[1]NUM3A!$G$3:$T$143,2,FALSE),0) -> 5 | F12: =IFERROR(VLOOKUP($B12,[1]NUM3A!$G$3:$T$143,3,FALSE),0) -> 16 | G12: =IFERROR(VLOOKUP($B12,[1]NUM3A!$G$3:$T$143,4,FALSE),0) -> 30 | H12: =IFERROR(VLOOKUP($B12,[1]NUM3A!$G$3:$T$143,5,FALSE),0) -> 60 | I12: =IFERROR(VLOOKUP($B12,[1]NUM3A!$G$3:$T$143,6,FALSE),0) -> 29 | J12: =IFERROR(VLOOKUP($B12,[1]NUM3A!$G$3:$T$143,7,FALSE),0) -> 24 | K12: =IFERROR(VLOOKUP($B12,[1]NUM3A!$G$3:$T$143,8,FALSE),0) -> 39 | L12: =IFERROR(VLOOKUP($B12,[1]NUM3A!$G$3:$T$143,9,FALSE),0) -> 27 | M12: =IFERROR(VLOOKUP($B12,[1]NUM3A!$G$3:$T$143,10,FALSE),0) -> 35 | N12: =IFERROR(VLOOKUP($B12,[1]NUM3A!$G$3:$T$143,11,FALSE),0) -> 18 | O12: =IFERROR(VLOOKUP($B12,[1]NUM3A!$G$3:$T$143,12,FALSE),0) -> 7 | P12: =IFERROR(VLOOKUP($B12,[1]NUM3A!$G$3:$T$143,13,FALSE),0) -> 9 | Q12: =SUM(E12:P12) -> 299
A13: 04101-LA SERENA | B13: 105301-CES. LAS COMPAÑIAS | E13: =IFERROR(VLOOKUP($B13,[1]NUM3A!$G$3:$T$143,2,FALSE),0) -> 3 | F13: =IFERROR(VLOOKUP($B13,[1]NUM3A!$G$3:$T$143,3,FALSE),0) -> 14 | G13: =IFERROR(VLOOKUP($B13,[1]NUM3A!$G$3:$T$143,4,FALSE),0) -> 15 | H13: =IFERROR(VLOOKUP($B13,[1]NUM3A!$G$3:$T$143,5,FALSE),0) -> 72 | I13: =IFERROR(VLOOKUP($B13,[1]NUM3A!$G$3:$T$143,6,FALSE),0) -> 50 | J13: =IFERROR(VLOOKUP($B13,[1]NUM3A!$G$3:$T$143,7,FALSE),0) -> 0 | K13: =IFERROR(VLOOKUP($B13,[1]NUM3A!$G$3:$T$143,8,FALSE),0) -> 6 | L13: =IFERROR(VLOOKUP($B13,[1]NUM3A!$G$3:$T$143,9,FALSE),0) -> 12 | M13: =IFERROR(VLOOKUP($B13,[1]NUM3A!$G$3:$T$143,10,FALSE),0) -> 12 | N13: =IFERROR(VLOOKUP($B13,[1]NUM3A!$G$3:$T$143,11,FALSE),0) -> 17 | O13: =IFERROR(VLOOKUP($B13,[1]NUM3A!$G$3:$T$143,12,FALSE),0) -> 55 | P13: =IFERROR(VLOOKUP($B13,[1]NUM3A!$G$3:$T$143,13,FALSE),0) -> 15 | Q13: =SUM(E13:P13) -> 271
A14: 04101-LA SERENA | B14: 105302-CES. PEDRO AGUIRRE C. | E14: =IFERROR(VLOOKUP($B14,[1]NUM3A!$G$3:$T$143,2,FALSE),0) -> 8 | F14: =IFERROR(VLOOKUP($B14,[1]NUM3A!$G$3:$T$143,3,FALSE),0) -> 6 | G14: =IFERROR(VLOOKUP($B14,[1]NUM3A!$G$3:$T$143,4,FALSE),0) -> 14 | H14: =IFERROR(VLOOKUP($B14,[1]NUM3A!$G$3:$T$143,5,FALSE),0) -> 20 | I14: =IFERROR(VLOOKUP($B14,[1]NUM3A!$G$3:$T$143,6,FALSE),0) -> 31 | J14: =IFERROR(VLOOKUP($B14,[1]NUM3A!$G$3:$T$143,7,FALSE),0) -> 24 | K14: =IFERROR(VLOOKUP($B14,[1]NUM3A!$G$3:$T$143,8,FALSE),0) -> 11 | L14: =IFERROR(VLOOKUP($B14,[1]NUM3A!$G$3:$T$143,9,FALSE),0) -> 12 | M14: =IFERROR(VLOOKUP($B14,[1]NUM3A!$G$3:$T$143,10,FALSE),0) -> 7 | N14: =IFERROR(VLOOKUP($B14,[1]NUM3A!$G$3:$T$143,11,FALSE),0) -> 10 | O14: =IFERROR(VLOOKUP($B14,[1]NUM3A!$G$3:$T$143,12,FALSE),0) -> 3 | P14: =IFERROR(VLOOKUP($B14,[1]NUM3A!$G$3:$T$143,13,FALSE),0) -> 5 | Q14: =SUM(E14:P14) -> 151
A15: 04101-LA SERENA | B15: 105313-CES. SCHAFFHAUSER | E15: =IFERROR(VLOOKUP($B15,[1]NUM3A!$G$3:$T$143,2,FALSE),0) -> 45 | F15: =IFERROR(VLOOKUP($B15,[1]NUM3A!$G$3:$T$143,3,FALSE),0) -> 4 | G15: =IFERROR(VLOOKUP($B15,[1]NUM3A!$G$3:$T$143,4,FALSE),0) -> 109 | H15: =IFERROR(VLOOKUP($B15,[1]NUM3A!$G$3:$T$143,5,FALSE),0) -> 77 | I15: =IFERROR(VLOOKUP($B15,[1]NUM3A!$G$3:$T$143,6,FALSE),0) -> 101 | J15: =IFERROR(VLOOKUP($B15,[1]NUM3A!$G$3:$T$143,7,FALSE),0) -> 70 | K15: =IFERROR(VLOOKUP($B15,[1]NUM3A!$G$3:$T$143,8,FALSE),0) -> 52 | L15: =IFERROR(VLOOKUP($B15,[1]NUM3A!$G$3:$T$143,9,FALSE),0) -> 41 | M15: =IFERROR(VLOOKUP($B15,[1]NUM3A!$G$3:$T$143,10,FALSE),0) -> 41 | N15: =IFERROR(VLOOKUP($B15,[1]NUM3A!$G$3:$T$143,11,FALSE),0) -> 10 | O15: =IFERROR(VLOOKUP($B15,[1]NUM3A!$G$3:$T$143,12,FALSE),0) -> 128 | P15: =IFERROR(VLOOKUP($B15,[1]NUM3A!$G$3:$T$143,13,FALSE),0) -> 25 | Q15: =SUM(E15:P15) -> 703
A16: 04101-LA SERENA | B16: 105319-CES. CARDENAL R.S.H. | E16: =IFERROR(VLOOKUP($B16,[1]NUM3A!$G$3:$T$143,2,FALSE),0) -> 21 | F16: =IFERROR(VLOOKUP($B16,[1]NUM3A!$G$3:$T$143,3,FALSE),0) -> 10 | G16: =IFERROR(VLOOKUP($B16,[1]NUM3A!$G$3:$T$143,4,FALSE),0) -> 12 | H16: =IFERROR(VLOOKUP($B16,[1]NUM3A!$G$3:$T$143,5,FALSE),0) -> 19 | I16: =IFERROR(VLOOKUP($B16,[1]NUM3A!$G$3:$T$143,6,FALSE),0) -> 9 | J16: =IFERROR(VLOOKUP($B16,[1]NUM3A!$G$3:$T$143,7,FALSE),0) -> 44 | K16: =IFERROR(VLOOKUP($B16,[1]NUM3A!$G$3:$T$143,8,FALSE),0) -> 9 | L16: =IFERROR(VLOOKUP($B16,[1]NUM3A!$G$3:$T$143,9,FALSE),0) -> 18 | M16: =IFERROR(VLOOKUP($B16,[1]NUM3A!$G$3:$T$143,10,FALSE),0) -> 23 | N16: =IFERROR(VLOOKUP($B16,[1]NUM3A!$G$3:$T$143,11,FALSE),0) -> 35 | O16: =IFERROR(VLOOKUP($B16,[1]NUM3A!$G$3:$T$143,12,FALSE),0) -> 16 | P16: =IFERROR(VLOOKUP($B16,[1]NUM3A!$G$3:$T$143,13,FALSE),0) -> 19 | Q16: =SUM(E16:P16) -> 235
A17: 04101-LA SERENA | B17: 105325-CESFAM JUAN PABLO II | E17: =IFERROR(VLOOKUP($B17,[1]NUM3A!$G$3:$T$143,2,FALSE),0) -> 8 | F17: =IFERROR(VLOOKUP($B17,[1]NUM3A!$G$3:$T$143,3,FALSE),0) -> 20 | G17: =IFERROR(VLOOKUP($B17,[1]NUM3A!$G$3:$T$143,4,FALSE),0) -> 18 | H17: =IFERROR(VLOOKUP($B17,[1]NUM3A!$G$3:$T$143,5,FALSE),0) -> 78 | I17: =IFERROR(VLOOKUP($B17,[1]NUM3A!$G$3:$T$143,6,FALSE),0) -> 18 | J17: =IFERROR(VLOOKUP($B17,[1]NUM3A!$G$3:$T$143,7,FALSE),0) -> 17 | K17: =IFERROR(VLOOKUP($B17,[1]NUM3A!$G$3:$T$143,8,FALSE),0) -> 9 | L17: =IFERROR(VLOOKUP($B17,[1]NUM3A!$G$3:$T$143,9,FALSE),0) -> 12 | M17: =IFERROR(VLOOKUP($B17,[1]NUM3A!$G$3:$T$143,10,FALSE),0) -> 4 | N17: =IFERROR(VLOOKUP($B17,[1]NUM3A!$G$3:$T$143,11,FALSE),0) -> 9 | O17: =IFERROR(VLOOKUP($B17,[1]NUM3A!$G$3:$T$143,12,FALSE),0) -> 8 | P17: =IFERROR(VLOOKUP($B17,[1]NUM3A!$G$3:$T$143,13,FALSE),0) -> 43 | Q17: =SUM(E17:P17) -> 244
A18: 04101-LA SERENA | B18: 105400-P.S.R. ALGARROBITO | E18: =IFERROR(VLOOKUP($B18,[1]NUM3A!$G$3:$T$143,2,FALSE),0) -> 0 | F18: =IFERROR(VLOOKUP($B18,[1]NUM3A!$G$3:$T$143,3,FALSE),0) -> 0 | G18: =IFERROR(VLOOKUP($B18,[1]NUM3A!$G$3:$T$143,4,FALSE),0) -> 1 | H18: =IFERROR(VLOOKUP($B18,[1]NUM3A!$G$3:$T$143,5,FALSE),0) -> 0 | I18: =IFERROR(VLOOKUP($B18,[1]NUM3A!$G$3:$T$143,6,FALSE),0) -> 0 | J18: =IFERROR(VLOOKUP($B18,[1]NUM3A!$G$3:$T$143,7,FALSE),0) -> 0 | K18: =IFERROR(VLOOKUP($B18,[1]NUM3A!$G$3:$T$143,8,FALSE),0) -> 0 | L18: =IFERROR(VLOOKUP($B18,[1]NUM3A!$G$3:$T$143,9,FALSE),0) -> 1 | M18: =IFERROR(VLOOKUP($B18,[1]NUM3A!$G$3:$T$143,10,FALSE),0) -> 1 | N18: =IFERROR(VLOOKUP($B18,[1]NUM3A!$G$3:$T$143,11,FALSE),0) -> 0 | O18: =IFERROR(VLOOKUP($B18,[1]NUM3A!$G$3:$T$143,12,FALSE),0) -> 0 | P18: =IFERROR(VLOOKUP($B18,[1]NUM3A!$G$3:$T$143,13,FALSE),0) -> 0 | Q18: =SUM(E18:P18) -> 3
A19: 04101-LA SERENA | B19: 105401-P.S.R. LAS ROJAS | E19: =IFERROR(VLOOKUP($B19,[1]NUM3A!$G$3:$T$143,2,FALSE),0) -> 0 | F19: =IFERROR(VLOOKUP($B19,[1]NUM3A!$G$3:$T$143,3,FALSE),0) -> 0 | G19: =IFERROR(VLOOKUP($B19,[1]NUM3A!$G$3:$T$143,4,FALSE),0) -> 0 | H19: =IFERROR(VLOOKUP($B19,[1]NUM3A!$G$3:$T$143,5,FALSE),0) -> 0 | I19: =IFERROR(VLOOKUP($B19,[1]NUM3A!$G$3:$T$143,6,FALSE),0) -> 0 | J19: =IFERROR(VLOOKUP($B19,[1]NUM3A!$G$3:$T$143,7,FALSE),0) -> 0 | K19: =IFERROR(VLOOKUP($B19,[1]NUM3A!$G$3:$T$143,8,FALSE),0) -> 0 | L19: =IFERROR(VLOOKUP($B19,[1]NUM3A!$G$3:$T$143,9,FALSE),0) -> 0 | M19: =IFERROR(VLOOKUP($B19,[1]NUM3A!$G$3:$T$143,10,FALSE),0) -> 0 | N19: =IFERROR(VLOOKUP($B19,[1]NUM3A!$G$3:$T$143,11,FALSE),0) -> 0 | O19: =IFERROR(VLOOKUP($B19,[1]NUM3A!$G$3:$T$143,12,FALSE),0) -> 0 | P19: =IFERROR(VLOOKUP($B19,[1]NUM3A!$G$3:$T$143,13,FALSE),0) -> 0 | Q19: =SUM(E19:P19) -> 0
A20: 04101-LA SERENA | B20: 105402-P.S.R. EL ROMERO | E20: =IFERROR(VLOOKUP($B20,[1]NUM3A!$G$3:$T$143,2,FALSE),0) -> 0 | F20: =IFERROR(VLOOKUP($B20,[1]NUM3A!$G$3:$T$143,3,FALSE),0) -> 0 | G20: =IFERROR(VLOOKUP($B20,[1]NUM3A!$G$3:$T$143,4,FALSE),0) -> 0 | H20: =IFERROR(VLOOKUP($B20,[1]NUM3A!$G$3:$T$143,5,FALSE),0) -> 0 | I20: =IFERROR(VLOOKUP($B20,[1]NUM3A!$G$3:$T$143,6,FALSE),0) -> 0 | J20: =IFERROR(VLOOKUP($B20,[1]NUM3A!$G$3:$T$143,7,FALSE),0) -> 0 | K20: =IFERROR(VLOOKUP($B20,[1]NUM3A!$G$3:$T$143,8,FALSE),0) -> 0 | L20: =IFERROR(VLOOKUP($B20,[1]NUM3A!$G$3:$T$143,9,FALSE),0) -> 0 | M20: =IFERROR(VLOOKUP($B20,[1]NUM3A!$G$3:$T$143,10,FALSE),0) -> 0 | N20: =IFERROR(VLOOKUP($B20,[1]NUM3A!$G$3:$T$143,11,FALSE),0) -> 0 | O20: =IFERROR(VLOOKUP($B20,[1]NUM3A!$G$3:$T$143,12,FALSE),0) -> 0 | P20: =IFERROR(VLOOKUP($B20,[1]NUM3A!$G$3:$T$143,13,FALSE),0) -> 0 | Q20: =SUM(E20:P20) -> 0
A21: 04101-LA SERENA | B21: 105499-P.S.R. LAMBERT | E21: =IFERROR(VLOOKUP($B21,[1]NUM3A!$G$3:$T$143,2,FALSE),0) -> 0 | F21: =IFERROR(VLOOKUP($B21,[1]NUM3A!$G$3:$T$143,3,FALSE),0) -> 0 | G21: =IFERROR(VLOOKUP($B21,[1]NUM3A!$G$3:$T$143,4,FALSE),0) -> 0 | H21: =IFERROR(VLOOKUP($B21,[1]NUM3A!$G$3:$T$143,5,FALSE),0) -> 0 | I21: =IFERROR(VLOOKUP($B21,[1]NUM3A!$G$3:$T$143,6,FALSE),0) -> 0 | J21: =IFERROR(VLOOKUP($B21,[1]NUM3A!$G$3:$T$143,7,FALSE),0) -> 0 | K21: =IFERROR(VLOOKUP($B21,[1]NUM3A!$G$3:$T$143,8,FALSE),0) -> 0 | L21: =IFERROR(VLOOKUP($B21,[1]NUM3A!$G$3:$T$143,9,FALSE),0) -> 0 | M21: =IFERROR(VLOOKUP($B21,[1]NUM3A!$G$3:$T$143,10,FALSE),0) -> 0 | N21: =IFERROR(VLOOKUP($B21,[1]NUM3A!$G$3:$T$143,11,FALSE),0) -> 0 | O21: =IFERROR(VLOOKUP($B21,[1]NUM3A!$G$3:$T$143,12,FALSE),0) -> 0 | P21: =IFERROR(VLOOKUP($B21,[1]NUM3A!$G$3:$T$143,13,FALSE),0) -> 0 | Q21: =SUM(E21:P21) -> 0
A22: 04101-LA SERENA | B22: 105700-CECOF VILLA EL INDIO | E22: =IFERROR(VLOOKUP($B22,[1]NUM3A!$G$3:$T$143,2,FALSE),0) -> 3 | F22: =IFERROR(VLOOKUP($B22,[1]NUM3A!$G$3:$T$143,3,FALSE),0) -> 3 | G22: =IFERROR(VLOOKUP($B22,[1]NUM3A!$G$3:$T$143,4,FALSE),0) -> 1 | H22: =IFERROR(VLOOKUP($B22,[1]NUM3A!$G$3:$T$143,5,FALSE),0) -> 4 | I22: =IFERROR(VLOOKUP($B22,[1]NUM3A!$G$3:$T$143,6,FALSE),0) -> 17 | J22: =IFERROR(VLOOKUP($B22,[1]NUM3A!$G$3:$T$143,7,FALSE),0) -> 0 | K22: =IFERROR(VLOOKUP($B22,[1]NUM3A!$G$3:$T$143,8,FALSE),0) -> 0 | L22: =IFERROR(VLOOKUP($B22,[1]NUM3A!$G$3:$T$143,9,FALSE),0) -> 13 | M22: =IFERROR(VLOOKUP($B22,[1]NUM3A!$G$3:$T$143,10,FALSE),0) -> 0 | N22: =IFERROR(VLOOKUP($B22,[1]NUM3A!$G$3:$T$143,11,FALSE),0) -> 0 | O22: =IFERROR(VLOOKUP($B22,[1]NUM3A!$G$3:$T$143,12,FALSE),0) -> 0 | P22: =IFERROR(VLOOKUP($B22,[1]NUM3A!$G$3:$T$143,13,FALSE),0) -> 0 | Q22: =SUM(E22:P22) -> 41
A23: 04101-LA SERENA | B23: 105701-CECOF VILLA ALEMANIA | E23: =IFERROR(VLOOKUP($B23,[1]NUM3A!$G$3:$T$143,2,FALSE),0) -> 0 | F23: =IFERROR(VLOOKUP($B23,[1]NUM3A!$G$3:$T$143,3,FALSE),0) -> 0 | G23: =IFERROR(VLOOKUP($B23,[1]NUM3A!$G$3:$T$143,4,FALSE),0) -> 0 | H23: =IFERROR(VLOOKUP($B23,[1]NUM3A!$G$3:$T$143,5,FALSE),0) -> 0 | I23: =IFERROR(VLOOKUP($B23,[1]NUM3A!$G$3:$T$143,6,FALSE),0) -> 0 | J23: =IFERROR(VLOOKUP($B23,[1]NUM3A!$G$3:$T$143,7,FALSE),0) -> 0 | K23: =IFERROR(VLOOKUP($B23,[1]NUM3A!$G$3:$T$143,8,FALSE),0) -> 0 | L23: =IFERROR(VLOOKUP($B23,[1]NUM3A!$G$3:$T$143,9,FALSE),0) -> 0 | M23: =IFERROR(VLOOKUP($B23,[1]NUM3A!$G$3:$T$143,10,FALSE),0) -> 0 | N23: =IFERROR(VLOOKUP($B23,[1]NUM3A!$G$3:$T$143,11,FALSE),0) -> 0 | O23: =IFERROR(VLOOKUP($B23,[1]NUM3A!$G$3:$T$143,12,FALSE),0) -> 0 | P23: =IFERROR(VLOOKUP($B23,[1]NUM3A!$G$3:$T$143,13,FALSE),0) -> 0 | Q23: =SUM(E23:P23) -> 0
... A25: 04101-LA SERENA | B25: 200402-CECOF ARCOS DE PINAMAR | E25: =IFERROR(VLOOKUP($B25,[1]NUM3A!$G$3:$T$143,2,FALSE),0) -> 3 | F25: =IFERROR(VLOOKUP($B25,[1]NUM3A!$G$3:$T$143,3,FALSE),0) -> 2 | G25: =IFERROR(VLOOKUP($B25,[1]NUM3A!$G$3:$T$143,4,FALSE),0) -> 12 | H25: =IFERROR(VLOOKUP($B25,[1]NUM3A!$G$3:$T$143,5,FALSE),0) -> 5 | I25: =IFERROR(VLOOKUP($B25,[1]NUM3A!$G$3:$T$143,6,FALSE),0) -> 6 | J25: =IFERROR(VLOOKUP($B25,[1]NUM3A!$G$3:$T$143,7,FALSE),0) -> 4 | K25: =IFERROR(VLOOKUP($B25,[1]NUM3A!$G$3:$T$143,8,FALSE),0) -> 3 | L25: =IFERROR(VLOOKUP($B25,[1]NUM3A!$G$3:$T$143,9,FALSE),0) -> 15 | M25: =IFERROR(VLOOKUP($B25,[1]NUM3A!$G$3:$T$143,10,FALSE),0) -> 0 | N25: =IFERROR(VLOOKUP($B25,[1]NUM3A!$G$3:$T$143,11,FALSE),0) -> 2 | O25: =IFERROR(VLOOKUP($B25,[1]NUM3A!$G$3:$T$143,12,FALSE),0) -> 6 | P25: =IFERROR(VLOOKUP($B25,[1]NUM3A!$G$3:$T$143,13,FALSE),0) -> 1 | Q25: =SUM(E25:P25) -> 59
A26: TOTAL LA SERENA | C26: =D26/'Metas Muni'!I5 -> 1.032951 | D26: =Q26/R26 -> 0.77481653 | E26: =SUM(E12:E25) -> 96 | F26: =SUM(F12:F25) -> 75 | G26: =SUM(G12:G25) -> 212 | H26: =SUM(H12:H25) -> 335 | I26: =SUM(I12:I25) -> 261 | J26: =SUM(J12:J25) -> 183 | K26: =SUM(K12:K25) -> 129 | L26: =SUM(L12:L25) -> 151 | ... Q26: =SUM(Q12:Q25) -> 2006 | R26: 2589
A27: 04102-COQUIMBO | B27: 105303-CES. SAN JUAN | E27: =IFERROR(VLOOKUP($B27,[1]NUM3A!$G$3:$T$143,2,FALSE),0) -> 20 | F27: =IFERROR(VLOOKUP($B27,[1]NUM3A!$G$3:$T$143,3,FALSE),0) -> 10 | G27: =IFERROR(VLOOKUP($B27,[1]NUM3A!$G$3:$T$143,4,FALSE),0) -> 32 | H27: =IFERROR(VLOOKUP($B27,[1]NUM3A!$G$3:$T$143,5,FALSE),0) -> 35 | I27: =IFERROR(VLOOKUP($B27,[1]NUM3A!$G$3:$T$143,6,FALSE),0) -> 23 | J27: =IFERROR(VLOOKUP($B27,[1]NUM3A!$G$3:$T$143,7,FALSE),0) -> 33 | K27: =IFERROR(VLOOKUP($B27,[1]NUM3A!$G$3:$T$143,8,FALSE),0) -> 23 | L27: =IFERROR(VLOOKUP($B27,[1]NUM3A!$G$3:$T$143,9,FALSE),0) -> 25 | M27: =IFERROR(VLOOKUP($B27,[1]NUM3A!$G$3:$T$143,10,FALSE),0) -> 28 | N27: =IFERROR(VLOOKUP($B27,[1]NUM3A!$G$3:$T$143,11,FALSE),0) -> 18 | O27: =IFERROR(VLOOKUP($B27,[1]NUM3A!$G$3:$T$143,12,FALSE),0) -> 9 | P27: =IFERROR(VLOOKUP($B27,[1]NUM3A!$G$3:$T$143,13,FALSE),0) -> 9 | Q27: =SUM(E27:P27) -> 265
A28: 04102-COQUIMBO | B28: 105304-CES. SANTA CECILIA | E28: =IFERROR(VLOOKUP($B28,[1]NUM3A!$G$3:$T$143,2,FALSE),0) -> 32 | F28: =IFERROR(VLOOKUP($B28,[1]NUM3A!$G$3:$T$143,3,FALSE),0) -> 27 | G28: =IFERROR(VLOOKUP($B28,[1]NUM3A!$G$3:$T$143,4,FALSE),0) -> 29 | H28: =IFERROR(VLOOKUP($B28,[1]NUM3A!$G$3:$T$143,5,FALSE),0) -> 26 | I28: =IFERROR(VLOOKUP($B28,[1]NUM3A!$G$3:$T$143,6,FALSE),0) -> 27 | J28: =IFERROR(VLOOKUP($B28,[1]NUM3A!$G$3:$T$143,7,FALSE),0) -> 29 | K28: =IFERROR(VLOOKUP($B28,[1]NUM3A!$G$3:$T$143,8,FALSE),0) -> 18 | L28: =IFERROR(VLOOKUP($B28,[1]NUM3A!$G$3:$T$143,9,FALSE),0) -> 23 | M28: =IFERROR(VLOOKUP($B28,[1]NUM3A!$G$3:$T$143,10,FALSE),0) -> 11 | N28: =IFERROR(VLOOKUP($B28,[1]NUM3A!$G$3:$T$143,11,FALSE),0) -> 23 | O28: =IFERROR(VLOOKUP($B28,[1]NUM3A!$G$3:$T$143,12,FALSE),0) -> 29 | P28: =IFERROR(VLOOKUP($B28,[1]NUM3A!$G$3:$T$143,13,FALSE),0) -> 9 | Q28: =SUM(E28:P28) -> 283
A29: 04102-COQUIMBO | B29: 105305-CES. TIERRAS BLANCAS | E29: =IFERROR(VLOOKUP($B29,[1]NUM3A!$G$3:$T$143,2,FALSE),0) -> 32 | F29: =IFERROR(VLOOKUP($B29,[1]NUM3A!$G$3:$T$143,3,FALSE),0) -> 26 | G29: =IFERROR(VLOOKUP($B29,[1]NUM3A!$G$3:$T$143,4,FALSE),0) -> 45 | H29: =IFERROR(VLOOKUP($B29,[1]NUM3A!$G$3:$T$143,5,FALSE),0) -> 73 | I29: =IFERROR(VLOOKUP($B29,[1]NUM3A!$G$3:$T$143,6,FALSE),0) -> 52 | J29: =IFERROR(VLOOKUP($B29,[1]NUM3A!$G$3:$T$143,7,FALSE),0) -> 43 | K29: =IFERROR(VLOOKUP($B29,[1]NUM3A!$G$3:$T$143,8,FALSE),0) -> 29 | L29: =IFERROR(VLOOKUP($B29,[1]NUM3A!$G$3:$T$143,9,FALSE),0) -> 56 | M29: =IFERROR(VLOOKUP($B29,[1]NUM3A!$G$3:$T$143,10,FALSE),0) -> 45 | N29: =IFERROR(VLOOKUP($B29,[1]NUM3A!$G$3:$T$143,11,FALSE),0) -> 33 | O29: =IFERROR(VLOOKUP($B29,[1]NUM3A!$G$3:$T$143,12,FALSE),0) -> 45 | P29: =IFERROR(VLOOKUP($B29,[1]NUM3A!$G$3:$T$143,13,FALSE),0) -> 29 | Q29: =SUM(E29:P29) -> 508
A30: 04102-COQUIMBO | B30: 105321-CES. RURAL TONGOY | E30: =IFERROR(VLOOKUP($B30,[1]NUM3A!$G$3:$T$143,2,FALSE),0) -> 4 | F30: =IFERROR(VLOOKUP($B30,[1]NUM3A!$G$3:$T$143,3,FALSE),0) -> 1 | G30: =IFERROR(VLOOKUP($B30,[1]NUM3A!$G$3:$T$143,4,FALSE),0) -> 21 | H30: =IFERROR(VLOOKUP($B30,[1]NUM3A!$G$3:$T$143,5,FALSE),0) -> 8 | I30: =IFERROR(VLOOKUP($B30,[1]NUM3A!$G$3:$T$143,6,FALSE),0) -> 2 | J30: =IFERROR(VLOOKUP($B30,[1]NUM3A!$G$3:$T$143,7,FALSE),0) -> 2 | K30: =IFERROR(VLOOKUP($B30,[1]NUM3A!$G$3:$T$143,8,FALSE),0) -> 4 | L30: =IFERROR(VLOOKUP($B30,[1]NUM3A!$G$3:$T$143,9,FALSE),0) -> 3 | M30: =IFERROR(VLOOKUP($B30,[1]NUM3A!$G$3:$T$143,10,FALSE),0) -> 8 | N30: =IFERROR(VLOOKUP($B30,[1]NUM3A!$G$3:$T$143,11,FALSE),0) -> 19 | O30: =IFERROR(VLOOKUP($B30,[1]NUM3A!$G$3:$T$143,12,FALSE),0) -> 4 | P30: =IFERROR(VLOOKUP($B30,[1]NUM3A!$G$3:$T$143,13,FALSE),0) -> 5 | Q30: =SUM(E30:P30) -> 81
A31: 04102-COQUIMBO | B31: 105323-CES. DR. SERGIO AGUILAR | E31: =IFERROR(VLOOKUP($B31,[1]NUM3A!$G$3:$T$143,2,FALSE),0) -> 66 | F31: =IFERROR(VLOOKUP($B31,[1]NUM3A!$G$3:$T$143,3,FALSE),0) -> 37 | G31: =IFERROR(VLOOKUP($B31,[1]NUM3A!$G$3:$T$143,4,FALSE),0) -> 27 | H31: =IFERROR(VLOOKUP($B31,[1]NUM3A!$G$3:$T$143,5,FALSE),0) -> 40 | I31: =IFERROR(VLOOKUP($B31,[1]NUM3A!$G$3:$T$143,6,FALSE),0) -> 29 | J31: =IFERROR(VLOOKUP($B31,[1]NUM3A!$G$3:$T$143,7,FALSE),0) -> 49 | K31: =IFERROR(VLOOKUP($B31,[1]NUM3A!$G$3:$T$143,8,FALSE),0) -> 39 | L31: =IFERROR(VLOOKUP($B31,[1]NUM3A!$G$3:$T$143,9,FALSE),0) -> 45 | M31: =IFERROR(VLOOKUP($B31,[1]NUM3A!$G$3:$T$143,10,FALSE),0) -> 33 | N31: =IFERROR(VLOOKUP($B31,[1]NUM3A!$G$3:$T$143,11,FALSE),0) -> 33 | O31: =IFERROR(VLOOKUP($B31,[1]NUM3A!$G$3:$T$143,12,FALSE),0) -> 59 | P31: =IFERROR(VLOOKUP($B31,[1]NUM3A!$G$3:$T$143,13,FALSE),0) -> 48 | Q31: =SUM(E31:P31) -> 505
A32: 04102-COQUIMBO | B32: 105404-P.S.R. EL TANGUE | E32: =IFERROR(VLOOKUP($B32,[1]NUM3A!$G$3:$T$143,2,FALSE),0) -> 0 | F32: =IFERROR(VLOOKUP($B32,[1]NUM3A!$G$3:$T$143,3,FALSE),0) -> 0 | G32: =IFERROR(VLOOKUP($B32,[1]NUM3A!$G$3:$T$143,4,FALSE),0) -> 0 | H32: =IFERROR(VLOOKUP($B32,[1]NUM3A!$G$3:$T$143,5,FALSE),0) -> 0 | I32: =IFERROR(VLOOKUP($B32,[1]NUM3A!$G$3:$T$143,6,FALSE),0) -> 0 | J32: =IFERROR(VLOOKUP($B32,[1]NUM3A!$G$3:$T$143,7,FALSE),0) -> 0 | K32: =IFERROR(VLOOKUP($B32,[1]NUM3A!$G$3:$T$143,8,FALSE),0) -> 0 | L32: =IFERROR(VLOOKUP($B32,[1]NUM3A!$G$3:$T$143,9,FALSE),0) -> 0 | M32: =IFERROR(VLOOKUP($B32,[1]NUM3A!$G$3:$T$143,10,FALSE),0) -> 0 | N32: =IFERROR(VLOOKUP($B32,[1]NUM3A!$G$3:$T$143,11,FALSE),0) -> 0 | O32: =IFERROR(VLOOKUP($B32,[1]NUM3A!$G$3:$T$143,12,FALSE),0) -> 0 | P32: =IFERROR(VLOOKUP($B32,[1]NUM3A!$G$3:$T$143,13,FALSE),0) -> 0 | Q32: =SUM(E32:P32) -> 0
A33: 04102-COQUIMBO | B33: 105405-P.S.R. GUANAQUEROS | E33: =IFERROR(VLOOKUP($B33,[1]NUM3A!$G$3:$T$143,2,FALSE),0) -> 0 | F33: =IFERROR(VLOOKUP($B33,[1]NUM3A!$G$3:$T$143,3,FALSE),0) -> 3 | G33: =IFERROR(VLOOKUP($B33,[1]NUM3A!$G$3:$T$143,4,FALSE),0) -> 0 | H33: =IFERROR(VLOOKUP($B33,[1]NUM3A!$G$3:$T$143,5,FALSE),0) -> 1 | I33: =IFERROR(VLOOKUP($B33,[1]NUM3A!$G$3:$T$143,6,FALSE),0) -> 0 | J33: =IFERROR(VLOOKUP($B33,[1]NUM3A!$G$3:$T$143,7,FALSE),0) -> 1 | K33: =IFERROR(VLOOKUP($B33,[1]NUM3A!$G$3:$T$143,8,FALSE),0) -> 1 | L33: =IFERROR(VLOOKUP($B33,[1]NUM3A!$G$3:$T$143,9,FALSE),0) -> 0 | M33: =IFERROR(VLOOKUP($B33,[1]NUM3A!$G$3:$T$143,10,FALSE),0) -> 5 | N33: =IFERROR(VLOOKUP($B33,[1]NUM3A!$G$3:$T$143,11,FALSE),0) -> 8 | O33: =IFERROR(VLOOKUP($B33,[1]NUM3A!$G$3:$T$143,12,FALSE),0) -> 1 | P33: =IFERROR(VLOOKUP($B33,[1]NUM3A!$G$3:$T$143,13,FALSE),0) -> 0 | Q33: =SUM(E33:P33) -> 20
A34: 04102-COQUIMBO | B34: 105406-P.S.R. PAN DE AZUCAR | E34: =IFERROR(VLOOKUP($B34,[1]NUM3A!$G$3:$T$143,2,FALSE),0) -> 9 | F34: =IFERROR(VLOOKUP($B34,[1]NUM3A!$G$3:$T$143,3,FALSE),0) -> 7 | G34: =IFERROR(VLOOKUP($B34,[1]NUM3A!$G$3:$T$143,4,FALSE),0) -> 5 | H34: =IFERROR(VLOOKUP($B34,[1]NUM3A!$G$3:$T$143,5,FALSE),0) -> 19 | I34: =IFERROR(VLOOKUP($B34,[1]NUM3A!$G$3:$T$143,6,FALSE),0) -> 16 | J34: =IFERROR(VLOOKUP($B34,[1]NUM3A!$G$3:$T$143,7,FALSE),0) -> 20 | K34: =IFERROR(VLOOKUP($B34,[1]NUM3A!$G$3:$T$143,8,FALSE),0) -> 7 | L34: =IFERROR(VLOOKUP($B34,[1]NUM3A!$G$3:$T$143,9,FALSE),0) -> 16 | M34: =IFERROR(VLOOKUP($B34,[1]NUM3A!$G$3:$T$143,10,FALSE),0) -> 0 | N34: =IFERROR(VLOOKUP($B34,[1]NUM3A!$G$3:$T$143,11,FALSE),0) -> 0 | O34: =IFERROR(VLOOKUP($B34,[1]NUM3A!$G$3:$T$143,12,FALSE),0) -> 0 | P34: =IFERROR(VLOOKUP($B34,[1]NUM3A!$G$3:$T$143,13,FALSE),0) -> 0 | Q34: =SUM(E34:P34) -> 99
A35: 04102-COQUIMBO | B35: 105407-P.S.R. TAMBILLOS | E35: =IFERROR(VLOOKUP($B35,[1]NUM3A!$G$3:$T$143,2,FALSE),0) -> 0 | F35: =IFERROR(VLOOKUP($B35,[1]NUM3A!$G$3:$T$143,3,FALSE),0) -> 0 | G35: =IFERROR(VLOOKUP($B35,[1]NUM3A!$G$3:$T$143,4,FALSE),0) -> 0 | H35: =IFERROR(VLOOKUP($B35,[1]NUM3A!$G$3:$T$143,5,FALSE),0) -> 0 | I35: =IFERROR(VLOOKUP($B35,[1]NUM3A!$G$3:$T$143,6,FALSE),0) -> 0 | J35: =IFERROR(VLOOKUP($B35,[1]NUM3A!$G$3:$T$143,7,FALSE),0) -> 1 | K35: =IFERROR(VLOOKUP($B35,[1]NUM3A!$G$3:$T$143,8,FALSE),0) -> 0 | L35: =IFERROR(VLOOKUP($B35,[1]NUM3A!$G$3:$T$143,9,FALSE),0) -> 0 | M35: =IFERROR(VLOOKUP($B35,[1]NUM3A!$G$3:$T$143,10,FALSE),0) -> 0 | N35: =IFERROR(VLOOKUP($B35,[1]NUM3A!$G$3:$T$143,11,FALSE),0) -> 0 | O35: =IFERROR(VLOOKUP($B35,[1]NUM3A!$G$3:$T$143,12,FALSE),0) -> 0 | P35: =IFERROR(VLOOKUP($B35,[1]NUM3A!$G$3:$T$143,13,FALSE),0) -> 0 | Q35: =SUM(E35:P35) -> 1
