Workbook
Name SegmentaciónDeDatos_Comuna: #N/A

Sheet Datos
A1: Comuna | B1: Meta | C1: Cumplimiento | F1: Comuna | G1: Canela
A2: La Serena | B2: Recuperación del Desarrollo Psicomotor | C2: 0.99
A3: Coquimbo | B3: Recuperación del Desarrollo Psicomotor | C3: 1 | F3: Etiquetas de fila | G3: Suma de Cumplimiento
A4: La Higuera | B4: Recuperación del Desarrollo Psicomotor | C4: 0 | F4: Cobertura de Lactancia Materna Exclusiva | G4: 1 | H4: =1-GETPIVOTDATA("Cumplimiento",$F$3,"Meta","Cobertura de Lactancia Materna Exclusiva") -> 0
A5: Paihuano | B5: Recuperación del Desarrollo Psicomotor | C5: 1 | F5: Cobertura Efectiva de DM2 | G5: 1 | H5: =1-GETPIVOTDATA("Cumplimiento",$F$3,"Meta","Cobertura Efectiva de DM2") -> 0
A6: Vicuña | B6: Recuperación del Desarrollo Psicomotor | C6: 1 | F6: Cobertura Efectiva de TTO HTA | G6: 1 | H6: =1-GETPIVOTDATA("Cumplimiento",$F$3,"Meta","Cobertura Efectiva de TTO HTA") -> 0
A7: Illapel | B7: Recuperación del Desarrollo Psicomotor | C7: 1 | F7: Cobertura Odontológica Adolescentes | G7: 1 | H7: =1-GETPIVOTDATA("Cumplimiento",$F$3,"Meta","Cobertura Odontológica Adolescentes") -> 0
A8: Canela | B8: Recuperación del Desarrollo Psicomotor | C8: 1 | F8: Cobertura Odontológica Embarazada | G8: 0.99 | H8: =1-GETPIVOTDATA("Cumplimiento",$F$3,"Meta","Cobertura Odontológica Embarazada") -> 0.01
A9: Los Vilos | B9: Recuperación del Desarrollo Psicomotor | C9: 1 | F9: Cobertura Odontológica Niños | G9: 1 | H9: =1-GETPIVOTDATA("Cumplimiento",$F$3,"Meta","Cobertura Odontológica Niños") -> 0
A10: Salamanca | B10: Recuperación del Desarrollo Psicomotor | C10: 1 | F10: Detección Precoz CACU | G10: 1 | H10: =1-GETPIVOTDATA("Cumplimiento",$F$3,"Meta","Detección Precoz CACU") -> 0
A11: Ovalle | B11: Recuperación del Desarrollo Psicomotor | C11: 1 | F11: Evaluación Anual de los Pies en Personas con DM | G11: 0.99 | H11: =1-GETPIVOTDATA("Cumplimiento",$F$3,"Meta","Evaluación Anual de los Pies en Personas con DM") -> 0.01
A12: Combarbalá | B12: Recuperación del Desarrollo Psicomotor | C12: 1 | F12: Recuperación del Desarrollo Psicomotor | G12: 1 | H12: =1-GETPIVOTDATA("Cumplimiento",$F$3,"Meta","Recuperación del Desarrollo Psicomotor") -> 0
A13: Monte Patria | B13: Recuperación del Desarrollo Psicomotor | C13: 1 | F13: Total general | G13: 8.98
A14: Punitaqui | B14: Recuperación del Desarrollo Psicomotor | C14: 1
A15: Río Hurtado | B15: Recuperación del Desarrollo Psicomotor | C15: 1
A16: La Serena | B16: Detección Precoz CACU | C16: 1
A17: Coquimbo | B17: Detección Precoz CACU | C17: 1
A18: La Higuera | B18: Detección Precoz CACU | C18: 1
A19: Paihuano | B19: Detección Precoz CACU | C19: 1
A20: Vicuña | B20: Detección Precoz CACU | C20: 1
A21: Illapel | B21: Detección Precoz CACU | C21: 1
A22: Canela | B22: Detección Precoz CACU | C22: 1
A23: Los Vilos | B23: Detección Precoz CACU | C23: 1
A24: Salamanca | B24: Detección Precoz CACU | C24: 1
A25: Ovalle | B25: Detección Precoz CACU | C25: 1
... A127: Río Hurtado | B127: Cobertura de Lactancia Materna Exclusiva | C127: 1

Sheet Resumen
A1: MINISTERIO DE SALUD
A2: SERVICIO DE SALUD COQUIMBO
A3: DEPARTAMENTO DE GESTIÓN, PLANIFICACIÓN Y CONTROL
A4: SUBDEPTO. DE ESTADÍSTICAS Y GESTIÓN DE LA INFORMACIÓN
A5: AÑO 2018

Sheet Meta 01
A1: COMUNA | B1: ESTABLECIMIENTO | C1: CUMPLIMIENTO | D1: Indicador | E1: META 1: RECUPERACIÓN DEL DESARROLLO PSICOMOTOR
E2: NUMERADOR | R2: DENOMINADOR
E10: Nº de Niños y Niñas de 12-23 meses con riesgo del desarrollo psicomotor recuperados | R10: Nº de Niños y Niñas de 12-23 meses diagnosticados con riesgo del desarrollo psicomotor en su primera evaluación
D11: Resultado | E11: ENERO | F11: FEBRERO | G11: MARZO | H11: ABRIL | I11: MAYO | J11: JUNIO | K11: JULIO | L11: AGOSTO | M11: SEPBRE | N11: OCTUBRE | O11: NOVBRE | P11: DICBRE | Q11: TOTAL | R11: ENERO | S11: FEBRERO | T11: MARZO | U11: ABRIL | V11: MAYO | W11: JUNIO | X11: JULIO | Y11: AGOSTO | Z11: SEPBRE | AA11: OCTUBRE | AB11: NOVBRE | AC11: DICBRE | AD11: TOTAL
A12: 04101-LA SERENA | B12: 105300-CES. CARDENAL CARO | E12: =IFERROR(VLOOKUP($B12,[1]NUM1!$G$3:$T$99,2,FALSE),0) -> 2 | F12: =IFERROR(VLOOKUP($B12,[1]NUM1!$G$3:$T$99,3,FALSE),0) -> 0 | G12: =IFERROR(VLOOKUP($B12,[1]NUM1!$G$3:$T$99,4,FALSE),0) -> 3 | H12: =IFERROR(VLOOKUP($B12,[1]NUM1!$G$3:$T$99,5,FALSE),0) -> 1 | I12: =IFERROR(VLOOKUP($B12,[1]NUM1!$G$3:$T$99,6,FALSE),0) -> 2 | J12: =IFERROR(VLOOKUP($B12,[1]NUM1!$G$3:$T$99,7,FALSE),0) -> 1 | K12: =IFERROR(VLOOKUP($B12,[1]NUM1!$G$3:$T$99,8,FALSE),0) -> 0 | L12: =IFERROR(VLOOKUP($B12,[1]NUM1!$G$3:$T$99,9,FALSE),0) -> 4 | M12: =IFERROR(VLOOKUP($B12,[1]NUM1!$G$3:$T$99,10,FALSE),0) -> 1 | N12: =IFERROR(VLOOKUP($B12,[1]NUM1!$G$3:$T$99,11,FALSE),0) -> 2 | O12: =IFERROR(VLOOKUP($B12,[1]NUM1!$G$3:$T$99,12,FALSE),0) -> 0 | P12: =IFERROR(VLOOKUP($B12,[1]NUM1!$G$3:$T$99,13,FALSE),0) -> 7 | Q12: =SUM(E12:P12) -> 23 | R12: =IFERROR(VLOOKUP($B12,[1]DEN1!$G$3:$T$102,2,FALSE),0) -> 10 | S12: =IFERROR(VLOOKUP($B12,[1]DEN1!$G$3:$T$102,3,FALSE),0) -> 4 | T12: =IFERROR(VLOOKUP($B12,[1]DEN1!$G$3:$T$102,4,FALSE),0) -> 3 | U12: =IFERROR(VLOOKUP($B12,[1]DEN1!$G$3:$T$102,5,FALSE),0) -> 2 | V12: =IFERROR(VLOOKUP($B12,[1]DEN1!$G$3:$T$102,6,FALSE),0) -> 0 | W12: =IFERROR(VLOOKUP($B12,[1]DEN1!$G$3:$T$102,7,FALSE),0) -> 4 | X12: =IFERROR(VLOOKUP($B12,[1]DEN1!$G$3:$T$102,8,FALSE),0) -> 0 | Y12: =IFERROR(VLOOKUP($B12,[1]DEN1!$G$3:$T$102,9,FALSE),0) -> 1 | Z12: =IFERROR(VLOOKUP($B12,[1]DEN1!$G$3:$T$102,10,FALSE),0) -> 0 | AA12: =IFERROR(VLOOKUP($B12,[1]DEN1!$G$3:$T$102,11,FALSE),0) -> 0 | AB12: =IFERROR(VLOOKUP($B12,[1]DEN1!$G$3:$T$102,12,FALSE),0) -> 0 | AC12: =IFERROR(VLOOKUP($B12,[1]DEN1!$G$3:$T$102,13,FALSE),0) -> 0 | AD12: =SUM(R12:AC12) -> 24
A13: 04101-LA SERENA | B13: 105301-CES. LAS COMPAÑIAS | E13: =IFERROR(VLOOKUP($B13,[1]NUM1!$G$3:$T$99,2,FALSE),0) -> 0 | F13: =IFERROR(VLOOKUP($B13,[1]NUM1!$G$3:$T$99,3,FALSE),0) -> 0 | G13: =IFERROR(VLOOKUP($B13,[1]NUM1!$G$3:$T$99,4,FALSE),0) -> 3 | H13: =IFERROR(VLOOKUP($B13,[1]NUM1!$G$3:$T$99,5,FALSE),0) -> 3 | I13: =IFERROR(VLOOKUP($B13,[1]NUM1!$G$3:$T$99,6,FALSE),0) -> 6 | J13: =IFERROR(VLOOKUP($B13,[1]NUM1!$G$3:$T$99,7,FALSE),0) -> 1 | K13: =IFERROR(VLOOKUP($B13,[1]NUM1!$G$3:$T$99,8,FALSE),0) -> 2 | L13: =IFERROR(VLOOKUP($B13,[1]NUM1!$G$3:$T$99,9,FALSE),0) -> 1 | M13: =IFERROR(VLOOKUP($B13,[1]NUM1!$G$3:$T$99,10,FALSE),0) -> 1 | N13: =IFERROR(VLOOKUP($B13,[1]NUM1!$G$3:$T$99,11,FALSE),0) -> 1 | O13: =IFERROR(VLOOKUP($B13,[1]NUM1!$G$3:$T$99,12,FALSE),0) -> 0 | P13: =IFERROR(VLOOKUP($B13,[1]NUM1!$G$3:$T$99,13,FALSE),0) -> 0 | Q13: =SUM(E13:P13) -> 18 | R13: =IFERROR(VLOOKUP($B13,[1]DEN1!$G$3:$T$102,2,FALSE),0) -> 4 | S13: =IFERROR(VLOOKUP($B13,[1]DEN1!$G$3:$T$102,3,FALSE),0) -> 2 | T13: =IFERROR(VLOOKUP($B13,[1]DEN1!$G$3:$T$102,4,FALSE),0) -> 6 | U13: =IFERROR(VLOOKUP($B13,[1]DEN1!$G$3:$T$102,5,FALSE),0) -> 2 | V13: =IFERROR(VLOOKUP($B13,[1]DEN1!$G$3:$T$102,6,FALSE),0) -> 1 | W13: =IFERROR(VLOOKUP($B13,[1]DEN1!$G$3:$T$102,7,FALSE),0) -> 1 | X13: =IFERROR(VLOOKUP($B13,[1]DEN1!$G$3:$T$102,8,FALSE),0) -> 1 | Y13: =IFERROR(VLOOKUP($B13,[1]DEN1!$G$3:$T$102,9,FALSE),0) -> 2 | Z13: =IFERROR(VLOOKUP($B13,[1]DEN1!$G$3:$T$102,10,FALSE),0) -> 1 | AA13: =IFERROR(VLOOKUP($B13,[1]DEN1!$G$3:$T$102,11,FALSE),0) -> 0 | AB13: =IFERROR(VLOOKUP($B13,[1]DEN1!$G$3:$T$102,12,FALSE),0) -> 1 | AC13: =IFERROR(VLOOKUP($B13,[1]DEN1!$G$3:$T$102,13,FALSE),0) -> 0 | AD13: =SUM(R13:AC13) -> 21
A14: 04101-LA SERENA | B14: 105302-CES. PEDRO AGUIRRE C. | E14: =IFERROR(VLOOKUP($B14,[1]NUM1!$G$3:$T$99,2,FALSE),0) -> 1 | F14: =IFERROR(VLOOKUP($B14,[1]NUM1!$G$3:$T$99,3,FALSE),0) -> 1 | G14: =IFERROR(VLOOKUP($B14,[1]NUM1!$G$3:$T$99,4,FALSE),0) -> 2 | H14: =IFERROR(VLOOKUP($B14,[1]NUM1!$G$3:$T$99,5,FALSE),0) -> 0 | I14: =IFERROR(VLOOKUP($B14,[1]NUM1!$G$3:$T$99,6,FALSE),0) -> 2 | J14: =IFERROR(VLOOKUP($B14,[1]NUM1!$G$3:$T$99,7,FALSE),0) -> 0 | K14: =IFERROR(VLOOKUP($B14,[1]NUM1!$G$3:$T$99,8,FALSE),0) -> 2 | L14: =IFERROR(VLOOKUP($B14,[1]NUM1!$G$3:$T$99,9,FALSE),0) -> 0 | M14: =IFERROR(VLOOKUP($B14,[1]NUM1!$G$3:$T$99,10,FALSE),0) -> 0 | N14: =IFERROR(VLOOKUP($B14,[1]NUM1!$G$3:$T$99,11,FALSE),0) -> 1 | O14: =IFERROR(VLOOKUP($B14,[1]NUM1!$G$3:$T$99,12,FALSE),0) -> 1 | P14: =IFERROR(VLOOKUP($B14,[1]NUM1!$G$3:$T$99,13,FALSE),0) -> 1 | Q14: =SUM(E14:P14) -> 11 | R14: =IFERROR(VLOOKUP($B14,[1]DEN1!$G$3:$T$102,2,FALSE),0) -> 1 | S14: =IFERROR(VLOOKUP($B14,[1]DEN1!$G$3:$T$102,3,FALSE),0) -> 2 | T14: =IFERROR(VLOOKUP($B14,[1]DEN1!$G$3:$T$102,4,FALSE),0) -> 0 | U14: =IFERROR(VLOOKUP($B14,[1]DEN1!$G$3:$T$102,5,FALSE),0) -> 0 | V14: =IFERROR(VLOOKUP($B14,[1]DEN1!$G$3:$T$102,6,FALSE),0) -> 0 | W14: =IFERROR(VLOOKUP($B14,[1]DEN1!$G$3:$T$102,7,FALSE),0) -> 0 | X14: =IFERROR(VLOOKUP($B14,[1]DEN1!$G$3:$T$102,8,FALSE),0) -> 1 | Y14: =IFERROR(VLOOKUP($B14,[1]DEN1!$G$3:$T$102,9,FALSE),0) -> 5 | Z14: =IFERROR(VLOOKUP($B14,[1]DEN1!$G$3:$T$102,10,FALSE),0) -> 2 | AA14: =IFERROR(VLOOKUP($B14,[1]DEN1!$G$3:$T$102,11,FALSE),0) -> 0 | AB14: =IFERROR(VLOOKUP($B14,[1]DEN1!$G$3:$T$102,12,FALSE),0) -> 0 | AC14: =IFERROR(VLOOKUP($B14,[1]DEN1!$G$3:$T$102,13,FALSE),0) -> 1 | AD14: =SUM(R14:AC14) -> 12
A15: 04101-LA SERENA | B15: 105313-CES. SCHAFFHAUSER | E15: =IFERROR(VLOOKUP($B15,[1]NUM1!$G$3:$T$99,2,FALSE),0) -> 0 | F15: =IFERROR(VLOOKUP($B15,[1]NUM1!$G$3:$T$99,3,FALSE),0) -> 0 | G15: =IFERROR(VLOOKUP($B15,[1]NUM1!$G$3:$T$99,4,FALSE),0) -> 0 | H15: =IFERROR(VLOOKUP($B15,[1]NUM1!$G$3:$T$99,5,FALSE),0) -> 2 | I15: =IFERROR(VLOOKUP($B15,[1]NUM1!$G$3:$T$99,6,FALSE),0) -> 2 | J15: =IFERROR(VLOOKUP($B15,[1]NUM1!$G$3:$T$99,7,FALSE),0) -> 5 | K15: =IFERROR(VLOOKUP($B15,[1]NUM1!$G$3:$T$99,8,FALSE),0) -> 0 | L15: =IFERROR(VLOOKUP($B15,[1]NUM1!$G$3:$T$99,9,FALSE),0) -> 1 | M15: =IFERROR(VLOOKUP($B15,[1]NUM1!$G$3:$T$99,10,FALSE),0) -> 0 | N15: =IFERROR(VLOOKUP($B15,[1]NUM1!$G$3:$T$99,11,FALSE),0) -> 2 | O15: =IFERROR(VLOOKUP($B15,[1]NUM1!$G$3:$T$99,12,FALSE),0) -> 3 | P15: =IFERROR(VLOOKUP($B15,[1]NUM1!$G$3:$T$99,13,FALSE),0) -> 5 | Q15: =SUM(E15:P15) -> 20 | R15: =IFERROR(VLOOKUP($B15,[1]DEN1!$G$3:$T$102,2,FALSE),0) -> 8 | S15: =IFERROR(VLOOKUP($B15,[1]DEN1!$G$3:$T$102,3,FALSE),0) -> 0 | T15: =IFERROR(VLOOKUP($B15,[1]DEN1!$G$3:$T$102,4,FALSE),0) -> 3 | U15: =IFERROR(VLOOKUP($B15,[1]DEN1!$G$3:$T$102,5,FALSE),0) -> 0 | V15: =IFERROR(VLOOKUP($B15,[1]DEN1!$G$3:$T$102,6,FALSE),0) -> 0 | W15: =IFERROR(VLOOKUP($B15,[1]DEN1!$G$3:$T$102,7,FALSE),0) -> 3 | X15: =IFERROR(VLOOKUP($B15,[1]DEN1!$G$3:$T$102,8,FALSE),0) -> 1 | Y15: =IFERROR(VLOOKUP($B15,[1]DEN1!$G$3:$T$102,9,FALSE),0) -> 4 | Z15: =IFERROR(VLOOKUP($B15,[1]DEN1!$G$3:$T$102,10,FALSE),0) -> 0 | AA15: =IFERROR(VLOOKUP($B15,[1]DEN1!$G$3:$T$102,11,FALSE),0) -> 0 | AB15: =IFERROR(VLOOKUP($B15,[1]DEN1!$G$3:$T$102,12,FALSE),0) -> 0 | AC15: =IFERROR(VLOOKUP($B15,[1]DEN1!$G$3:$T$102,13,FALSE),0) -> 3 | AD15: =SUM(R15:AC15) -> 22
A16: 04101-LA SERENA | B16: 105319-CES. CARDENAL R.S.H. | E16: =IFERROR(VLOOKUP($B16,[1]NUM1!$G$3:$T$99,2,FALSE),0) -> 5 | F16: =IFERROR(VLOOKUP($B16,[1]NUM1!$G$3:$T$99,3,FALSE),0) -> 1 | G16: =IFERROR(VLOOKUP($B16,[1]NUM1!$G$3:$T$99,4,FALSE),0) -> 3 | H16: =IFERROR(VLOOKUP($B16,[1]NUM1!$G$3:$T$99,5,FALSE),0) -> 0 | I16: =IFERROR(VLOOKUP($B16,[1]NUM1!$G$3:$T$99,6,FALSE),0) -> 1 | J16: =IFERROR(VLOOKUP($B16,[1]NUM1!$G$3:$T$99,7,FALSE),0) -> 3 | K16: =IFERROR(VLOOKUP($B16,[1]NUM1!$G$3:$T$99,8,FALSE),0) -> 6 | L16: =IFERROR(VLOOKUP($B16,[1]NUM1!$G$3:$T$99,9,FALSE),0) -> 0 | M16: =IFERROR(VLOOKUP($B16,[1]NUM1!$G$3:$T$99,10,FALSE),0) -> 4 | N16: =IFERROR(VLOOKUP($B16,[1]NUM1!$G$3:$T$99,11,FALSE),0) -> 0 | O16: =IFERROR(VLOOKUP($B16,[1]NUM1!$G$3:$T$99,12,FALSE),0) -> 0 | P16: =IFERROR(VLOOKUP($B16,[1]NUM1!$G$3:$T$99,13,FALSE),0) -> 2 | Q16: =SUM(E16:P16) -> 25 | R16: =IFERROR(VLOOKUP($B16,[1]DEN1!$G$3:$T$102,2,FALSE),0) -> 11 | S16: =IFERROR(VLOOKUP($B16,[1]DEN1!$G$3:$T$102,3,FALSE),0) -> 2 | T16: =IFERROR(VLOOKUP($B16,[1]DEN1!$G$3:$T$102,4,FALSE),0) -> 8 | U16: =IFERROR(VLOOKUP($B16,[1]DEN1!$G$3:$T$102,5,FALSE),0) -> 3 | V16: =IFERROR(VLOOKUP($B16,[1]DEN1!$G$3:$T$102,6,FALSE),0) -> 1 | W16: =IFERROR(VLOOKUP($B16,[1]DEN1!$G$3:$T$102,7,FALSE),0) -> 0 | X16: =IFERROR(VLOOKUP($B16,[1]DEN1!$G$3:$T$102,8,FALSE),0) -> 0 | Y16: =IFERROR(VLOOKUP($B16,[1]DEN1!$G$3:$T$102,9,FALSE),0) -> 2 | Z16: =IFERROR(VLOOKUP($B16,[1]DEN1!$G$3:$T$102,10,FALSE),0) -> 0 | AA16: =IFERROR(VLOOKUP($B16,[1]DEN1!$G$3:$T$102,11,FALSE),0) -> 0 | AB16: =IFERROR(VLOOKUP($B16,[1]DEN1!$G$3:$T$102,12,FALSE),0) -> 0 | AC16: =IFERROR(VLOOKUP($B16,[1]DEN1!$G$3:$T$102,13,FALSE),0) -> 1 | AD16: =SUM(R16:AC16) -> 28
A17: 04101-LA SERENA | B17: 105325-CESFAM JUAN PABLO II | E17: =IFERROR(VLOOKUP($B17,[1]NUM1!$G$3:$T$99,2,FALSE),0) -> 5 | F17: =IFERROR(VLOOKUP($B17,[1]NUM1!$G$3:$T$99,3,FALSE),0) -> 1 | G17: =IFERROR(VLOOKUP($B17,[1]NUM1!$G$3:$T$99,4,FALSE),0) -> 1 | H17: =IFERROR(VLOOKUP($B17,[1]NUM1!$G$3:$T$99,5,FALSE),0) -> 2 | I17: =IFERROR(VLOOKUP($B17,[1]NUM1!$G$3:$T$99,6,FALSE),0) -> 7 | J17: =IFERROR(VLOOKUP($B17,[1]NUM1!$G$3:$T$99,7,FALSE),0) -> 1 | K17: =IFERROR(VLOOKUP($B17,[1]NUM1!$G$3:$T$99,8,FALSE),0) -> 1 | L17: =IFERROR(VLOOKUP($B17,[1]NUM1!$G$3:$T$99,9,FALSE),0) -> 2 | M17: =IFERROR(VLOOKUP($B17,[1]NUM1!$G$3:$T$99,10,FALSE),0) -> 1 | N17: =IFERROR(VLOOKUP($B17,[1]NUM1!$G$3:$T$99,11,FALSE),0) -> 3 | O17: =IFERROR(VLOOKUP($B17,[1]NUM1!$G$3:$T$99,12,FALSE),0) -> 3 | P17: =IFERROR(VLOOKUP($B17,[1]NUM1!$G$3:$T$99,13,FALSE),0) -> 9 | Q17: =SUM(E17:P17) -> 36 | R17: =IFERROR(VLOOKUP($B17,[1]DEN1!$G$3:$T$102,2,FALSE),0) -> 14 | S17: =IFERROR(VLOOKUP($B17,[1]DEN1!$G$3:$T$102,3,FALSE),0) -> 2 | T17: =IFERROR(VLOOKUP($B17,[1]DEN1!$G$3:$T$102,4,FALSE),0) -> 3 | U17: =IFERROR(VLOOKUP($B17,[1]DEN1!$G$3:$T$102,5,FALSE),0) -> 2 | V17: =IFERROR(VLOOKUP($B17,[1]DEN1!$G$3:$T$102,6,FALSE),0) -> 2 | W17: =IFERROR(VLOOKUP($B17,[1]DEN1!$G$3:$T$102,7,FALSE),0) -> 2 | X17: =IFERROR(VLOOKUP($B17,[1]DEN1!$G$3:$T$102,8,FALSE),0) -> 5 | Y17: =IFERROR(VLOOKUP($B17,[1]DEN1!$G$3:$T$102,9,FALSE),0) -> 3 | Z17: =IFERROR(VLOOKUP($B17,[1]DEN1!$G$3:$T$102,10,FALSE),0) -> 4 | AA17: =IFERROR(VLOOKUP($B17,[1]DEN1!$G$3:$T$102,11,FALSE),0) -> 1 | AB17: =IFERROR(VLOOKUP($B17,[1]DEN1!$G$3:$T$102,12,FALSE),0) -> 1 | AC17: =IFERROR(VLOOKUP($B17,[1]DEN1!$G$3:$T$102,13,FALSE),0) -> 1 | AD17: =SUM(R17:AC17) -> 40
A18: 04101-LA SERENA | B18: 105400-P.S.R. ALGARROBITO | E18: =IFERROR(VLOOKUP($B18,[1]NUM1!$G$3:$T$99,2,FALSE),0) -> 0 | F18: =IFERROR(VLOOKUP($B18,[1]NUM1!$G$3:$T$99,3,FALSE),0) -> 0 | G18: =IFERROR(VLOOKUP($B18,[1]NUM1!$G$3:$T$99,4,FALSE),0) -> 0 | H18: =IFERROR(VLOOKUP($B18,[1]NUM1!$G$3:$T$99,5,FALSE),0) -> 0 | I18: =IFERROR(VLOOKUP($B18,[1]NUM1!$G$3:$T$99,6,FALSE),0) -> 0 | J18: =IFERROR(VLOOKUP($B18,[1]NUM1!$G$3:$T$99,7,FALSE),0) -> 1 | K18: =IFERROR(VLOOKUP($B18,[1]NUM1!$G$3:$T$99,8,FALSE),0) -> 1 | L18: =IFERROR(VLOOKUP($B18,[1]NUM1!$G$3:$T$99,9,FALSE),0) -> 0 | M18: =IFERROR(VLOOKUP($B18,[1]NUM1!$G$3:$T$99,10,FALSE),0) -> 1 | N18: =IFERROR(VLOOKUP($B18,[1]NUM1!$G$3:$T$99,11,FALSE),0) -> 1 | O18: =IFERROR(VLOOKUP($B18,[1]NUM1!$G$3:$T$99,12,FALSE),0) -> 0 | P18: =IFERROR(VLOOKUP($B18,[1]NUM1!$G$3:$T$99,13,FALSE),0) -> 0 | Q18: =SUM(E18:P18) -> 4 | R18: =IFERROR(VLOOKUP($B18,[1]DEN1!$G$3:$T$102,2,FALSE),0) -> 0 | S18: =IFERROR(VLOOKUP($B18,[1]DEN1!$G$3:$T$102,3,FALSE),0) -> 1 | T18: =IFERROR(VLOOKUP($B18,[1]DEN1!$G$3:$T$102,4,FALSE),0) -> 0 | U18: =IFERROR(VLOOKUP($B18,[1]DEN1!$G$3:$T$102,5,FALSE),0) -> 2 | V18: =IFERROR(VLOOKUP($B18,[1]DEN1!$G$3:$T$102,6,FALSE),0) -> 0 | W18: =IFERROR(VLOOKUP($B18,[1]DEN1!$G$3:$T$102,7,FALSE),0) -> 0 | X18: =IFERROR(VLOOKUP($B18,[1]DEN1!$G$3:$T$102,8,FALSE),0) -> 1 | Y18: =IFERROR(VLOOKUP($B18,[1]DEN1!$G$3:$T$102,9,FALSE),0) -> 0 | Z18: =IFERROR(VLOOKUP($B18,[1]DEN1!$G$3:$T$102,10,FALSE),0) -> 0 | AA18: =IFERROR(VLOOKUP($B18,[1]DEN1!$G$3:$T$102,11,FALSE),0) -> 0 | AB18: =IFERROR(VLOOKUP($B18,[1]DEN1!$G$3:$T$102,12,FALSE),0) -> 0 | AC18: =IFERROR(VLOOKUP($B18,[1]DEN1!$G$3:$T$102,13,FALSE),0) -> 0 | AD18: =SUM(R18:AC18) -> 4
A19: 04101-LA SERENA | B19: 105401-P.S.R. LAS ROJAS | E19: =IFERROR(VLOOKUP($B19,[1]NUM1!$G$3:$T$99,2,FALSE),0) -> 0 | F19: =IFERROR(VLOOKUP($B19,[1]NUM1!$G$3:$T$99,3,FALSE),0) -> 0 | G19: =IFERROR(VLOOKUP($B19,[1]NUM1!$G$3:$T$99,4,FALSE),0) -> 0 | H19: =IFERROR(VLOOKUP($B19,[1]NUM1!$G$3:$T$99,5,FALSE),0) -> 0 | I19: =IFERROR(VLOOKUP($B19,[1]NUM1!$G$3:$T$99,6,FALSE),0) -> 0 | J19: =IFERROR(VLOOKUP($B19,[1]NUM1!$G$3:$T$99,7,FALSE),0) -> 0 | K19: =IFERROR(VLOOKUP($B19,[1]NUM1!$G$3:$T$99,8,FALSE),0) -> 0 | L19: =IFERROR(VLOOKUP($B19,[1]NUM1!$G$3:$T$99,9,FALSE),0) -> 0 | M19: =IFERROR(VLOOKUP($B19,[1]NUM1!$G$3:$T$99,10,FALSE),0) -> 0 | N19: =IFERROR(VLOOKUP($B19,[1]NUM1!$G$3:$T$99,11,FALSE),0) -> 0 | O19: =IFERROR(VLOOKUP($B19,[1]NUM1!$G$3:$T$99,12,FALSE),0) -> 0 | P19: =IFERROR(VLOOKUP($B19,[1]NUM1!$G$3:$T$99,13,FALSE),0) -> 0 | Q19: =SUM(E19:P19) -> 0 | R19: =IFERROR(VLOOKUP($B19,[1]DEN1!$G$3:$T$102,2,FALSE),0) -> 0 | S19: =IFERROR(VLOOKUP($B19,[1]DEN1!$G$3:$T$102,3,FALSE),0) -> 0 | T19: =IFERROR(VLOOKUP($B19,[1]DEN1!$G$3:$T$102,4,FALSE),0) -> 0 | U19: =IFERROR(VLOOKUP($B19,[1]DEN1!$G$3:$T$102,5,FALSE),0) -> 0 | V19: =IFERROR(VLOOKUP($B19,[1]DEN1!$G$3:$T$102,6,FALSE),0) -> 0 | W19: =IFERROR(VLOOKUP($B19,[1]DEN1!$G$3:$T$102,7,FALSE),0) -> 0 | X19: =IFERROR(VLOOKUP($B19,[1]DEN1!$G$3:$T$102,8,FALSE),0) -> 0 | Y19: =IFERROR(VLOOKUP($B19,[1]DEN1!$G$3:$T$102,9,FALSE),0) -> 0 | Z19: =IFERROR(VLOOKUP($B19,[1]DEN1!$G$3:$T$102,10,FALSE),0) -> 0 | AA19: =IFERROR(VLOOKUP($B19,[1]DEN1!$G$3:$T$102,11,FALSE),0) -> 0 | AB19: =IFERROR(VLOOKUP($B19,[1]DEN1!$G$3:$T$102,12,FALSE),0) -> 0 | AC19: =IFERROR(VLOOKUP($B19,[1]DEN1!$G$3:$T$102,13,FALSE),0) -> 0 | AD19: =SUM(R19:AC19) -> 0
A20: 04101-LA SERENA | B20: 105402-P.S.R. EL ROMERO | E20: =IFERROR(VLOOKUP($B20,[1]NUM1!$G$3:$T$99,2,FALSE),0) -> 0 | F20: =IFERROR(VLOOKUP($B20,[1]NUM1!$G$3:$T$99,3,FALSE),0) -> 1 | G20: =IFERROR(VLOOKUP($B20,[1]NUM1!$G$3:$T$99,4,FALSE),0) -> 0 | H20: =IFERROR(VLOOKUP($B20,[1]NUM1!$G$3:$T$99,5,FALSE),0) -> 0 | I20: =IFERROR(VLOOKUP($B20,[1]NUM1!$G$3:$T$99,6,FALSE),0) -> 0 | J20: =IFERROR(VLOOKUP($B20,[1]NUM1!$G$3:$T$99,7,FALSE),0) -> 0 | K20: =IFERROR(VLOOKUP($B20,[1]NUM1!$G$3:$T$99,8,FALSE),0) -> 0 | L20: =IFERROR(VLOOKUP($B20,[1]NUM1!$G$3:$T$99,9,FALSE),0) -> 0 | M20: =IFERROR(VLOOKUP($B20,[1]NUM1!$G$3:$T$99,10,FALSE),0) -> 0 | N20: =IFERROR(VLOOKUP($B20,[1]NUM1!$G$3:$T$99,11,FALSE),0) -> 0 | O20: =IFERROR(VLOOKUP($B20,[1]NUM1!$G$3:$T$99,12,FALSE),0) -> 0 | P20: =IFERROR(VLOOKUP($B20,[1]NUM1!$G$3:$T$99,13,FALSE),0) -> 1 | Q20: =SUM(E20:P20) -> 2 | R20: =IFERROR(VLOOKUP($B20,[1]DEN1!$G$3:$T$102,2,FALSE),0) -> 1 | S20: =IFERROR(VLOOKUP($B20,[1]DEN1!$G$3:$T$102,3,FALSE),0) -> 0 | T20: =IFERROR(VLOOKUP($B20,[1]DEN1!$G$3:$T$102,4,FALSE),0) -> 0 | U20: =IFERROR(VLOOKUP($B20,[1]DEN1!$G$3:$T$102,5,FALSE),0) -> 0 | V20: =IFERROR(VLOOKUP($B20,[1]DEN1!$G$3:$T$102,6,FALSE),0) -> 1 | W20: =IFERROR(VLOOKUP($B20,[1]DEN1!$G$3:$T$102,7,FALSE),0) -> 0 | X20: =IFERROR(VLOOKUP($B20,[1]DEN1!$G$3:$T$102,8,FALSE),0) -> 0 | Y20: =IFERROR(VLOOKUP($B20,[1]DEN1!$G$3:$T$102,9,FALSE),0) -> 1 | Z20: =IFERROR(VLOOKUP($B20,[1]DEN1!$G$3:$T$102,10,FALSE),0) -> 0 | AA20: =IFERROR(VLOOKUP($B20,[1]DEN1!$G$3:$T$102,11,FALSE),0) -> 0 | AB20: =IFERROR(VLOOKUP($B20,[1]DEN1!$G$3:$T$102,12,FALSE),0) -> 0 | AC20: =IFERROR(VLOOKUP($B20,[1]DEN1!$G$3:$T$102,13,FALSE),0) -> 0 | AD20: =SUM(R20:AC20) -> 3
A21: 04101-LA SERENA | B21: 105499-P.S.R. LAMBERT | E21: =IFERROR(VLOOKUP($B21,[1]NUM1!$G$3:$T$99,2,FALSE),0) -> 0 | F21: =IFERROR(VLOOKUP($B21,[1]NUM1!$G$3:$T$99,3,FALSE),0) -> 0 | G21: =IFERROR(VLOOKUP($B21,[1]NUM1!$G$3:$T$99,4,FALSE),0) -> 0 | H21: =IFERROR(VLOOKUP($B21,[1]NUM1!$G$3:$T$99,5,FALSE),0) -> 0 | I21: =IFERROR(VLOOKUP($B21,[1]NUM1!$G$3:$T$99,6,FALSE),0) -> 0 | J21: =IFERROR(VLOOKUP($B21,[1]NUM1!$G$3:$T$99,7,FALSE),0) -> 0 | K21: =IFERROR(VLOOKUP($B21,[1]NUM1!$G$3:$T$99,8,FALSE),0) -> 0 | L21: =IFERROR(VLOOKUP($B21,[1]NUM1!$G$3:$T$99,9,FALSE),0) -> 0 | M21: =IFERROR(VLOOKUP($B21,[1]NUM1!$G$3:$T$99,10,FALSE),0) -> 0 | N21: =IFERROR(VLOOKUP($B21,[1]NUM1!$G$3:$T$99,11,FALSE),0) -> 0 | O21: =IFERROR(VLOOKUP($B21,[1]NUM1!$G$3:$T$99,12,FALSE),0) -> 0 | P21: =IFERROR(VLOOKUP($B21,[1]NUM1!$G$3:$T$99,13,FALSE),0) -> 0 | Q21: =SUM(E21:P21) -> 0 | R21: =IFERROR(VLOOKUP($B21,[1]DEN1!$G$3:$T$102,2,FALSE),0) -> 0 | S21: =IFERROR(VLOOKUP($B21,[1]DEN1!$G$3:$T$102,3,FALSE),0) -> 0 | T21: =IFERROR(VLOOKUP($B21,[1]DEN1!$G$3:$T$102,4,FALSE),0) -> 0 | U21: =IFERROR(VLOOKUP($B21,[1]DEN1!$G$3:$T$102,5,FALSE),0) -> 0 | V21: =IFERROR(VLOOKUP($B21,[1]DEN1!$G$3:$T$102,6,FALSE),0) -> 0 | W21: =IFERROR(VLOOKUP($B21,[1]DEN1!$G$3:$T$102,7,FALSE),0) -> 0 | X21: =IFERROR(VLOOKUP($B21,[1]DEN1!$G$3:$T$102,8,FALSE),0) -> 0 | Y21: =IFERROR(VLOOKUP($B21,[1]DEN1!$G$3:$T$102,9,FALSE),0) -> 1 | Z21: =IFERROR(VLOOKUP($B21,[1]DEN1!$G$3:$T$102,10,FALSE),0) -> 0 | AA21: =IFERROR(VLOOKUP($B21,[1]DEN1!$G$3:$T$102,11,FALSE),0) -> 0 | AB21: =IFERROR(VLOOKUP($B21,[1]DEN1!$G$3:$T$102,12,FALSE),0) -> 0 | AC21: =IFERROR(VLOOKUP($B21,[1]DEN1!$G$3:$T$102,13,FALSE),0) -> 0 | AD21: =SUM(R21:AC21) -> 1
A22: 04101-LA SERENA | B22: 105700-CECOF VILLA EL INDIO | E22: =IFERROR(VLOOKUP($B22,[1]NUM1!$G$3:$T$99,2,FALSE),0) -> 0 | F22: =IFERROR(VLOOKUP($B22,[1]NUM1!$G$3:$T$99,3,FALSE),0) -> 0 | G22: =IFERROR(VLOOKUP($B22,[1]NUM1!$G$3:$T$99,4,FALSE),0) -> 1 | H22: =IFERROR(VLOOKUP($B22,[1]NUM1!$G$3:$T$99,5,FALSE),0) -> 0 | I22: =IFERROR(VLOOKUP($B22,[1]NUM1!$G$3:$T$99,6,FALSE),0) -> 0 | J22: =IFERROR(VLOOKUP($B22,[1]NUM1!$G$3:$T$99,7,FALSE),0) -> 0 | K22: =IFERROR(VLOOKUP($B22,[1]NUM1!$G$3:$T$99,8,FALSE),0) -> 0 | L22: =IFERROR(VLOOKUP($B22,[1]NUM1!$G$3:$T$99,9,FALSE),0) -> 0 | M22: =IFERROR(VLOOKUP($B22,[1]NUM1!$G$3:$T$99,10,FALSE),0) -> 0 | N22: =IFERROR(VLOOKUP($B22,[1]NUM1!$G$3:$T$99,11,FALSE),0) -> 0 | O22: =IFERROR(VLOOKUP($B22,[1]NUM1!$G$3:$T$99,12,FALSE),0) -> 0 | P22: =IFERROR(VLOOKUP($B22,[1]NUM1!$G$3:$T$99,13,FALSE),0) -> 2 | Q22: =SUM(E22:P22) -> 3 | R22: =IFERROR(VLOOKUP($B22,[1]DEN1!$G$3:$T$102,2,FALSE),0) -> 0 | S22: =IFERROR(VLOOKUP($B22,[1]DEN1!$G$3:$T$102,3,FALSE),0) -> 0 | T22: =IFERROR(VLOOKUP($B22,[1]DEN1!$G$3:$T$102,4,FALSE),0) -> 1 | U22: =IFERROR(VLOOKUP($B22,[1]DEN1!$G$3:$T$102,5,FALSE),0) -> 0 | V22: =IFERROR(VLOOKUP($B22,[1]DEN1!$G$3:$T$102,6,FALSE),0) -> 0 | W22: =IFERROR(VLOOKUP($B22,[1]DEN1!$G$3:$T$102,7,FALSE),0) -> 0 | X22: =IFERROR(VLOOKUP($B22,[1]DEN1!$G$3:$T$102,8,FALSE),0) -> 2 | Y22: =IFERROR(VLOOKUP($B22,[1]DEN1!$G$3:$T$102,9,FALSE),0) -> 0 | Z22: =IFERROR(VLOOKUP($B22,[1]DEN1!$G$3:$T$102,10,FALSE),0) -> 0 | AA22: =IFERROR(VLOOKUP($B22,[1]DEN1!$G$3:$T$102,11,FALSE),0) -> 0 | AB22: =IFERROR(VLOOKUP($B22,[1]DEN1!$G$3:$T$102,12,FALSE),0) -> 0 | AC22: =IFERROR(VLOOKUP($B22,[1]DEN1!$G$3:$T$102,13,FALSE),0) -> 1 | AD22: =SUM(R22:AC22) -> 4
A23: 04101-LA SERENA | B23: 105701-CECOF VILLA ALEMANIA | E23: =IFERROR(VLOOKUP($B23,[1]NUM1!$G$3:$T$99,2,FALSE),0) -> 0 | F23: =IFERROR(VLOOKUP($B23,[1]NUM1!$G$3:$T$99,3,FALSE),0) -> 0 | G23: =IFERROR(VLOOKUP($B23,[1]NUM1!$G$3:$T$99,4,FALSE),0) -> 0 | H23: =IFERROR(VLOOKUP($B23,[1]NUM1!$G$3:$T$99,5,FALSE),0) -> 0 | I23: =IFERROR(VLOOKUP($B23,[1]NUM1!$G$3:$T$99,6,FALSE),0) -> 1 | J23: =IFERROR(VLOOKUP($B23,[1]NUM1!$G$3:$T$99,7,FALSE),0) -> 0 | K23: =IFERROR(VLOOKUP($B23,[1]NUM1!$G$3:$T$99,8,FALSE),0) -> 1 | L23: =IFERROR(VLOOKUP($B23,[1]NUM1!$G$3:$T$99,9,FALSE),0) -> 0 | M23: =IFERROR(VLOOKUP($B23,[1]NUM1!$G$3:$T$99,10,FALSE),0) -> 0 | N23: =IFERROR(VLOOKUP($B23,[1]NUM1!$G$3:$T$99,11,FALSE),0) -> 1 | O23: =IFERROR(VLOOKUP($B23,[1]NUM1!$G$3:$T$99,12,FALSE),0) -> 0 | P23: =IFERROR(VLOOKUP($B23,[1]NUM1!$G$3:$T$99,13,FALSE),0) -> 0 | Q23: =SUM(E23:P23) -> 3 | R23: =IFERROR(VLOOKUP($B23,[1]DEN1!$G$3:$T$102,2,FALSE),0) -> 0 | S23: =IFERROR(VLOOKUP($B23,[1]DEN1!$G$3:$T$102,3,FALSE),0) -> 1 | T23: =IFERROR(VLOOKUP($B23,[1]DEN1!$G$3:$T$102,4,FALSE),0) -> 0 | U23: =IFERROR(VLOOKUP($B23,[1]DEN1!$G$3:$T$102,5,FALSE),0) -> 1 | V23: =IFERROR(VLOOKUP($B23,[1]DEN1!$G$3:$T$102,6,FALSE),0) -> 1 | W23: =IFERROR(VLOOKUP($B23,[1]DEN1!$G$3:$T$102,7,FALSE),0) -> 0 | X23: =IFERROR(VLOOKUP($B23,[1]DEN1!$G$3:$T$102,8,FALSE),0) -> 0 | Y23: =IFERROR(VLOOKUP($B23,[1]DEN1!$G$3:$T$102,9,FALSE),0) -> 0 | Z23: =IFERROR(VLOOKUP($B23,[1]DEN1!$G$3:$T$102,10,FALSE),0) -> 0 | AA23: =IFERROR(VLOOKUP($B23,[1]DEN1!$G$3:$T$102,11,FALSE),0) -> 0 | AB23: =IFERROR(VLOOKUP($B23,[1]DEN1!$G$3:$T$102,12,FALSE),0) -> 0 | AC23: =IFERROR(VLOOKUP($B23,[1]DEN1!$G$3:$T$102,13,FALSE),0) -> 0 | AD23: =SUM(R23:AC23) -> 3
... A25: 04101-LA SERENA | B25: 200402-CECOF ARCOS DE PINAMAR | E25: =IFERROR(VLOOKUP($B25,[1]NUM1!$G$3:$T$99,2,FALSE),0) -> 0 | F25: =IFERROR(VLOOKUP($B25,[1]NUM1!$G$3:$T$99,3,FALSE),0) -> 0 | G25: =IFERROR(VLOOKUP($B25,[1]NUM1!$G$3:$T$99,4,FALSE),0) -> 0 | H25: =IFERROR(VLOOKUP($B25,[1]NUM1!$G$3:$T$99,5,FALSE),0) -> 0 | I25: =IFERROR(VLOOKUP($B25,[1]NUM1!$G$3:$T$99,6,FALSE),0) -> 0 | J25: =IFERROR(VLOOKUP($B25,[1]NUM1!$G$3:$T$99,7,FALSE),0) -> 0 | K25: =IFERROR(VLOOKUP($B25,[1]NUM1!$G$3:$T$99,8,FALSE),0) -> 0 | L25: =IFERROR(VLOOKUP($B25,[1]NUM1!$G$3:$T$99,9,FALSE),0) -> 0 | M25: =IFERROR(VLOOKUP($B25,[1]NUM1!$G$3:$T$99,10,FALSE),0) -> 0 | N25: =IFERROR(VLOOKUP($B25,[1]NUM1!$G$3:$T$99,11,FALSE),0) -> 0 | O25: =IFERROR(VLOOKUP($B25,[1]NUM1!$G$3:$T$99,12,FALSE),0) -> 0 | P25: =IFERROR(VLOOKUP($B25,[1]NUM1!$G$3:$T$99,13,FALSE),0) -> 0 | Q25: =SUM(E25:P25) -> 0 | R25: =IFERROR(VLOOKUP($B25,[1]DEN1!$G$3:$T$102,2,FALSE),0) -> 0 | S25: =IFERROR(VLOOKUP($B25,[1]DEN1!$G$3:$T$102,3,FALSE),0) -> 0 | T25: =IFERROR(VLOOKUP($B25,[1]DEN1!$G$3:$T$102,4,FALSE),0) -> 0 | U25: =IFERROR(VLOOKUP($B25,[1]DEN1!$G$3:$T$102,5,FALSE),0) -> 0 | V25: =IFERROR(VLOOKUP($B25,[1]DEN1!$G$3:$T$102,6,FALSE),0) -> 0 | W25: =IFERROR(VLOOKUP($B25,[1]DEN1!$G$3:$T$102,7,FALSE),0) -> 0 | X25: =IFERROR(VLOOKUP($B25,[1]DEN1!$G$3:$T$102,8,FALSE),0) -> 0 | Y25: =IFERROR(VLOOKUP($B25,[1]DEN1!$G$3:$T$102,9,FALSE),0) -> 0 | Z25: =IFERROR(VLOOKUP($B25,[1]DEN1!$G$3:$T$102,10,FALSE),0) -> 0 | AA25: =IFERROR(VLOOKUP($B25,[1]DEN1!$G$3:$T$102,11,FALSE),0) -> 0 | AB25: =IFERROR(VLOOKUP($B25,[1]DEN1!$G$3:$T$102,12,FALSE),0) -> 0 | AC25: =IFERROR(VLOOKUP($B25,[1]DEN1!$G$3:$T$102,13,FALSE),0) -> 0 | AD25: =SUM(R25:AC25) -> 0
A26: TOTAL LA SERENA MUNICIPAL | C26: =D26/'Metas Muni'!G5 -> 0.98841172 | D26: =Q26/AD26 -> 0.88957055 | E26: =SUM(E12:E25) -> 13 | F26: =SUM(F12:F25) -> 4 | G26: =SUM(G12:G25) -> 13 | H26: =SUM(H12:H25) -> 8 | I26: =SUM(I12:I25) -> 21 | J26: =SUM(J12:J25) -> 12 | K26: =SUM(K12:K25) -> 13 | L26: =SUM(L12:L25) -> 8 | ... AD26: =SUM(AD12:AD25) -> 163
A27: 04102-COQUIMBO | B27: 105303-CES. SAN JUAN | E27: =IFERROR(VLOOKUP($B27,[1]NUM1!$G$3:$T$99,2,FALSE),0) -> 1 | F27: =IFERROR(VLOOKUP($B27,[1]NUM1!$G$3:$T$99,3,FALSE),0) -> 1 | G27: =IFERROR(VLOOKUP($B27,[1]NUM1!$G$3:$T$99,4,FALSE),0) -> 2 | H27: =IFERROR(VLOOKUP($B27,[1]NUM1!$G$3:$T$99,5,FALSE),0) -> 2 | I27: =IFERROR(VLOOKUP($B27,[1]NUM1!$G$3:$T$99,6,FALSE),0) -> 2 | J27: =IFERROR(VLOOKUP($B27,[1]NUM1!$G$3:$T$99,7,FALSE),0) -> 0 | K27: =IFERROR(VLOOKUP($B27,[1]NUM1!$G$3:$T$99,8,FALSE),0) -> 1 | L27: =IFERROR(VLOOKUP($B27,[1]NUM1!$G$3:$T$99,9,FALSE),0) -> 1 | M27: =IFERROR(VLOOKUP($B27,[1]NUM1!$G$3:$T$99,10,FALSE),0) -> 3 | N27: =IFERROR(VLOOKUP($B27,[1]NUM1!$G$3:$T$99,11,FALSE),0) -> 8 | O27: =IFERROR(VLOOKUP($B27,[1]NUM1!$G$3:$T$99,12,FALSE),0) -> 11 | P27: =IFERROR(VLOOKUP($B27,[1]NUM1!$G$3:$T$99,13,FALSE),0) -> 12 | Q27: =SUM(E27:P27) -> 44 | R27: =IFERROR(VLOOKUP($B27,[1]DEN1!$G$3:$T$102,2,FALSE),0) -> 5 | S27: =IFERROR(VLOOKUP($B27,[1]DEN1!$G$3:$T$102,3,FALSE),0) -> 1 | T27: =IFERROR(VLOOKUP($B27,[1]DEN1!$G$3:$T$102,4,FALSE),0) -> 3 | U27: =IFERROR(VLOOKUP($B27,[1]DEN1!$G$3:$T$102,5,FALSE),0) -> 2 | V27: =IFERROR(VLOOKUP($B27,[1]DEN1!$G$3:$T$102,6,FALSE),0) -> 1 | W27: =IFERROR(VLOOKUP($B27,[1]DEN1!$G$3:$T$102,7,FALSE),0) -> 5 | X27: =IFERROR(VLOOKUP($B27,[1]DEN1!$G$3:$T$102,8,FALSE),0) -> 8 | Y27: =IFERROR(VLOOKUP($B27,[1]DEN1!$G$3:$T$102,9,FALSE),0) -> 10 | Z27: =IFERROR(VLOOKUP($B27,[1]DEN1!$G$3:$T$102,10,FALSE),0) -> 1 | AA27: =IFERROR(VLOOKUP($B27,[1]DEN1!$G$3:$T$102,11,FALSE),0) -> 2 | AB27: =IFERROR(VLOOKUP($B27,[1]DEN1!$G$3:$T$102,12,FALSE),0) -> 0 | AC27: =IFERROR(VLOOKUP($B27,[1]DEN1!$G$3:$T$102,13,FALSE),0) -> 0 | AD27: =SUM(R27:AC27) -> 38
A28: 04102-COQUIMBO | B28: 105304-CES. SANTA CECILIA | E28: =IFERROR(VLOOKUP($B28,[1]NUM1!$G$3:$T$99,2,FALSE),0) -> 0 | F28: =IFERROR(VLOOKUP($B28,[1]NUM1!$G$3:$T$99,3,FALSE),0) -> 2 | G28: =IFERROR(VLOOKUP($B28,[1]NUM1!$G$3:$T$99,4,FALSE),0) -> 1 | H28: =IFERROR(VLOOKUP($B28,[1]NUM1!$G$3:$T$99,5,FALSE),0) -> 2 | I28: =IFERROR(VLOOKUP($B28,[1]NUM1!$G$3:$T$99,6,FALSE),0) -> 2 | J28: =IFERROR(VLOOKUP($B28,[1]NUM1!$G$3:$T$99,7,FALSE),0) -> 0 | K28: =IFERROR(VLOOKUP($B28,[1]NUM1!$G$3:$T$99,8,FALSE),0) -> 0 | L28: =IFERROR(VLOOKUP($B28,[1]NUM1!$G$3:$T$99,9,FALSE),0) -> 1 | M28: =IFERROR(VLOOKUP($B28,[1]NUM1!$G$3:$T$99,10,FALSE),0) -> 1 | N28: =IFERROR(VLOOKUP($B28,[1]NUM1!$G$3:$T$99,11,FALSE),0) -> 1 | O28: =IFERROR(VLOOKUP($B28,[1]NUM1!$G$3:$T$99,12,FALSE),0) -> 0 | P28: =IFERROR(VLOOKUP($B28,[1]NUM1!$G$3:$T$99,13,FALSE),0) -> 8 | Q28: =SUM(E28:P28) -> 18 | R28: =IFERROR(VLOOKUP($B28,[1]DEN1!$G$3:$T$102,2,FALSE),0) -> 3 | S28: =IFERROR(VLOOKUP($B28,[1]DEN1!$G$3:$T$102,3,FALSE),0) -> 2 | T28: =IFERROR(VLOOKUP($B28,[1]DEN1!$G$3:$T$102,4,FALSE),0) -> 2 | U28: =IFERROR(VLOOKUP($B28,[1]DEN1!$G$3:$T$102,5,FALSE),0) -> 1 | V28: =IFERROR(VLOOKUP($B28,[1]DEN1!$G$3:$T$102,6,FALSE),0) -> 0 | W28: =IFERROR(VLOOKUP($B28,[1]DEN1!$G$3:$T$102,7,FALSE),0) -> 2 | X28: =IFERROR(VLOOKUP($B28,[1]DEN1!$G$3:$T$102,8,FALSE),0) -> 1 | Y28: =IFERROR(VLOOKUP($B28,[1]DEN1!$G$3:$T$102,9,FALSE),0) -> 0 | Z28: =IFERROR(VLOOKUP($B28,[1]DEN1!$G$3:$T$102,10,FALSE),0) -> 2 | AA28: =IFERROR(VLOOKUP($B28,[1]DEN1!$G$3:$T$102,11,FALSE),0) -> 2 | AB28: =IFERROR(VLOOKUP($B28,[1]DEN1!$G$3:$T$102,12,FALSE),0) -> 0 | AC28: =IFERROR(VLOOKUP($B28,[1]DEN1!$G$3:$T$102,13,FALSE),0) -> 0 | AD28: =SUM(R28:AC28) -> 15
A29: 04102-COQUIMBO | B29: 105305-CES. TIERRAS BLANCAS | E29: =IFERROR(VLOOKUP($B29,[1]NUM1!$G$3:$T$99,2,FALSE),0) -> 1 | F29: =IFERROR(VLOOKUP($B29,[1]NUM1!$G$3:$T$99,3,FALSE),0) -> 0 | G29: =IFERROR(VLOOKUP($B29,[1]NUM1!$G$3:$T$99,4,FALSE),0) -> 0 | H29: =IFERROR(VLOOKUP($B29,[1]NUM1!$G$3:$T$99,5,FALSE),0) -> 4 | I29: =IFERROR(VLOOKUP($B29,[1]NUM1!$G$3:$T$99,6,FALSE),0) -> 6 | J29: =IFERROR(VLOOKUP($B29,[1]NUM1!$G$3:$T$99,7,FALSE),0) -> 2 | K29: =IFERROR(VLOOKUP($B29,[1]NUM1!$G$3:$T$99,8,FALSE),0) -> 2 | L29: =IFERROR(VLOOKUP($B29,[1]NUM1!$G$3:$T$99,9,FALSE),0) -> 3 | M29: =IFERROR(VLOOKUP($B29,[1]NUM1!$G$3:$T$99,10,FALSE),0) -> 0 | N29: =IFERROR(VLOOKUP($B29,[1]NUM1!$G$3:$T$99,11,FALSE),0) -> 2 | O29: =IFERROR(VLOOKUP($B29,[1]NUM1!$G$3:$T$99,12,FALSE),0) -> 2 | P29: =IFERROR(VLOOKUP($B29,[1]NUM1!$G$3:$T$99,13,FALSE),0) -> 8 | Q29: =SUM(E29:P29) -> 30 | R29: =IFERROR(VLOOKUP($B29,[1]DEN1!$G$3:$T$102,2,FALSE),0) -> 4 | S29: =IFERROR(VLOOKUP($B29,[1]DEN1!$G$3:$T$102,3,FALSE),0) -> 6 | T29: =IFERROR(VLOOKUP($B29,[1]DEN1!$G$3:$T$102,4,FALSE),0) -> 5 | U29: =IFERROR(VLOOKUP($B29,[1]DEN1!$G$3:$T$102,5,FALSE),0) -> 2 | V29: =IFERROR(VLOOKUP($B29,[1]DEN1!$G$3:$T$102,6,FALSE),0) -> 2 | W29: =IFERROR(VLOOKUP($B29,[1]DEN1!$G$3:$T$102,7,FALSE),0) -> 0 | X29: =IFERROR(VLOOKUP($B29,[1]DEN1!$G$3:$T$102,8,FALSE),0) -> 2 | Y29: =IFERROR(VLOOKUP($B29,[1]DEN1!$G$3:$T$102,9,FALSE),0) -> 2 | Z29: =IFERROR(VLOOKUP($B29,[1]DEN1!$G$3:$T$102,10,FALSE),0) -> 1 | AA29: =IFERROR(VLOOKUP($B29,[1]DEN1!$G$3:$T$102,11,FALSE),0) -> 6 | AB29: =IFERROR(VLOOKUP($B29,[1]DEN1!$G$3:$T$102,12,FALSE),0) -> 1 | AC29: =IFERROR(VLOOKUP($B29,[1]DEN1!$G$3:$T$102,13,FALSE),0) -> 6 | AD29: =SUM(R29:AC29) -> 37
A30: 04102-COQUIMBO | B30: 105321-CES. RURAL TONGOY | E30: =IFERROR(VLOOKUP($B30,[1]NUM1!$G$3:$T$99,2,FALSE),0) -> 0 | F30: =IFERROR(VLOOKUP($B30,[1]NUM1!$G$3:$T$99,3,FALSE),0) -> 0 | G30: =IFERROR(VLOOKUP($B30,[1]NUM1!$G$3:$T$99,4,FALSE),0) -> 0 | H30: =IFERROR(VLOOKUP($B30,[1]NUM1!$G$3:$T$99,5,FALSE),0) -> 0 | I30: =IFERROR(VLOOKUP($B30,[1]NUM1!$G$3:$T$99,6,FALSE),0) -> 1 | J30: =IFERROR(VLOOKUP($B30,[1]NUM1!$G$3:$T$99,7,FALSE),0) -> 0 | K30: =IFERROR(VLOOKUP($B30,[1]NUM1!$G$3:$T$99,8,FALSE),0) -> 0 | L30: =IFERROR(VLOOKUP($B30,[1]NUM1!$G$3:$T$99,9,FALSE),0) -> 0 | M30: =IFERROR(VLOOKUP($B30,[1]NUM1!$G$3:$T$99,10,FALSE),0) -> 0 | N30: =IFERROR(VLOOKUP($B30,[1]NUM1!$G$3:$T$99,11,FALSE),0) -> 0 | O30: =IFERROR(VLOOKUP($B30,[1]NUM1!$G$3:$T$99,12,FALSE),0) -> 0 | P30: =IFERROR(VLOOKUP($B30,[1]NUM1!$G$3:$T$99,13,FALSE),0) -> 3 | Q30: =SUM(E30:P30) -> 4 | R30: =IFERROR(VLOOKUP($B30,[1]DEN1!$G$3:$T$102,2,FALSE),0) -> 0 | S30: =IFERROR(VLOOKUP($B30,[1]DEN1!$G$3:$T$102,3,FALSE),0) -> 0 | T30: =IFERROR(VLOOKUP($B30,[1]DEN1!$G$3:$T$102,4,FALSE),0) -> 1 | U30: =IFERROR(VLOOKUP($B30,[1]DEN1!$G$3:$T$102,5,FALSE),0) -> 0 | V30: =IFERROR(VLOOKUP($B30,[1]DEN1!$G$3:$T$102,6,FALSE),0) -> 1 | W30: =IFERROR(VLOOKUP($B30,[1]DEN1!$G$3:$T$102,7,FALSE),0) -> 1 | X30: =IFERROR(VLOOKUP($B30,[1]DEN1!$G$3:$T$102,8,FALSE),0) -> 0 | Y30: =IFERROR(VLOOKUP($B30,[1]DEN1!$G$3:$T$102,9,FALSE),0) -> 0 | Z30: =IFERROR(VLOOKUP($B30,[1]DEN1!$G$3:$T$102,10,FALSE),0) -> 1 | AA30: =IFERROR(VLOOKUP($B30,[1]DEN1!$G$3:$T$102,11,FALSE),0) -> 4 | AB30: =IFERROR(VLOOKUP($B30,[1]DEN1!$G$3:$T$102,12,FALSE),0) -> 1 | AC30: =IFERROR(VLOOKUP($B30,[1]DEN1!$G$3:$T$102,13,FALSE),0) -> 0 | AD30: =SUM(R30:AC30) -> 9
A31: 04102-COQUIMBO | B31: 105323-CES. DR. SERGIO AGUILAR | E31: =IFERROR(VLOOKUP($B31,[1]NUM1!$G$3:$T$99,2,FALSE),0) -> 1 | F31: =IFERROR(VLOOKUP($B31,[1]NUM1!$G$3:$T$99,3,FALSE),0) -> 1 | G31: =IFERROR(VLOOKUP($B31,[1]NUM1!$G$3:$T$99,4,FALSE),0) -> 2 | H31: =IFERROR(VLOOKUP($B31,[1]NUM1!$G$3:$T$99,5,FALSE),0) -> 2 | I31: =IFERROR(VLOOKUP($B31,[1]NUM1!$G$3:$T$99,6,FALSE),0) -> 3 | J31: =IFERROR(VLOOKUP($B31,[1]NUM1!$G$3:$T$99,7,FALSE),0) -> 2 | K31: =IFERROR(VLOOKUP($B31,[1]NUM1!$G$3:$T$99,8,FALSE),0) -> 2 | L31: =IFERROR(VLOOKUP($B31,[1]NUM1!$G$3:$T$99,9,FALSE),0) -> 2 | M31: =IFERROR(VLOOKUP($B31,[1]NUM1!$G$3:$T$99,10,FALSE),0) -> 1 | N31: =IFERROR(VLOOKUP($B31,[1]NUM1!$G$3:$T$99,11,FALSE),0) -> 2 | O31: =IFERROR(VLOOKUP($B31,[1]NUM1!$G$3:$T$99,12,FALSE),0) -> 0 | P31: =IFERROR(VLOOKUP($B31,[1]NUM1!$G$3:$T$99,13,FALSE),0) -> 8 | Q31: =SUM(E31:P31) -> 26 | R31: =IFERROR(VLOOKUP($B31,[1]DEN1!$G$3:$T$102,2,FALSE),0) -> 5 | S31: =IFERROR(VLOOKUP($B31,[1]DEN1!$G$3:$T$102,3,FALSE),0) -> 1 | T31: =IFERROR(VLOOKUP($B31,[1]DEN1!$G$3:$T$102,4,FALSE),0) -> 5 | U31: =IFERROR(VLOOKUP($B31,[1]DEN1!$G$3:$T$102,5,FALSE),0) -> 0 | V31: =IFERROR(VLOOKUP($B31,[1]DEN1!$G$3:$T$102,6,FALSE),0) -> 0 | W31: =IFERROR(VLOOKUP($B31,[1]DEN1!$G$3:$T$102,7,FALSE),0) -> 3 | X31: =IFERROR(VLOOKUP($B31,[1]DEN1!$G$3:$T$102,8,FALSE),0) -> 1 | Y31: =IFERROR(VLOOKUP($B31,[1]DEN1!$G$3:$T$102,9,FALSE),0) -> 2 | Z31: =IFERROR(VLOOKUP($B31,[1]DEN1!$G$3:$T$102,10,FALSE),0) -> 1 | AA31: =IFERROR(VLOOKUP($B31,[1]DEN1!$G$3:$T$102,11,FALSE),0) -> 2 | AB31: =IFERROR(VLOOKUP($B31,[1]DEN1!$G$3:$T$102,12,FALSE),0) -> 1 | AC31: =IFERROR(VLOOKUP($B31,[1]DEN1!$G$3:$T$102,13,FALSE),0) -> 0 | AD31: =SUM(R31:AC31) -> 21
A32: 04102-COQUIMBO | B32: 105404-P.S.R. EL TANGUE | E32: =IFERROR(VLOOKUP($B32,[1]NUM1!$G$3:$T$99,2,FALSE),0) -> 0 | F32: =IFERROR(VLOOKUP($B32,[1]NUM1!$G$3:$T$99,3,FALSE),0) -> 0 | G32: =IFERROR(VLOOKUP($B32,[1]NUM1!$G$3:$T$99,4,FALSE),0) -> 0 | H32: =IFERROR(VLOOKUP($B32,[1]NUM1!$G$3:$T$99,5,FALSE),0) -> 0 | I32: =IFERROR(VLOOKUP($B32,[1]NUM1!$G$3:$T$99,6,FALSE),0) -> 0 | J32: =IFERROR(VLOOKUP($B32,[1]NUM1!$G$3:$T$99,7,FALSE),0) -> 0 | K32: =IFERROR(VLOOKUP($B32,[1]NUM1!$G$3:$T$99,8,FALSE),0) -> 0 | L32: =IFERROR(VLOOKUP($B32,[1]NUM1!$G$3:$T$99,9,FALSE),0) -> 0 | M32: =IFERROR(VLOOKUP($B32,[1]NUM1!$G$3:$T$99,10,FALSE),0) -> 0 | N32: =IFERROR(VLOOKUP($B32,[1]NUM1!$G$3:$T$99,11,FALSE),0) -> 0 | O32: =IFERROR(VLOOKUP($B32,[1]NUM1!$G$3:$T$99,12,FALSE),0) -> 0 | P32: =IFERROR(VLOOKUP($B32,[1]NUM1!$G$3:$T$99,13,FALSE),0) -> 0 | Q32: =SUM(E32:P32) -> 0 | R32: =IFERROR(VLOOKUP($B32,[1]DEN1!$G$3:$T$102,2,FALSE),0) -> 0 | S32: =IFERROR(VLOOKUP($B32,[1]DEN1!$G$3:$T$102,3,FALSE),0) -> 0 | T32: =IFERROR(VLOOKUP($B32,[1]DEN1!$G$3:$T$102,4,FALSE),0) -> 0 | U32: =IFERROR(VLOOKUP($B32,[1]DEN1!$G$3:$T$102,5,FALSE),0) -> 0 | V32: =IFERROR(VLOOKUP($B32,[1]DEN1!$G$3:$T$102,6,FALSE),0) -> 0 | W32: =IFERROR(VLOOKUP($B32,[1]DEN1!$G$3:$T$102,7,FALSE),0) -> 0 | X32: =IFERROR(VLOOKUP($B32,[1]DEN1!$G$3:$T$102,8,FALSE),0) -> 0 | Y32: =IFERROR(VLOOKUP($B32,[1]DEN1!$G$3:$T$102,9,FALSE),0) -> 0 | Z32: =IFERROR(VLOOKUP($B32,[1]DEN1!$G$3:$T$102,10,FALSE),0) -> 0 | AA32: =IFERROR(VLOOKUP($B32,[1]DEN1!$G$3:$T$102,11,FALSE),0) -> 0 | AB32: =IFERROR(VLOOKUP($B32,[1]DEN1!$G$3:$T$102,12,FALSE),0) -> 0 | AC32: =IFERROR(VLOOKUP($B32,[1]DEN1!$G$3:$T$102,13,FALSE),0) -> 0 | AD32: =SUM(R32:AC32) -> 0
A33: 04102-COQUIMBO | B33: 105405-P.S.R. GUANAQUEROS | E33: =IFERROR(VLOOKUP($B33,[1]NUM1!$G$3:$T$99,2,FALSE),0) -> 0 | F33: =IFERROR(VLOOKUP($B33,[1]NUM1!$G$3:$T$99,3,FALSE),0) -> 0 | G33: =IFERROR(VLOOKUP($B33,[1]NUM1!$G$3:$T$99,4,FALSE),0) -> 1 | H33: =IFERROR(VLOOKUP($B33,[1]NUM1!$G$3:$T$99,5,FALSE),0) -> 0 | I33: =IFERROR(VLOOKUP($B33,[1]NUM1!$G$3:$T$99,6,FALSE),0) -> 0 | J33: =IFERROR(VLOOKUP($B33,[1]NUM1!$G$3:$T$99,7,FALSE),0) -> 0 | K33: =IFERROR(VLOOKUP($B33,[1]NUM1!$G$3:$T$99,8,FALSE),0) -> 0 | L33: =IFERROR(VLOOKUP($B33,[1]NUM1!$G$3:$T$99,9,FALSE),0) -> 1 | M33: =IFERROR(VLOOKUP($B33,[1]NUM1!$G$3:$T$99,10,FALSE),0) -> 0 | N33: =IFERROR(VLOOKUP($B33,[1]NUM1!$G$3:$T$99,11,FALSE),0) -> 0 | O33: =IFERROR(VLOOKUP($B33,[1]NUM1!$G$3:$T$99,12,FALSE),0) -> 0 | P33: =IFERROR(VLOOKUP($B33,[1]NUM1!$G$3:$T$99,13,FALSE),0) -> 0 | Q33: =SUM(E33:P33) -> 2 | R33: =IFERROR(VLOOKUP($B33,[1]DEN1!$G$3:$T$102,2,FALSE),0) -> 1 | S33: =IFERROR(VLOOKUP($B33,[1]DEN1!$G$3:$T$102,3,FALSE),0) -> 0 | T33: =IFERROR(VLOOKUP($B33,[1]DEN1!$G$3:$T$102,4,FALSE),0) -> 0 | U33: =IFERROR(VLOOKUP($B33,[1]DEN1!$G$3:$T$102,5,FALSE),0) -> 0 | V33: =IFERROR(VLOOKUP($B33,[1]DEN1!$G$3:$T$102,6,FALSE),0) -> 1 | W33: =IFERROR(VLOOKUP($B33,[1]DEN1!$G$3:$T$102,7,FALSE),0) -> 0 | X33: =IFERROR(VLOOKUP($B33,[1]DEN1!$G$3:$T$102,8,FALSE),0) -> 0 | Y33: =IFERROR(VLOOKUP($B33,[1]DEN1!$G$3:$T$102,9,FALSE),0) -> 1 | Z33: =IFERROR(VLOOKUP($B33,[1]DEN1!$G$3:$T$102,10,FALSE),0) -> 0 | AA33: =IFERROR(VLOOKUP($B33,[1]DEN1!$G$3:$T$102,11,FALSE),0) -> 0 | AB33: =IFERROR(VLOOKUP($B33,[1]DEN1!$G$3:$T$102,12,FALSE),0) -> 0 | AC33: =IFERROR(VLOOKUP($B33,[1]DEN1!$G$3:$T$102,13,FALSE),0) -> 0 | AD33: =SUM(R33:AC33) -> 3
A34: 04102-COQUIMBO | B34: 105406-P.S.R. PAN DE AZUCAR | E34: =IFERROR(VLOOKUP($B34,[1]NUM1!$G$3:$T$99,2,FALSE),0) -> 0 | F34: =IFERROR(VLOOKUP($B34,[1]NUM1!$G$3:$T$99,3,FALSE),0) -> 0 | G34: =IFERROR(VLOOKUP($B34,[1]NUM1!$G$3:$T$99,4,FALSE),0) -> 0 | H34: =IFERROR(VLOOKUP($B34,[1]NUM1!$G$3:$T$99,5,FALSE),0) -> 1 | I34: =IFERROR(VLOOKUP($B34,[1]NUM1!$G$3:$T$99,6,FALSE),0) -> 0 | J34: =IFERROR(VLOOKUP($B34,[1]NUM1!$G$3:$T$99,7,FALSE),0) -> 0 | K34: =IFERROR(VLOOKUP($B34,[1]NUM1!$G$3:$T$99,8,FALSE),0) -> 0 | L34: =IFERROR(VLOOKUP($B34,[1]NUM1!$G$3:$T$99,9,FALSE),0) -> 1 | M34: =IFERROR(VLOOKUP($B34,[1]NUM1!$G$3:$T$99,10,FALSE),0) -> 0 | N34: =IFERROR(VLOOKUP($B34,[1]NUM1!$G$3:$T$99,11,FALSE),0) -> 0 | O34: =IFERROR(VLOOKUP($B34,[1]NUM1!$G$3:$T$99,12,FALSE),0) -> 0 | P34: =IFERROR(VLOOKUP($B34,[1]NUM1!$G$3:$T$99,13,FALSE),0) -> 0 | Q34: =SUM(E34:P34) -> 2 | R34: =IFERROR(VLOOKUP($B34,[1]DEN1!$G$3:$T$102,2,FALSE),0) -> 0 | S34: =IFERROR(VLOOKUP($B34,[1]DEN1!$G$3:$T$102,3,FALSE),0) -> 1 | T34: =IFERROR(VLOOKUP($B34,[1]DEN1!$G$3:$T$102,4,FALSE),0) -> 0 | U34: =IFERROR(VLOOKUP($B34,[1]DEN1!$G$3:$T$102,5,FALSE),0) -> 1 | V34: =IFERROR(VLOOKUP($B34,[1]DEN1!$G$3:$T$102,6,FALSE),0) -> 0 | W34: =IFERROR(VLOOKUP($B34,[1]DEN1!$G$3:$T$102,7,FALSE),0) -> 1 | X34: =IFERROR(VLOOKUP($B34,[1]DEN1!$G$3:$T$102,8,FALSE),0) -> 0 | Y34: =IFERROR(VLOOKUP($B34,[1]DEN1!$G$3:$T$102,9,FALSE),0) -> 1 | Z34: =IFERROR(VLOOKUP($B34,[1]DEN1!$G$3:$T$102,10,FALSE),0) -> 0 | AA34: =IFERROR(VLOOKUP($B34,[1]DEN1!$G$3:$T$102,11,FALSE),0) -> 0 | AB34: =IFERROR(VLOOKUP($B34,[1]DEN1!$G$3:$T$102,12,FALSE),0) -> 0 | AC34: =IFERROR(VLOOKUP($B34,[1]DEN1!$G$3:$T$102,13,FALSE),0) -> 0 | AD34: =SUM(R34:AC34) -> 4
A35: 04102-COQUIMBO | B35: 105407-P.S.R. TAMBILLOS | E35: =IFERROR(VLOOKUP($B35,[1]NUM1!$G$3:$T$99,2,FALSE),0) -> 0 | F35: =IFERROR(VLOOKUP($B35,[1]NUM1!$G$3:$T$99,3,FALSE),0) -> 0 | G35: =IFERROR(VLOOKUP($B35,[1]NUM1!$G$3:$T$99,4,FALSE),0) -> 0 | H35: =IFERROR(VLOOKUP($B35,[1]NUM1!$G$3:$T$99,5,FALSE),0) -> 0 | I35: =IFERROR(VLOOKUP($B35,[1]NUM1!$G$3:$T$99,6,FALSE),0) -> 0 | J35: =IFERROR(VLOOKUP($B35,[1]NUM1!$G$3:$T$99,7,FALSE),0) -> 0 | K35: =IFERROR(VLOOKUP($B35,[1]NUM1!$G$3:$T$99,8,FALSE),0) -> 0 | L35: =IFERROR(VLOOKUP($B35,[1]NUM1!$G$3:$T$99,9,FALSE),0) -> 0 | M35: =IFERROR(VLOOKUP($B35,[1]NUM1!$G$3:$T$99,10,FALSE),0) -> 0 | N35: =IFERROR(VLOOKUP($B35,[1]NUM1!$G$3:$T$99,11,FALSE),0) -> 0 | O35: =IFERROR(VLOOKUP($B35,[1]NUM1!$G$3:$T$99,12,FALSE),0) -> 0 | P35: =IFERROR(VLOOKUP($B35,[1]NUM1!$G$3:$T$99,13,FALSE),0) -> 1 | Q35: =SUM(E35:P35) -> 1 | R35: =IFERROR(VLOOKUP($B35,[1]DEN1!$G$3:$T$102,2,FALSE),0) -> 0 | S35: =IFERROR(VLOOKUP($B35,[1]DEN1!$G$3:$T$102,3,FALSE),0) -> 0 | T35: =IFERROR(VLOOKUP($B35,[1]DEN1!$G$3:$T$102,4,FALSE),0) -> 0 | U35: =IFERROR(VLOOKUP($B35,[1]DEN1!$G$3:$T$102,5,FALSE),0) -> 0 | V35: =IFERROR(VLOOKUP($B35,[1]DEN1!$G$3:$T$102,6,FALSE),0) -> 0 | W35: =IFERROR(VLOOKUP($B35,[1]DEN1!$G$3:$T$102,7,FALSE),0) -> 0 | X35: =IFERROR(VLOOKUP($B35,[1]DEN1!$G$3:$T$102,8,FALSE),0) -> 0 | Y35: =IFERROR(VLOOKUP($B35,[1]DEN1!$G$3:$T$102,9,FALSE),0) -> 0 | Z35: =IFERROR(VLOOKUP($B35,[1]DEN1!$G$3:$T$102,10,FALSE),0) -> 0 | AA35: =IFERROR(VLOOKUP($B35,[1]DEN1!$G$3:$T$102,11,FALSE),0) -> 1 | AB35: =IFERROR(VLOOKUP($B35,[1]DEN1!$G$3:$T$102,12,FALSE),0) -> 0 | AC35: =IFERROR(VLOOKUP($B35,[1]DEN1!$G$3:$T$102,13,FALSE),0) -> 0 | AD35: =SUM(R35:AC35) -> 1
A36: 04102-COQUIMBO | B36: 105705-CECOF EL ALBA | E36: =IFERROR(VLOOKUP($B36,[1]NUM1!$G$3:$T$99,2,FALSE),0) -> 0 | F36: =IFERROR(VLOOKUP($B36,[1]NUM1!$G$3:$T$99,3,FALSE),0) -> 0 | G36: =IFERROR(VLOOKUP($B36,[1]NUM1!$G$3:$T$99,4,FALSE),0) -> 0 | H36: =IFERROR(VLOOKUP($B36,[1]NUM1!$G$3:$T$99,5,FALSE),0) -> 0 | I36: =IFERROR(VLOOKUP($B36,[1]NUM1!$G$3:$T$99,6,FALSE),0) -> 0 | J36: =IFERROR(VLOOKUP($B36,[1]NUM1!$G$3:$T$99,7,FALSE),0) -> 0 | K36: =IFERROR(VLOOKUP($B36,[1]NUM1!$G$3:$T$99,8,FALSE),0) -> 0 | L36: =IFERROR(VLOOKUP($B36,[1]NUM1!$G$3:$T$99,9,FALSE),0) -> 0 | M36: =IFERROR(VLOOKUP($B36,[1]NUM1!$G$3:$T$99,10,FALSE),0) -> 0 | N36: =IFERROR(VLOOKUP($B36,[1]NUM1!$G$3:$T$99,11,FALSE),0) -> 0 | O36: =IFERROR(VLOOKUP($B36,[1]NUM1!$G$3:$T$99,12,FALSE),0) -> 1 | P36: =IFERROR(VLOOKUP($B36,[1]NUM1!$G$3:$T$99,13,FALSE),0) -> 1 | Q36: =SUM(E36:P36) -> 2 | R36: =IFERROR(VLOOKUP($B36,[1]DEN1!$G$3:$T$102,2,FALSE),0) -> 0 | S36: =IFERROR(VLOOKUP($B36,[1]DEN1!$G$3:$T$102,3,FALSE),0) -> 0 | T36: =IFERROR(VLOOKUP($B36,[1]DEN1!$G$3:$T$102,4,FALSE),0) -> 0 | U36: =IFERROR(VLOOKUP($B36,[1]DEN1!$G$3:$T$102,5,FALSE),0) -> 0 | V36: =IFERROR(VLOOKUP($B36,[1]DEN1!$G$3:$T$102,6,FALSE),0) -> 0 | W36: =IFERROR(VLOOKUP($B36,[1]DEN1!$G$3:$T$102,7,FALSE),0) -> 0 | X36: =IFERROR(VLOOKUP($B36,[1]DEN1!$G$3:$T$102,8,FALSE),0) -> 0 | Y36: =IFERROR(VLOOKUP($B36,[1]DEN1!$G$3:$T$102,9,FALSE),0) -> 1 | Z36: =IFERROR(VLOOKUP($B36,[1]DEN1!$G$3:$T$102,10,FALSE),0) -> 1 | AA36: =IFERROR(VLOOKUP($B36,[1]DEN1!$G$3:$T$102,11,FALSE),0) -> 0 | AB36: =IFERROR(VLOOKUP($B36,[1]DEN1!$G$3:$T$102,12,FALSE),0) -> 0 | AC36: =IFERROR(VLOOKUP($B36,[1]DEN1!$G$3:$T$102,13,FALSE),0) -> 0 | AD36: =SUM(R36:AC36) -> 2
A37: 04102-COQUIMBO | B37: 200273-CECOF PUNTA MIRA | E37: =IFERROR(VLOOKUP($B37,[1]NUM1!$G$3:$T$99,2,FALSE),0) -> 1 | F37: =IFERROR(VLOOKUP($B37,[1]NUM1!$G$3:$T$99,3,FALSE),0) -> 0 | G37: =IFERROR(VLOOKUP($B37,[1]NUM1!$G$3:$T$99,4,FALSE),0) -> 0 | H37: =IFERROR(VLOOKUP($B37,[1]NUM1!$G$3:$T$99,5,FALSE),0) -> 0 | I37: =IFERROR(VLOOKUP($B37,[1]NUM1!$G$3:$T$99,6,FALSE),0) -> 0 | J37: =IFERROR(VLOOKUP($B37,[1]NUM1!$G$3:$T$99,7,FALSE),0) -> 0 | K37: =IFERROR(VLOOKUP($B37,[1]NUM1!$G$3:$T$99,8,FALSE),0) -> 0 | L37: =IFERROR(VLOOKUP($B37,[1]NUM1!$G$3:$T$99,9,FALSE),0) -> 0 | M37: =IFERROR(VLOOKUP($B37,[1]NUM1!$G$3:$T$99,10,FALSE),0) -> 0 | N37: =IFERROR(VLOOKUP($B37,[1]NUM1!$G$3:$T$99,11,FALSE),0) -> 0 | O37: =IFERROR(VLOOKUP($B37,[1]NUM1!$G$3:$T$99,12,FALSE),0) -> 0 | P37: =IFERROR(VLOOKUP($B37,[1]NUM1!$G$3:$T$99,13,FALSE),0) -> 0 | Q37: =SUM(E37:P37) -> 1 | R37: =IFERROR(VLOOKUP($B37,[1]DEN1!$G$3:$T$102,2,FALSE),0) -> 1 | S37: =IFERROR(VLOOKUP($B37,[1]DEN1!$G$3:$T$102,3,FALSE),0) -> 0 | T37: =IFERROR(VLOOKUP($B37,[1]DEN1!$G$3:$T$102,4,FALSE),0) -> 0 | U37: =IFERROR(VLOOKUP($B37,[1]DEN1!$G$3:$T$102,5,FALSE),0) -> 0 | V37: =IFERROR(VLOOKUP($B37,[1]DEN1!$G$3:$T$102,6,FALSE),0) -> 2 | W37: =IFERROR(VLOOKUP($B37,[1]DEN1!$G$3:$T$102,7,FALSE),0) -> 0 | X37: =IFERROR(VLOOKUP($B37,[1]DEN1!$G$3:$T$102,8,FALSE),0) -> 1 | Y37: =IFERROR(VLOOKUP($B37,[1]DEN1!$G$3:$T$102,9,FALSE),0) -> 0 | Z37: =IFERROR(VLOOKUP($B37,[1]DEN1!$G$3:$T$102,10,FALSE),0) -> 1 | AA37: =IFERROR(VLOOKUP($B37,[1]DEN1!$G$3:$T$102,11,FALSE),0) -> 1 | AB37: =IFERROR(VLOOKUP($B37,[1]DEN1!$G$3:$T$102,12,FALSE),0) -> 0 | AC37: =IFERROR(VLOOKUP($B37,[1]DEN1!$G$3:$T$102,13,FALSE),0) -> 0 | AD37: =SUM(R37:AC37) -> 6
A38: 04102-COQUIMBO | B38: 200494-CESFAM EL SAUCE | E38: =IFERROR(VLOOKUP($B38,[1]NUM1!$G$3:$T$99,2,FALSE),0) -> 0 | F38: =IFERROR(VLOOKUP($B38,[1]NUM1!$G$3:$T$99,3,FALSE),0) -> 0 | G38: =IFERROR(VLOOKUP($B38,[1]NUM1!$G$3:$T$99,4,FALSE),0) -> 0 | H38: =IFERROR(VLOOKUP($B38,[1]NUM1!$G$3:$T$99,5,FALSE),0) -> 0 | I38: =IFERROR(VLOOKUP($B38,[1]NUM1!$G$3:$T$99,6,FALSE),0) -> 0 | J38: =IFERROR(VLOOKUP($B38,[1]NUM1!$G$3:$T$99,7,FALSE),0) -> 0 | K38: =IFERROR(VLOOKUP($B38,[1]NUM1!$G$3:$T$99,8,FALSE),0) -> 0 | L38: =IFERROR(VLOOKUP($B38,[1]NUM1!$G$3:$T$99,9,FALSE),0) -> 0 | M38: =IFERROR(VLOOKUP($B38,[1]NUM1!$G$3:$T$99,10,FALSE),0) -> 2 | N38: =IFERROR(VLOOKUP($B38,[1]NUM1!$G$3:$T$99,11,FALSE),0) -> 0 | O38: =IFERROR(VLOOKUP($B38,[1]NUM1!$G$3:$T$99,12,FALSE),0) -> 0 | P38: =IFERROR(VLOOKUP($B38,[1]NUM1!$G$3:$T$99,13,FALSE),0) -> 1 | Q38: =SUM(E38:P38) -> 3 | R38: =IFERROR(VLOOKUP($B38,[1]DEN1!$G$3:$T$102,2,FALSE),0) -> 0 | S38: =IFERROR(VLOOKUP($B38,[1]DEN1!$G$3:$T$102,3,FALSE),0) -> 0 | T38: =IFERROR(VLOOKUP($B38,[1]DEN1!$G$3:$T$102,4,FALSE),0) -> 0 | U38: =IFERROR(VLOOKUP($B38,[1]DEN1!$G$3:$T$102,5,FALSE),0) -> 0 | V38: =IFERROR(VLOOKUP($B38,[1]DEN1!$G$3:$T$102,6,FALSE),0) -> 0 | W38: =IFERROR(VLOOKUP($B38,[1]DEN1!$G$3:$T$102,7,FALSE),0) -> 0 | X38: =IFERROR(VLOOKUP($B38,[1]DEN1!$G$3:$T$102,8,FALSE),0) -> 0 | Y38: =IFERROR(VLOOKUP($B38,[1]DEN1!$G$3:$T$102,9,FALSE),0) -> 2 | Z38: =IFERROR(VLOOKUP($B38,[1]DEN1!$G$3:$T$102,10,FALSE),0) -> 4 | AA38: =IFERROR(VLOOKUP($B38,[1]DEN1!$G$3:$T$102,11,FALSE),0) -> 1 | AB38: =IFERROR(VLOOKUP($B38,[1]DEN1!$G$3:$T$102,12,FALSE),0) -> 1 | AC38: =IFERROR(VLOOKUP($B38,[1]DEN1!$G$3:$T$102,13,FALSE),0) -> 2 | AD38: =SUM(R38:AC38) -> 10
A39: 04102-COQUIMBO | B39: 200499-CESFAM PAN DE AZÚCAR | E39: =IFERROR(VLOOKUP($B39,[1]NUM1!$G$3:$T$99,2,FALSE),0) -> 0 | F39: =IFERROR(VLOOKUP($B39,[1]NUM1!$G$3:$T$99,3,FALSE),0) -> 0 | G39: =IFERROR(VLOOKUP($B39,[1]NUM1!$G$3:$T$99,4,FALSE),0) -> 0 | H39: =IFERROR(VLOOKUP($B39,[1]NUM1!$G$3:$T$99,5,FALSE),0) -> 0 | I39: =IFERROR(VLOOKUP($B39,[1]NUM1!$G$3:$T$99,6,FALSE),0) -> 0 | J39: =IFERROR(VLOOKUP($B39,[1]NUM1!$G$3:$T$99,7,FALSE),0) -> 0 | K39: =IFERROR(VLOOKUP($B39,[1]NUM1!$G$3:$T$99,8,FALSE),0) -> 0 | L39: =IFERROR(VLOOKUP($B39,[1]NUM1!$G$3:$T$99,9,FALSE),0) -> 0 | M39: =IFERROR(VLOOKUP($B39,[1]NUM1!$G$3:$T$99,10,FALSE),0) -> 0 | N39: =IFERROR(VLOOKUP($B39,[1]NUM1!$G$3:$T$99,11,FALSE),0) -> 1 | O39: =IFERROR(VLOOKUP($B39,[1]NUM1!$G$3:$T$99,12,FALSE),0) -> 0 | P39: =IFERROR(VLOOKUP($B39,[1]NUM1!$G$3:$T$99,13,FALSE),0) -> 2 | Q39: =SUM(E39:P39) -> 3 | R39: =IFERROR(VLOOKUP($B39,[1]DEN1!$G$3:$T$102,2,FALSE),0) -> 0 | S39: =IFERROR(VLOOKUP($B39,[1]DEN1!$G$3:$T$102,3,FALSE),0) -> 0 | T39: =IFERROR(VLOOKUP($B39,[1]DEN1!$G$3:$T$102,4,FALSE),0) -> 0 | U39: =IFERROR(VLOOKUP($B39,[1]DEN1!$G$3:$T$102,5,FALSE),0) -> 0 | V39: =IFERROR(VLOOKUP($B39,[1]DEN1!$G$3:$T$102,6,FALSE),0) -> 0 | W39: =IFERROR(VLOOKUP($B39,[1]DEN1!$G$3:$T$102,7,FALSE),0) -> 0 | X39: =IFERROR(VLOOKUP($B39,[1]DEN1!$G$3:$T$102,8,FALSE),0) -> 0 | Y39: =IFERROR(VLOOKUP($B39,[1]DEN1!$G$3:$T$102,9,FALSE),0) -> 0 | Z39: =IFERROR(VLOOKUP($B39,[1]DEN1!$G$3:$T$102,10,FALSE),0) -> 0 | AA39: =IFERROR(VLOOKUP($B39,[1]DEN1!$G$3:$T$102,11,FALSE),0) -> 0 | AB39: =IFERROR(VLOOKUP($B39,[1]DEN1!$G$3:$T$102,12,FALSE),0) -> 1 | AC39: =IFERROR(VLOOKUP($B39,[1]DEN1!$G$3:$T$102,13,FALSE),0) -> 1 | AD39: =SUM(R39:AC39) -> 2
A40: TOTAL COQUIMBO MUNICIPAL | C40: =D40/'Metas Muni'!G6 -> 1.021021 | D40: =Q40/AD40 -> 0.91891892 | E40: =SUM(E27:E39) -> 4 | F40: =SUM(F27:F39) -> 4 | G40: =SUM(G27:G39) -> 6 | H40: =SUM(H27:H39) -> 11 | I40: =SUM(I27:I39) -> 14 | J40: =SUM(J27:J39) -> 4 | K40: =SUM(K27:K39) -> 5 | L40: =SUM(L27:L39) -> 9 | ... AD40: =SUM(AD27:AD39) -> 148
A41: 04104-LA HIGUERA | B41: 105314-CES. LA HIGUERA | E41: =IFERROR(VLOOKUP($B41,[1]NUM1!$G$3:$T$99,2,FALSE),0) -> 0 | F41: =IFERROR(VLOOKUP($B41,[1]NUM1!$G$3:$T$99,3,FALSE),0) -> 0 | G41: =IFERROR(VLOOKUP($B41,[1]NUM1!$G$3:$T$99,4,FALSE),0) -> 0 | H41: =IFERROR(VLOOKUP($B41,[1]NUM1!$G$3:$T$99,5,FALSE),0) -> 0 | I41: =IFERROR(VLOOKUP($B41,[1]NUM1!$G$3:$T$99,6,FALSE),0) -> 0 | J41: =IFERROR(VLOOKUP($B41,[1]NUM1!$G$3:$T$99,7,FALSE),0) -> 0 | K41: =IFERROR(VLOOKUP($B41,[1]NUM1!$G$3:$T$99,8,FALSE),0) -> 0 | L41: =IFERROR(VLOOKUP($B41,[1]NUM1!$G$3:$T$99,9,FALSE),0) -> 0 | M41: =IFERROR(VLOOKUP($B41,[1]NUM1!$G$3:$T$99,10,FALSE),0) -> 0 | N41: =IFERROR(VLOOKUP($B41,[1]NUM1!$G$3:$T$99,11,FALSE),0) -> 0 | O41: =IFERROR(VLOOKUP($B41,[1]NUM1!$G$3:$T$99,12,FALSE),0) -> 0 | P41: =IFERROR(VLOOKUP($B41,[1]NUM1!$G$3:$T$99,13,FALSE),0) -> 0 | Q41: =SUM(E41:P41) -> 0 | R41: =IFERROR(VLOOKUP($B41,[1]DEN1!$G$3:$T$102,2,FALSE),0) -> 0 | S41: =IFERROR(VLOOKUP($B41,[1]DEN1!$G$3:$T$102,3,FALSE),0) -> 0 | T41: =IFERROR(VLOOKUP($B41,[1]DEN1!$G$3:$T$102,4,FALSE),0) -> 1 | U41: =IFERROR(VLOOKUP($B41,[1]DEN1!$G$3:$T$102,5,FALSE),0) -> 0 | V41: =IFERROR(VLOOKUP($B41,[1]DEN1!$G$3:$T$102,6,FALSE),0) -> 0 | W41: =IFERROR(VLOOKUP($B41,[1]DEN1!$G$3:$T$102,7,FALSE),0) -> 0 | X41: =IFERROR(VLOOKUP($B41,[1]DEN1!$G$3:$T$102,8,FALSE),0) -> 0 | Y41: =IFERROR(VLOOKUP($B41,[1]DEN1!$G$3:$T$102,9,FALSE),0) -> 0 | Z41: =IFERROR(VLOOKUP($B41,[1]DEN1!$G$3:$T$102,10,FALSE),0) -> 0 | AA41: =IFERROR(VLOOKUP($B41,[1]DEN1!$G$3:$T$102,11,FALSE),0) -> 0 | AB41: =IFERROR(VLOOKUP($B41,[1]DEN1!$G$3:$T$102,12,FALSE),0) -> 0 | AC41: =IFERROR(VLOOKUP($B41,[1]DEN1!$G$3:$T$102,13,FALSE),0) -> 0 | AD41: =SUM(R41:AC41) -> 1
A42: 04104-LA HIGUERA | B42: 105500-P.S.R. CALETA HORNOS | E42: =IFERROR(VLOOKUP($B42,[1]NUM1!$G$3:$T$99,2,FALSE),0) -> 0 | F42: =IFERROR(VLOOKUP($B42,[1]NUM1!$G$3:$T$99,3,FALSE),0) -> 0 | G42: =IFERROR(VLOOKUP($B42,[1]NUM1!$G$3:$T$99,4,FALSE),0) -> 0 | H42: =IFERROR(VLOOKUP($B42,[1]NUM1!$G$3:$T$99,5,FALSE),0) -> 0 | I42: =IFERROR(VLOOKUP($B42,[1]NUM1!$G$3:$T$99,6,FALSE),0) -> 0 | J42: =IFERROR(VLOOKUP($B42,[1]NUM1!$G$3:$T$99,7,FALSE),0) -> 0 | K42: =IFERROR(VLOOKUP($B42,[1]NUM1!$G$3:$T$99,8,FALSE),0) -> 0 | L42: =IFERROR(VLOOKUP($B42,[1]NUM1!$G$3:$T$99,9,FALSE),0) -> 0 | M42: =IFERROR(VLOOKUP($B42,[1]NUM1!$G$3:$T$99,10,FALSE),0) -> 0 | N42: =IFERROR(VLOOKUP($B42,[1]NUM1!$G$3:$T$99,11,FALSE),0) -> 0 | O42: =IFERROR(VLOOKUP($B42,[1]NUM1!$G$3:$T$99,12,FALSE),0) -> 0 | P42: =IFERROR(VLOOKUP($B42,[1]NUM1!$G$3:$T$99,13,FALSE),0) -> 0 | Q42: =SUM(E42:P42) -> 0 | R42: =IFERROR(VLOOKUP($B42,[1]DEN1!$G$3:$T$102,2,FALSE),0) -> 0 | S42: =IFERROR(VLOOKUP($B42,[1]DEN1!$G$3:$T$102,3,FALSE),0) -> 0 | T42: =IFERROR(VLOOKUP($B42,[1]DEN1!$G$3:$T$102,4,FALSE),0) -> 0 | U42: =IFERROR(VLOOKUP($B42,[1]DEN1!$G$3:$T$102,5,FALSE),0) -> 0 | V42: =IFERROR(VLOOKUP($B42,[1]DEN1!$G$3:$T$102,6,FALSE),0) -> 0 | W42: =IFERROR(VLOOKUP($B42,[1]DEN1!$G$3:$T$102,7,FALSE),0) -> 0 | X42: =IFERROR(VLOOKUP($B42,[1]DEN1!$G$3:$T$102,8,FALSE),0) -> 0 | Y42: =IFERROR(VLOOKUP($B42,[1]DEN1!$G$3:$T$102,9,FALSE),0) -> 0 | Z42: =IFERROR(VLOOKUP($B42,[1]DEN1!$G$3:$T$102,10,FALSE),0) -> 0 | AA42: =IFERROR(VLOOKUP($B42,[1]DEN1!$G$3:$T$102,11,FALSE),0) -> 0 | AB42: =IFERROR(VLOOKUP($B42,[1]DEN1!$G$3:$T$102,12,FALSE),0) -> 0 | AC42: =IFERROR(VLOOKUP($B42,[1]DEN1!$G$3:$T$102,13,FALSE),0) -> 0 | AD42: =SUM(R42:AC42) -> 0
A43: 04104-LA HIGUERA | B43: 105505-P.S.R. LOS CHOROS | E43: =IFERROR(VLOOKUP($B43,[1]NUM1!$G$3:$T$99,2,FALSE),0) -> 0 | F43: =IFERROR(VLOOKUP($B43,[1]NUM1!$G$3:$T$99,3,FALSE),0) -> 0 | G43: =IFERROR(VLOOKUP($B43,[1]NUM1!$G$3:$T$99,4,FALSE),0) -> 0 | H43: =IFERROR(VLOOKUP($B43,[1]NUM1!$G$3:$T$99,5,FALSE),0) -> 0 | I43: =IFERROR(VLOOKUP($B43,[1]NUM1!$G$3:$T$99,6,FALSE),0) -> 0 | J43: =IFERROR(VLOOKUP($B43,[1]NUM1!$G$3:$T$99,7,FALSE),0) -> 0 | K43: =IFERROR(VLOOKUP($B43,[1]NUM1!$G$3:$T$99,8,FALSE),0) -> 0 | L43: =IFERROR(VLOOKUP($B43,[1]NUM1!$G$3:$T$99,9,FALSE),0) -> 0 | M43: =IFERROR(VLOOKUP($B43,[1]NUM1!$G$3:$T$99,10,FALSE),0) -> 0 | N43: =IFERROR(VLOOKUP($B43,[1]NUM1!$G$3:$T$99,11,FALSE),0) -> 0 | O43: =IFERROR(VLOOKUP($B43,[1]NUM1!$G$3:$T$99,12,FALSE),0) -> 0 | P43: =IFERROR(VLOOKUP($B43,[1]NUM1!$G$3:$T$99,13,FALSE),0) -> 0 | Q43: =SUM(E43:P43) -> 0 | R43: =IFERROR(VLOOKUP($B43,[1]DEN1!$G$3:$T$102,2,FALSE),0) -> 0 | S43: =IFERROR(VLOOKUP($B43,[1]DEN1!$G$3:$T$102,3,FALSE),0) -> 0 | T43: =IFERROR(VLOOKUP($B43,[1]DEN1!$G$3:$T$102,4,FALSE),0) -> 0 | U43: =IFERROR(VLOOKUP($B43,[1]DEN1!$G$3:$T$102,5,FALSE),0) -> 0 | V43: =IFERROR(VLOOKUP($B43,[1]DEN1!$G$3:$T$102,6,FALSE),0) -> 0 | W43: =IFERROR(VLOOKUP($B43,[1]DEN1!$G$3:$T$102,7,FALSE),0) -> 0 | X43: =IFERROR(VLOOKUP($B43,[1]DEN1!$G$3:$T$102,8,FALSE),0) -> 0 | Y43: =IFERROR(VLOOKUP($B43,[1]DEN1!$G$3:$T$102,9,FALSE),0) -> 0 | Z43: =IFERROR(VLOOKUP($B43,[1]DEN1!$G$3:$T$102,10,FALSE),0) -> 0 | AA43: =IFERROR(VLOOKUP($B43,[1]DEN1!$G$3:$T$102,11,FALSE),0) -> 0 | AB43: =IFERROR(VLOOKUP($B43,[1]DEN1!$G$3:$T$102,12,FALSE),0) -> 0 | AC43: =IFERROR(VLOOKUP($B43,[1]DEN1!$G$3:$T$102,13,FALSE),0) -> 0 | AD43: =SUM(R43:AC43) -> 0
A44: 04104-LA HIGUERA | B44: 105506-P.S.R. EL TRAPICHE | E44: =IFERROR(VLOOKUP($B44,[1]NUM1!$G$3:$T$99,2,FALSE),0) -> 0 | F44: =IFERROR(VLOOKUP($B44,[1]NUM1!$G$3:$T$99,3,FALSE),0) -> 0 | G44: =IFERROR(VLOOKUP($B44,[1]NUM1!$G$3:$T$99,4,FALSE),0) -> 0 | H44: =IFERROR(VLOOKUP($B44,[1]NUM1!$G$3:$T$99,5,FALSE),0) -> 0 | I44: =IFERROR(VLOOKUP($B44,[1]NUM1!$G$3:$T$99,6,FALSE),0) -> 0 | J44: =IFERROR(VLOOKUP($B44,[1]NUM1!$G$3:$T$99,7,FALSE),0) -> 0 | K44: =IFERROR(VLOOKUP($B44,[1]NUM1!$G$3:$T$99,8,FALSE),0) -> 0 | L44: =IFERROR(VLOOKUP($B44,[1]NUM1!$G$3:$T$99,9,FALSE),0) -> 0 | M44: =IFERROR(VLOOKUP($B44,[1]NUM1!$G$3:$T$99,10,FALSE),0) -> 0 | N44: =IFERROR(VLOOKUP($B44,[1]NUM1!$G$3:$T$99,11,FALSE),0) -> 0 | O44: =IFERROR(VLOOKUP($B44,[1]NUM1!$G$3:$T$99,12,FALSE),0) -> 0 | P44: =IFERROR(VLOOKUP($B44,[1]NUM1!$G$3:$T$99,13,FALSE),0) -> 0 | Q44: =SUM(E44:P44) -> 0 | R44: =IFERROR(VLOOKUP($B44,[1]DEN1!$G$3:$T$102,2,FALSE),0) -> 0 | S44: =IFERROR(VLOOKUP($B44,[1]DEN1!$G$3:$T$102,3,FALSE),0) -> 0 | T44: =IFERROR(VLOOKUP($B44,[1]DEN1!$G$3:$T$102,4,FALSE),0) -> 0 | U44: =IFERROR(VLOOKUP($B44,[1]DEN1!$G$3:$T$102,5,FALSE),0) -> 0 | V44: =IFERROR(VLOOKUP($B44,[1]DEN1!$G$3:$T$102,6,FALSE),0) -> 0 | W44: =IFERROR(VLOOKUP($B44,[1]DEN1!$G$3:$T$102,7,FALSE),0) -> 0 | X44: =IFERROR(VLOOKUP($B44,[1]DEN1!$G$3:$T$102,8,FALSE),0) -> 0 | Y44: =IFERROR(VLOOKUP($B44,[1]DEN1!$G$3:$T$102,9,FALSE),0) -> 0 | Z44: =IFERROR(VLOOKUP($B44,[1]DEN1!$G$3:$T$102,10,FALSE),0) -> 0 | AA44: =IFERROR(VLOOKUP($B44,[1]DEN1!$G$3:$T$102,11,FALSE),0) -> 0 | AB44: =IFERROR(VLOOKUP($B44,[1]DEN1!$G$3:$T$102,12,FALSE),0) -> 0 | AC44: =IFERROR(VLOOKUP($B44,[1]DEN1!$G$3:$T$102,13,FALSE),0) -> 0 | AD44: =SUM(R44:AC44) -> 0
A45: TOTAL LA HIGUERA | C45: =D45/'Metas Muni'!G7 -> 0 | D45: =Q45/AD45 -> 0 | E45: =SUM(E41:E44) -> 0 | F45: =SUM(F41:F44) -> 0 | G45: =SUM(G41:G44) -> 0 | H45: =SUM(H41:H44) -> 0 | I45: =SUM(I41:I44) -> 0 | J45: =SUM(J41:J44) -> 0 | K45: =SUM(K41:K44) -> 0 | L45: =SUM(L41:L44) -> 0 | ... AD45: =SUM(AD41:AD44) -> 1
A46: 04105-PAIHUANO | B46: 105306-CES. PAIHUANO | E46: =IFERROR(VLOOKUP($B46,[1]NUM1!$G$3:$T$99,2,FALSE),0) -> 0 | F46: =IFERROR(VLOOKUP($B46,[1]NUM1!$G$3:$T$99,3,FALSE),0) -> 0 | G46: =IFERROR(VLOOKUP($B46,[1]NUM1!$G$3:$T$99,4,FALSE),0) -> 0 | H46: =IFERROR(VLOOKUP($B46,[1]NUM1!$G$3:$T$99,5,FALSE),0) -> 0 | I46: =IFERROR(VLOOKUP($B46,[1]NUM1!$G$3:$T$99,6,FALSE),0) -> 0 | J46: =IFERROR(VLOOKUP($B46,[1]NUM1!$G$3:$T$99,7,FALSE),0) -> 0 | K46: =IFERROR(VLOOKUP($B46,[1]NUM1!$G$3:$T$99,8,FALSE),0) -> 0 | L46: =IFERROR(VLOOKUP($B46,[1]NUM1!$G$3:$T$99,9,FALSE),0) -> 1 | M46: =IFERROR(VLOOKUP($B46,[1]NUM1!$G$3:$T$99,10,FALSE),0) -> 0 | N46: =IFERROR(VLOOKUP($B46,[1]NUM1!$G$3:$T$99,11,FALSE),0) -> 0 | O46: =IFERROR(VLOOKUP($B46,[1]NUM1!$G$3:$T$99,12,FALSE),0) -> 0 | P46: =IFERROR(VLOOKUP($B46,[1]NUM1!$G$3:$T$99,13,FALSE),0) -> 0 | Q46: =SUM(E46:P46) -> 1 | R46: =IFERROR(VLOOKUP($B46,[1]DEN1!$G$3:$T$102,2,FALSE),0) -> 0 | S46: =IFERROR(VLOOKUP($B46,[1]DEN1!$G$3:$T$102,3,FALSE),0) -> 0 | T46: =IFERROR(VLOOKUP($B46,[1]DEN1!$G$3:$T$102,4,FALSE),0) -> 0 | U46: =IFERROR(VLOOKUP($B46,[1]DEN1!$G$3:$T$102,5,FALSE),0) -> 1 | V46: =IFERROR(VLOOKUP($B46,[1]DEN1!$G$3:$T$102,6,FALSE),0) -> 0 | W46: =IFERROR(VLOOKUP($B46,[1]DEN1!$G$3:$T$102,7,FALSE),0) -> 0 | X46: =IFERROR(VLOOKUP($B46,[1]DEN1!$G$3:$T$102,8,FALSE),0) -> 0 | Y46: =IFERROR(VLOOKUP($B46,[1]DEN1!$G$3:$T$102,9,FALSE),0) -> 0 | Z46: =IFERROR(VLOOKUP($B46,[1]DEN1!$G$3:$T$102,10,FALSE),0) -> 0 | AA46: =IFERROR(VLOOKUP($B46,[1]DEN1!$G$3:$T$102,11,FALSE),0) -> 0 | AB46: =IFERROR(VLOOKUP($B46,[1]DEN1!$G$3:$T$102,12,FALSE),0) -> 0 | AC46: =IFERROR(VLOOKUP($B46,[1]DEN1!$G$3:$T$102,13,FALSE),0) -> 0 | AD46: =SUM(R46:AC46) -> 1
A47: 04105-PAIHUANO | B47: 105475-P.S.R. HORCON | E47: =IFERROR(VLOOKUP($B47,[1]NUM1!$G$3:$T$99,2,FALSE),0) -> 0 | F47: =IFERROR(VLOOKUP($B47,[1]NUM1!$G$3:$T$99,3,FALSE),0) -> 0 | G47: =IFERROR(VLOOKUP($B47,[1]NUM1!$G$3:$T$99,4,FALSE),0) -> 0 | H47: =IFERROR(VLOOKUP($B47,[1]NUM1!$G$3:$T$99,5,FALSE),0) -> 0 | I47: =IFERROR(VLOOKUP($B47,[1]NUM1!$G$3:$T$99,6,FALSE),0) -> 0 | J47: =IFERROR(VLOOKUP($B47,[1]NUM1!$G$3:$T$99,7,FALSE),0) -> 0 | K47: =IFERROR(VLOOKUP($B47,[1]NUM1!$G$3:$T$99,8,FALSE),0) -> 0 | L47: =IFERROR(VLOOKUP($B47,[1]NUM1!$G$3:$T$99,9,FALSE),0) -> 0 | M47: =IFERROR(VLOOKUP($B47,[1]NUM1!$G$3:$T$99,10,FALSE),0) -> 0 | N47: =IFERROR(VLOOKUP($B47,[1]NUM1!$G$3:$T$99,11,FALSE),0) -> 0 | O47: =IFERROR(VLOOKUP($B47,[1]NUM1!$G$3:$T$99,12,FALSE),0) -> 0 | P47: =IFERROR(VLOOKUP($B47,[1]NUM1!$G$3:$T$99,13,FALSE),0) -> 0 | Q47: =SUM(E47:P47) -> 0 | R47: =IFERROR(VLOOKUP($B47,[1]DEN1!$G$3:$T$102,2,FALSE),0) -> 0 | S47: =IFERROR(VLOOKUP($B47,[1]DEN1!$G$3:$T$102,3,FALSE),0) -> 0 | T47: =IFERROR(VLOOKUP($B47,[1]DEN1!$G$3:$T$102,4,FALSE),0) -> 0 | U47: =IFERROR(VLOOKUP($B47,[1]DEN1!$G$3:$T$102,5,FALSE),0) -> 0 | V47: =IFERROR(VLOOKUP($B47,[1]DEN1!$G$3:$T$102,6,FALSE),0) -> 0 | W47: =IFERROR(VLOOKUP($B47,[1]DEN1!$G$3:$T$102,7,FALSE),0) -> 0 | X47: =IFERROR(VLOOKUP($B47,[1]DEN1!$G$3:$T$102,8,FALSE),0) -> 0 | Y47: =IFERROR(VLOOKUP($B47,[1]DEN1!$G$3:$T$102,9,FALSE),0) -> 0 | Z47: =IFERROR(VLOOKUP($B47,[1]DEN1!$G$3:$T$102,10,FALSE),0) -> 0 | AA47: =IFERROR(VLOOKUP($B47,[1]DEN1!$G$3:$T$102,11,FALSE),0) -> 0 | AB47: =IFERROR(VLOOKUP($B47,[1]DEN1!$G$3:$T$102,12,FALSE),0) -> 0 | AC47: =IFERROR(VLOOKUP($B47,[1]DEN1!$G$3:$T$102,13,FALSE),0) -> 0 | AD47: =SUM(R47:AC47) -> 0
